BEGIN:VCALENDAR
VERSION:2.0
PRODID:-//Good Morning Wilton - ECPv6.15.20//NONSGML v1.0//EN
CALSCALE:GREGORIAN
METHOD:PUBLISH
X-WR-CALNAME:Good Morning Wilton
X-ORIGINAL-URL:https://goodmorningwilton.com
X-WR-CALDESC:Events for Good Morning Wilton
REFRESH-INTERVAL;VALUE=DURATION:PT1H
X-Robots-Tag:noindex
X-PUBLISHED-TTL:PT1H
BEGIN:VTIMEZONE
TZID:America/New_York
BEGIN:DAYLIGHT
TZOFFSETFROM:-0500
TZOFFSETTO:-0400
TZNAME:EDT
DTSTART:20230312T070000
END:DAYLIGHT
BEGIN:STANDARD
TZOFFSETFROM:-0400
TZOFFSETTO:-0500
TZNAME:EST
DTSTART:20231105T060000
END:STANDARD
BEGIN:DAYLIGHT
TZOFFSETFROM:-0500
TZOFFSETTO:-0400
TZNAME:EDT
DTSTART:20240310T070000
END:DAYLIGHT
BEGIN:STANDARD
TZOFFSETFROM:-0400
TZOFFSETTO:-0500
TZNAME:EST
DTSTART:20241103T060000
END:STANDARD
BEGIN:DAYLIGHT
TZOFFSETFROM:-0500
TZOFFSETTO:-0400
TZNAME:EDT
DTSTART:20250309T070000
END:DAYLIGHT
BEGIN:STANDARD
TZOFFSETFROM:-0400
TZOFFSETTO:-0500
TZNAME:EST
DTSTART:20251102T060000
END:STANDARD
END:VTIMEZONE
BEGIN:VEVENT
DTSTART;TZID=America/New_York:20240507T190000
DTEND;TZID=America/New_York:20240507T210000
DTSTAMP:20260420T213323
CREATED:20240425T154232Z
LAST-MODIFIED:20240425T154232Z
UID:10016734-1715108400-1715115600@goodmorningwilton.com
SUMMARY:Wilton Reads: Author Talk with Cristina Henriquez - The Great Divide
DESCRIPTION:Wilton Reads 2024 culminates with Wilton Library‘s author talk event featuring Cristina Henriquez\, acclaimed author of The Great Divide. \nThe Great Divide is a fascinating historical novel about the Panama Canal construction\, one of the greatest historical engineering feats. It importantly explores laborers\, locals\, activists\, doctors\, scientists\, and others interwoven stories. They are clearly the diverse unsung heroes who lived and worked alongside the massive project. They also witnessed firsthand the human cost of progress as they fought to survive amid turmoil and disease. \nThe Great Divide is a TODAY Show Read with Jenna Book Club Pick\, an Indie Next Pick\, a LibraryReads Pick. It has been named a Best of the Month Pick by Amazon\, TIME\, The Washington Post\, and the Los Angeles Times as well. \nHenriquez wrote four books\, including The Book of Unknown Americans\, a New York Times Notable Book of 2014 and one of Amazon’s Top 10 Best Books of the Year. It was longlisted for the Andrew Carnegie Medal for Excellence in Fiction and was a finalist for the Dayton Literary Peace Prize. \nHenriquez is also the author of The World in Half and Come Together\, Fall Apart: A Novella and Stories. She additionally earned the Alfredo Cisneros Del Moral Foundation Award\, a grant by Sandra Cisneros honoring her father. Obtaining her undergraduate degree from Northwestern University and graduating from the Iowa Writers’ Workshop\, Henriquez now lives in Illinois. \nWiltonian Joanna Ecke will interview Henriquez. Ecke taught public high school English for many years and leads several literary discussion groups at Wilton Library. \nHenriquez will receive the Grodin Family Fine Writers Award. \nThis program will be recorded and available for viewing for 30 days after the event. \nElm Street Books will sell copies and Henriquez will sign after the presentation. A portion of the proceeds goes to Wilton Library. \nGOOD Morning Wilton is the media sponsor of Wilton Reads 2024. \nRegistration is required. To register and for more information\, visit online\, or call 203.762.6334.
URL:https://goodmorningwilton.com/event/wilton-reads-author-talk-with-cristina-henriquez-the-great-divide/
LOCATION:Wilton Library\, 137 Old Ridgefield Rd.\, Wilton\, CT\, 06987
CATEGORIES:Book Group,Book Signing,discussion,Library,Presentation
ATTACH;FMTTYPE=image/png:https://goodmorningwilton.com/wp-content/uploads/2024/04/GREAT_DIVIDE_COMBINED_SM2_404920ED.png
END:VEVENT
END:VCALENDAR