BEGIN:VCALENDAR
VERSION:2.0
PRODID:-//Good Morning Wilton - ECPv6.15.20//NONSGML v1.0//EN
CALSCALE:GREGORIAN
METHOD:PUBLISH
X-WR-CALNAME:Good Morning Wilton
X-ORIGINAL-URL:https://goodmorningwilton.com
X-WR-CALDESC:Events for Good Morning Wilton
REFRESH-INTERVAL;VALUE=DURATION:PT1H
X-Robots-Tag:noindex
X-PUBLISHED-TTL:PT1H
BEGIN:VTIMEZONE
TZID:America/New_York
BEGIN:DAYLIGHT
TZOFFSETFROM:-0500
TZOFFSETTO:-0400
TZNAME:EDT
DTSTART:20170312T070000
END:DAYLIGHT
BEGIN:STANDARD
TZOFFSETFROM:-0400
TZOFFSETTO:-0500
TZNAME:EST
DTSTART:20171105T060000
END:STANDARD
BEGIN:DAYLIGHT
TZOFFSETFROM:-0500
TZOFFSETTO:-0400
TZNAME:EDT
DTSTART:20180311T070000
END:DAYLIGHT
BEGIN:STANDARD
TZOFFSETFROM:-0400
TZOFFSETTO:-0500
TZNAME:EST
DTSTART:20181104T060000
END:STANDARD
BEGIN:DAYLIGHT
TZOFFSETFROM:-0500
TZOFFSETTO:-0400
TZNAME:EDT
DTSTART:20190310T070000
END:DAYLIGHT
BEGIN:STANDARD
TZOFFSETFROM:-0400
TZOFFSETTO:-0500
TZNAME:EST
DTSTART:20191103T060000
END:STANDARD
BEGIN:DAYLIGHT
TZOFFSETFROM:-0500
TZOFFSETTO:-0400
TZNAME:EDT
DTSTART:20200308T070000
END:DAYLIGHT
BEGIN:STANDARD
TZOFFSETFROM:-0400
TZOFFSETTO:-0500
TZNAME:EST
DTSTART:20201101T060000
END:STANDARD
BEGIN:DAYLIGHT
TZOFFSETFROM:-0500
TZOFFSETTO:-0400
TZNAME:EDT
DTSTART:20210314T070000
END:DAYLIGHT
BEGIN:STANDARD
TZOFFSETFROM:-0400
TZOFFSETTO:-0500
TZNAME:EST
DTSTART:20211107T060000
END:STANDARD
BEGIN:DAYLIGHT
TZOFFSETFROM:-0500
TZOFFSETTO:-0400
TZNAME:EDT
DTSTART:20220313T070000
END:DAYLIGHT
BEGIN:STANDARD
TZOFFSETFROM:-0400
TZOFFSETTO:-0500
TZNAME:EST
DTSTART:20221106T060000
END:STANDARD
BEGIN:DAYLIGHT
TZOFFSETFROM:-0500
TZOFFSETTO:-0400
TZNAME:EDT
DTSTART:20230312T070000
END:DAYLIGHT
BEGIN:STANDARD
TZOFFSETFROM:-0400
TZOFFSETTO:-0500
TZNAME:EST
DTSTART:20231105T060000
END:STANDARD
BEGIN:DAYLIGHT
TZOFFSETFROM:-0500
TZOFFSETTO:-0400
TZNAME:EDT
DTSTART:20240310T070000
END:DAYLIGHT
BEGIN:STANDARD
TZOFFSETFROM:-0400
TZOFFSETTO:-0500
TZNAME:EST
DTSTART:20241103T060000
END:STANDARD
BEGIN:DAYLIGHT
TZOFFSETFROM:-0500
TZOFFSETTO:-0400
TZNAME:EDT
DTSTART:20250309T070000
END:DAYLIGHT
BEGIN:STANDARD
TZOFFSETFROM:-0400
TZOFFSETTO:-0500
TZNAME:EST
DTSTART:20251102T060000
END:STANDARD
BEGIN:DAYLIGHT
TZOFFSETFROM:-0500
TZOFFSETTO:-0400
TZNAME:EDT
DTSTART:20260308T070000
END:DAYLIGHT
BEGIN:STANDARD
TZOFFSETFROM:-0400
TZOFFSETTO:-0500
TZNAME:EST
DTSTART:20261101T060000
END:STANDARD
END:VTIMEZONE
BEGIN:VEVENT
DTSTART;TZID=America/New_York:20180908T100000
DTEND;TZID=America/New_York:20180908T160000
DTSTAMP:20260421T182137
CREATED:20180906T010318Z
LAST-MODIFIED:20180906T010318Z
UID:10008155-1536400800-1536422400@goodmorningwilton.com
SUMMARY:Wilton Businesses Sponsor Weston Kiwanis Dog Jamboree!
DESCRIPTION:Let the dogs out and jam at the First Annual Weston Kiwanis Dog Jamboree! There’s going to be a ton of fun contests\, prizes\, awesome demonstrations\, seminars\, a parade\, food\, and fun for all 2-legged and 4-legged family members. \nProceeds go to benefit the Kiwanis Club of Weston and Hurlbutt Elementary School. Proudly sponsored by Passage East Kennels of Wilton\, Coldwell Banker\, Bankwell\, Canine Company\, Blue Buffalo\, Au Pair in America\, and VCA Animal Hospitals.
URL:https://goodmorningwilton.com/event/wilton-businesses-sponsor-weston-kiwanis-dog-jamboree/
LOCATION:Weston Middle School\, 135 School Road\, Weston\, CT\, 06883\, United States
CATEGORIES:Animals,Community Events,Family Event,Festival,Fundraiser,Parade,Pets
ATTACH;FMTTYPE=image/jpeg:https://goodmorningwilton.com/wp-content/uploads/2018/09/dog-jam-flyer.jpg
ORGANIZER;CN="Kiwanis Club of Weston":MAILTO:tomglass48@gmail.com
END:VEVENT
BEGIN:VEVENT
DTSTART;TZID=America/New_York:20180914T110000
DTEND;TZID=America/New_York:20180914T150000
DTSTAMP:20260421T182138
CREATED:20180802T160548Z
LAST-MODIFIED:20180802T160548Z
UID:10008040-1536922800-1536937200@goodmorningwilton.com
SUMMARY:Food Drive for Wilton Food Pantry
DESCRIPTION:Members of the Kiwanis Club of Wilton will be at the doors of Wilton’s Village Market and Stop and Shop handing out lists of items most needed for the Wilton Food Pantry. All food collected in these drives stays right in Wilton to help the families in need. \nKiwanis Club members will be collecting items every day during the weekend\, Friday\, Sept. 14-Sunday\, Sept. 16\, from 11 a.m.-3 p.m. each day.
URL:https://goodmorningwilton.com/event/food-drive-for-wilton-food-pantry/2018-09-14/
LOCATION:Wilton Welcomes Eco Chic Salon and Blow Dry Bar
CATEGORIES:Donation/Collection,Food Drive
ATTACH;FMTTYPE=image/jpeg:https://goodmorningwilton.com/wp-content/uploads/2018/08/food-bank-1.jpg
ORGANIZER;CN="Kiwanis Club of Wilton":MAILTO:wiltonkiwanis@#gmail.com
END:VEVENT
BEGIN:VEVENT
DTSTART;TZID=America/New_York:20180915T110000
DTEND;TZID=America/New_York:20180915T150000
DTSTAMP:20260421T182138
CREATED:20180802T160548Z
LAST-MODIFIED:20180802T160548Z
UID:10008041-1537009200-1537023600@goodmorningwilton.com
SUMMARY:Food Drive for Wilton Food Pantry
DESCRIPTION:Members of the Kiwanis Club of Wilton will be at the doors of Wilton’s Village Market and Stop and Shop handing out lists of items most needed for the Wilton Food Pantry. All food collected in these drives stays right in Wilton to help the families in need. \nKiwanis Club members will be collecting items every day during the weekend\, Friday\, Sept. 14-Sunday\, Sept. 16\, from 11 a.m.-3 p.m. each day.
URL:https://goodmorningwilton.com/event/food-drive-for-wilton-food-pantry/2018-09-15/
LOCATION:Wilton Welcomes Eco Chic Salon and Blow Dry Bar
CATEGORIES:Donation/Collection,Food Drive
ATTACH;FMTTYPE=image/jpeg:https://goodmorningwilton.com/wp-content/uploads/2018/08/food-bank-1.jpg
ORGANIZER;CN="Kiwanis Club of Wilton":MAILTO:wiltonkiwanis@#gmail.com
END:VEVENT
BEGIN:VEVENT
DTSTART;TZID=America/New_York:20180916T110000
DTEND;TZID=America/New_York:20180916T150000
DTSTAMP:20260421T182138
CREATED:20180802T160548Z
LAST-MODIFIED:20180802T160548Z
UID:10008042-1537095600-1537110000@goodmorningwilton.com
SUMMARY:Food Drive for Wilton Food Pantry
DESCRIPTION:Members of the Kiwanis Club of Wilton will be at the doors of Wilton’s Village Market and Stop and Shop handing out lists of items most needed for the Wilton Food Pantry. All food collected in these drives stays right in Wilton to help the families in need. \nKiwanis Club members will be collecting items every day during the weekend\, Friday\, Sept. 14-Sunday\, Sept. 16\, from 11 a.m.-3 p.m. each day.
URL:https://goodmorningwilton.com/event/food-drive-for-wilton-food-pantry/2018-09-16/
LOCATION:Wilton Welcomes Eco Chic Salon and Blow Dry Bar
CATEGORIES:Donation/Collection,Food Drive
ATTACH;FMTTYPE=image/jpeg:https://goodmorningwilton.com/wp-content/uploads/2018/08/food-bank-1.jpg
ORGANIZER;CN="Kiwanis Club of Wilton":MAILTO:wiltonkiwanis@#gmail.com
END:VEVENT
BEGIN:VEVENT
DTSTART;TZID=America/New_York:20180928T130000
DTEND;TZID=America/New_York:20181031T180000
DTSTAMP:20260421T182138
CREATED:20180831T000524Z
LAST-MODIFIED:20180915T230013Z
UID:10008097-1538139600-1541008800@goodmorningwilton.com
SUMMARY:Kiwanis Pumpkin Patch
DESCRIPTION:Once again on Thursday\, Sept. 27 the grounds of the Wilton Historical society will become a sea of orange as the Wilton Kiwanis Club gets ready for its annual “Pumpkin Patch.” Sales start on Friday\, Sept. 28 and will be on sale from that date through Oct. 31. Hours are:  weekdays 1-6 p.m.\, Saturdays 12-5:30 p.m. and Sundays 11 a.m.- 5 p.m.. \nThere will also be an “Honor” box in the event the patch in unmanned.
URL:https://goodmorningwilton.com/event/kiwanis-pumpkin-patch/
LOCATION:Wilton Historical Society\, 224 Danbury Road\, Wilton\, CT
CATEGORIES:Fundraiser,Kids,Not for profit,Sale
ATTACH;FMTTYPE=image/jpeg:https://goodmorningwilton.com/wp-content/uploads/2018/08/pumpkins2.jpg
ORGANIZER;CN="Kiwanis Club of Wilton":MAILTO:wiltonkiwanis@#gmail.com
GEO:41.188207;-73.424639
X-APPLE-STRUCTURED-LOCATION;VALUE=URI;X-ADDRESS=Wilton Historical Society 224 Danbury Road Wilton CT;X-APPLE-RADIUS=500;X-TITLE=224 Danbury Road:geo:-73.424639,41.188207
END:VEVENT
BEGIN:VEVENT
DTSTART;TZID=America/New_York:20180929T160000
DTEND;TZID=America/New_York:20180929T220000
DTSTAMP:20260421T182138
CREATED:20180727T033437Z
LAST-MODIFIED:20180727T033437Z
UID:10008078-1538236800-1538258400@goodmorningwilton.com
SUMMARY:Oktoberfest
DESCRIPTION:The Kiwanis Club of Wilton will have its third annual Oktoberfest at the Wilton YMCA. This is a fun-filled family event with German bier and wine\, bratwurst or chicken\, sauerkraut\, German potato salad\, hot dogs\, french fries and cold soda for the kids. \nMusic will be provided by the Alpine Squeeze who will play all types of music throughout the evening\, with Hans filling in with his accordion during breaks to keep people up and dancing. The event goes on rain or shine\, but seating will be in the pavilion or under tents\, so weather is not an issue. \nEntrance fee will be $35 for adults and will include a Bratwurst or Chicken platter with Bier or wine. Children under 21 will be $6\, and will have a hot dog\, French fries\, soda or water. Advance adult tickets can be purchased for $26 by going to www.WiltonOktoberfest.org.
URL:https://goodmorningwilton.com/event/oktoberfest-2/
LOCATION:Wilton YMCA\, 404 Danbury Rd.\, Wilton\, CT\, 06897\, United States
CATEGORIES:Community Celebration,Community Events,Family Event,Food,Fundraiser
ATTACH;FMTTYPE=image/jpeg:https://goodmorningwilton.com/wp-content/uploads/2018/07/oct.fest2_-1.jpeg
ORGANIZER;CN="Kiwanis Club of Wilton":MAILTO:wiltonkiwanis@#gmail.com
GEO:41.2116373;-73.4291811
X-APPLE-STRUCTURED-LOCATION;VALUE=URI;X-ADDRESS=Wilton YMCA 404 Danbury Rd. Wilton CT 06897 United States;X-APPLE-RADIUS=500;X-TITLE=404 Danbury Rd.:geo:-73.4291811,41.2116373
END:VEVENT
BEGIN:VEVENT
DTSTART;TZID=America/New_York:20190222T183000
DTEND;TZID=America/New_York:20190222T203000
DTSTAMP:20260421T182138
CREATED:20190221T064611Z
LAST-MODIFIED:20190221T064611Z
UID:10008537-1550860200-1550867400@goodmorningwilton.com
SUMMARY:Kiwanis Club's Friday Night at the Oscars
DESCRIPTION:World-renown film critic Susan Granger will share her Oscar insights on Friday evening\, Feb. 22 between 6:30-8:30 p.m. at The Greens (435 Danbury Rd.). Sponsored by the Wilton Kiwanis\, come to hear inside information before the Sunday Oscars. Enjoy movie snacks–popcorn\, nachos and cheese\, beverages. All adults are FREE. \n\n\n\n\nSusan Granger is a product of Hollywood. Her biological father\, S. Sylvan Simon\, was a director and producer at M.G.M. and Columbia Pictures; her adoptive father\, Armand Deutsch\, produced movies at M.G.M. \nAs a child\, Susan appeared in movies with Abbott & Costello\, Red Skelton\, Lucille Ball\, Margaret O’Brien and Lassie. She attended Mills College in California\, studying journalism with Pierre Salinger\, and graduated from the University of Pennsylvania with highest honors in journalism. \nDuring her adult life\, Susan has been on radio and television as an anchorwoman and movie/drama critic\, syndicating her reviews/articles around the world and publishing a website. She has appeared on American Movie Classics and Turner Classic Movies. Susan is also the feature film critic for Video Librarian magazine\, distributed to libraries nationwide.
URL:https://goodmorningwilton.com/event/kiwanis-clubs-friday-night-at-the-oscars/
LOCATION:The Greens at Cannondale\, 435 Danbury Rd.\, Wilton\, CT\, 06897\, United States
CATEGORIES:discussion,Free,Lecture,Presentation
ATTACH;FMTTYPE=image/jpeg:https://goodmorningwilton.com/wp-content/uploads/2019/02/2-22-kiwanis-oscar3_2019.jpg
ORGANIZER;CN="Kiwanis Club of Wilton":MAILTO:wiltonkiwanis@#gmail.com
END:VEVENT
BEGIN:VEVENT
DTSTART;TZID=America/New_York:20240527T080000
DTEND;TZID=America/New_York:20240527T103000
DTSTAMP:20260421T182138
CREATED:20240523T004114Z
LAST-MODIFIED:20240523T004114Z
UID:10016916-1716796800-1716805800@goodmorningwilton.com
SUMMARY:Kiwanis Club Pancake Breakfast
DESCRIPTION:Parade goers are invited to the Kiwanis Pancake Breakfast at the Congregational Church — a Wilton Memorial Day tradition for more than 50 years. \nFind delicious pancakes\, sausage\, blueberry topping\, and beverages. People can enjoy breakfast seated at community tables on the church’s front lawn and watch the parade from a great vantage point. \nThe breakfast runs rain or shine. The cost is $15 for adults\, $8 for kids\, and children under age 5 eat for free; a family maximum is set at $50. \nMore information can be found here.
URL:https://goodmorningwilton.com/event/kiwanis-club-pancake-breakfast/
LOCATION:Wilton Congregational Church\, Wilton\, CT\, 06897\, United States
CATEGORIES:Breakfast,Churches,Club,Family Event,Parade
ATTACH;FMTTYPE=image/jpeg:https://goodmorningwilton.com/wp-content/uploads/2023/05/2023-Memorial-Day-Pancake-Breakfast-Kiwanis-Club-64-scaled.jpg
ORGANIZER;CN="Wilton Kiwanis Club":MAILTO:pfhannahjr@aol.com
END:VEVENT
BEGIN:VEVENT
DTSTART;TZID=America/New_York:20240705T173000
DTEND;TZID=America/New_York:20240705T203000
DTSTAMP:20260421T182138
CREATED:20240624T144723Z
LAST-MODIFIED:20240624T144723Z
UID:10017494-1720200600-1720211400@goodmorningwilton.com
SUMMARY:Annual Wilton Classic and Custom Car Show
DESCRIPTION:The Wilton Kiwanis Club presents their 23rd Annual Classic and Custom Car Show at the Piersall Building. All cool cars\, trucks and motorcycles are invited\, and there’s no charge to display your pride and joy! \nCheck out the coolest cars and trucks in the area with your friends and neighbors. Fun for all ages\, and as always the Kiwanis Club will be selling grilled hot dogs\, hamburgers\, and bottled water. The event will run from 5:30 to 8:30 p.m. on Friday\, July 5 at the Piersall Building parking lot in the Wilton Center. \nGo online for weather-related cancellation updates.
URL:https://goodmorningwilton.com/event/annual-wilton-classic-and-custom-car-show/
LOCATION:Piersall Building parking lot Wilton CT\, 44 Old Ridgefield Rd.\, Wilton\, CT\, 06897
CATEGORIES:Club,Family Event,Free,Outdoor Event
ATTACH;FMTTYPE=image/jpeg:https://goodmorningwilton.com/wp-content/uploads/2023/07/Kiwanis-Club-2023-Car-Cruise-Show-791-scaled.jpg
END:VEVENT
BEGIN:VEVENT
DTSTART;TZID=America/New_York:20250711T173000
DTEND;TZID=America/New_York:20250711T203000
DTSTAMP:20260421T182138
CREATED:20250707T181154Z
LAST-MODIFIED:20250707T181154Z
UID:10019802-1752255000-1752265800@goodmorningwilton.com
SUMMARY:Kiwanis Club 24th Annual Car Show
DESCRIPTION:Check out the coolest cars at the 24th Annual Kiwanis Club Car Show. Admission is free for this family-friendly event. \nThe show is Friday\, July 11\, from 5:30-8:30 p.m. at the Piersall Building in Wilton Center.
URL:https://goodmorningwilton.com/event/kiwanis-club-24th-annual-car-show/
LOCATION:Piersall Building parking lot Wilton CT\, 44 Old Ridgefield Rd.\, Wilton\, CT\, 06897
CATEGORIES:Club,Community Events,Family Event,Food,Free,Outdoor Event
ATTACH;FMTTYPE=image/jpeg:https://goodmorningwilton.com/wp-content/uploads/2019/07/kiwanis-classic-car-show_3878.jpg
ORGANIZER;CN="Wilton Kiwanis Club":MAILTO:pfhannahjr@aol.com
END:VEVENT
END:VCALENDAR