BEGIN:VCALENDAR
VERSION:2.0
PRODID:-//Good Morning Wilton - ECPv6.15.20//NONSGML v1.0//EN
CALSCALE:GREGORIAN
METHOD:PUBLISH
X-ORIGINAL-URL:https://goodmorningwilton.com
X-WR-CALDESC:Events for Good Morning Wilton
REFRESH-INTERVAL;VALUE=DURATION:PT1H
X-Robots-Tag:noindex
X-PUBLISHED-TTL:PT1H
BEGIN:VTIMEZONE
TZID:America/New_York
BEGIN:DAYLIGHT
TZOFFSETFROM:-0500
TZOFFSETTO:-0400
TZNAME:EDT
DTSTART:20200308T070000
END:DAYLIGHT
BEGIN:STANDARD
TZOFFSETFROM:-0400
TZOFFSETTO:-0500
TZNAME:EST
DTSTART:20201101T060000
END:STANDARD
BEGIN:DAYLIGHT
TZOFFSETFROM:-0500
TZOFFSETTO:-0400
TZNAME:EDT
DTSTART:20210314T070000
END:DAYLIGHT
BEGIN:STANDARD
TZOFFSETFROM:-0400
TZOFFSETTO:-0500
TZNAME:EST
DTSTART:20211107T060000
END:STANDARD
BEGIN:DAYLIGHT
TZOFFSETFROM:-0500
TZOFFSETTO:-0400
TZNAME:EDT
DTSTART:20220313T070000
END:DAYLIGHT
BEGIN:STANDARD
TZOFFSETFROM:-0400
TZOFFSETTO:-0500
TZNAME:EST
DTSTART:20221106T060000
END:STANDARD
END:VTIMEZONE
BEGIN:VEVENT
DTSTART;TZID=America/New_York:20210119T163000
DTEND;TZID=America/New_York:20210119T170000
DTSTAMP:20260423T160423
CREATED:20210103T195821Z
LAST-MODIFIED:20210104T001254Z
UID:10010100-1611073800-1611075600@goodmorningwilton.com
SUMMARY:Your Covid Toolbox: Helping Teens Cope in Crazy Times
DESCRIPTION:Has the past year got you feeling stressed\, anxious\, not sleeping well or over-indulging? Join Matt DeBernardis\, Resilience Trainer from Silver Hill Hospital\, for an interactive online workshop and gather some tools to help you cope during the winter months of the pandemic. \nMatt has a degree in Psychology and Sport Psychology. His background includes training U.S Army soldiers and their families in resilience and psychological skill building. \nRegistration required and space limited. For students in grades 6-12. A Zoom link will be sent the day before the workshop. \nSponsored by Wilton Library\, Wilton Youth Council\, Silver Hill Hospital\, and Kids in Crisis. Visit the Wilton Library website for program details and to register.
URL:https://goodmorningwilton.com/event/your-covid-toolbox-helping-teens-cope-in-crazy-times/
LOCATION:ZOOM
CATEGORIES:discussion,Free,Health & Wellness,Library,Not for profit,Online,Presentation,Teens,Workshop,Zoom Call
ATTACH;FMTTYPE=image/png:https://goodmorningwilton.com/wp-content/uploads/2021/01/TOOLBOX_COVID-1.png
ORGANIZER;CN="Wilton Library":MAILTO:publicity@wiltonlibrary.org
END:VEVENT
END:VCALENDAR