BEGIN:VCALENDAR
VERSION:2.0
PRODID:-//Good Morning Wilton - ECPv6.15.20//NONSGML v1.0//EN
CALSCALE:GREGORIAN
METHOD:PUBLISH
X-WR-CALNAME:Good Morning Wilton
X-ORIGINAL-URL:https://goodmorningwilton.com
X-WR-CALDESC:Events for Good Morning Wilton
REFRESH-INTERVAL;VALUE=DURATION:PT1H
X-Robots-Tag:noindex
X-PUBLISHED-TTL:PT1H
BEGIN:VTIMEZONE
TZID:America/New_York
BEGIN:DAYLIGHT
TZOFFSETFROM:-0500
TZOFFSETTO:-0400
TZNAME:EDT
DTSTART:20250309T070000
END:DAYLIGHT
BEGIN:STANDARD
TZOFFSETFROM:-0400
TZOFFSETTO:-0500
TZNAME:EST
DTSTART:20251102T060000
END:STANDARD
BEGIN:DAYLIGHT
TZOFFSETFROM:-0500
TZOFFSETTO:-0400
TZNAME:EDT
DTSTART:20260308T070000
END:DAYLIGHT
BEGIN:STANDARD
TZOFFSETFROM:-0400
TZOFFSETTO:-0500
TZNAME:EST
DTSTART:20261101T060000
END:STANDARD
BEGIN:DAYLIGHT
TZOFFSETFROM:-0500
TZOFFSETTO:-0400
TZNAME:EDT
DTSTART:20270314T070000
END:DAYLIGHT
BEGIN:STANDARD
TZOFFSETFROM:-0400
TZOFFSETTO:-0500
TZNAME:EST
DTSTART:20271107T060000
END:STANDARD
END:VTIMEZONE
BEGIN:VEVENT
DTSTART;TZID=America/New_York:20260207T133000
DTEND;TZID=America/New_York:20260207T143000
DTSTAMP:20260424T213802
CREATED:20260201T234952Z
LAST-MODIFIED:20260201T234952Z
UID:10022037-1770471000-1770474600@goodmorningwilton.com
SUMMARY:The Wilton Library Presents: Ball in the House: Music That'll Move Ya!
DESCRIPTION:Music lovers ages 5 through 105 are invited to celebrate Take Your Child to the Library Day with an engaging\, interactive\, and moving music experience with a cappella group Ball in the House! Ball in the House is an R&B/Soul/Pop a cappella group based out of Boston\, MA\, whose high-energy shows have audiences singing\, dancing\, and even beatboxing along! They have opened for some of the biggest acts in the world\, such as The Beach Boys\, The Jonas Brothers\, The Temptations\, Fantasia\, Gladys Knight\, and Lionel Richie. Their show seamlessly blends different music styles (Doo-Wop/Oldies\, Disco\, Classic R&B and Motown\, Contemporary Pop and R&B) in both unique covers and catchy original music that all music lovers will enjoy. \nThis event will take place at the Wilton Library on February 7 from 1:30 p.m. – 2:30 p.m. for ages 5 and up \nRegister here by February 7\, 2026 @ 11:30 a.m.
URL:https://goodmorningwilton.com/event/the-wilton-library-presents-ball-in-the-house-music-thatll-move-ya/
LOCATION:Wilton Library Brubeck Room\, 137 Old Ridgefield Rd\, Wilton\, 06897\, United States
CATEGORIES:Family Event,Library,Live Music
ATTACH;FMTTYPE=image/jpeg:https://goodmorningwilton.com/wp-content/uploads/2026/02/GMW-Acapella.jpg
END:VEVENT
END:VCALENDAR