BEGIN:VCALENDAR
VERSION:2.0
PRODID:-//Good Morning Wilton - ECPv6.15.20//NONSGML v1.0//EN
CALSCALE:GREGORIAN
METHOD:PUBLISH
X-ORIGINAL-URL:https://goodmorningwilton.com
X-WR-CALDESC:Events for Good Morning Wilton
REFRESH-INTERVAL;VALUE=DURATION:PT1H
X-Robots-Tag:noindex
X-PUBLISHED-TTL:PT1H
BEGIN:VTIMEZONE
TZID:America/New_York
BEGIN:DAYLIGHT
TZOFFSETFROM:-0500
TZOFFSETTO:-0400
TZNAME:EDT
DTSTART:20170312T070000
END:DAYLIGHT
BEGIN:STANDARD
TZOFFSETFROM:-0400
TZOFFSETTO:-0500
TZNAME:EST
DTSTART:20171105T060000
END:STANDARD
BEGIN:DAYLIGHT
TZOFFSETFROM:-0500
TZOFFSETTO:-0400
TZNAME:EDT
DTSTART:20180311T070000
END:DAYLIGHT
BEGIN:STANDARD
TZOFFSETFROM:-0400
TZOFFSETTO:-0500
TZNAME:EST
DTSTART:20181104T060000
END:STANDARD
BEGIN:DAYLIGHT
TZOFFSETFROM:-0500
TZOFFSETTO:-0400
TZNAME:EDT
DTSTART:20190310T070000
END:DAYLIGHT
BEGIN:STANDARD
TZOFFSETFROM:-0400
TZOFFSETTO:-0500
TZNAME:EST
DTSTART:20191103T060000
END:STANDARD
END:VTIMEZONE
BEGIN:VEVENT
DTSTART;TZID=America/New_York:20180611T190000
DTEND;TZID=America/New_York:20180611T190000
DTSTAMP:20260421T105250
CREATED:20180611T152629Z
LAST-MODIFIED:20180611T152629Z
UID:10007975-1528743600-1528743600@goodmorningwilton.com
SUMMARY:Judith Altmann\, Holocaust Survivor\, Speaks at Middlebrook
DESCRIPTION:Judith Altmann\, a 93-year old Holocaust survivor\, will come to Middlebrook School to share her story. The evening presentation starts at 7:00 p.m.\, and Wilton residents and Wilton students in grades 6-12 are invited to attend.
URL:https://goodmorningwilton.com/event/judith-altmann-holocaust-survivor-speaks-at-middlebrook/
LOCATION:Middlebrook School
CATEGORIES:Community Events,Free,Lecture,Not for profit,Presentation,Schools
ATTACH;FMTTYPE=image/jpeg:https://goodmorningwilton.com/wp-content/uploads/2018/06/judith-altmann.jpg
END:VEVENT
BEGIN:VEVENT
DTSTART;TZID=America/New_York:20180613T193000
DTEND;TZID=America/New_York:20180613T193000
DTSTAMP:20260421T105250
CREATED:20180612T145918Z
LAST-MODIFIED:20180612T145918Z
UID:10008002-1528918200-1528918200@goodmorningwilton.com
SUMMARY:Rise Against Hunger Benefit Concert Talent Show at Middlebrook
DESCRIPTION:This Wednesday\, June 13\, Middlebrook School is holding the annual Rise Against Hunger Benefit Concert Talent Show at 7:30 p.m. in the school’s auditorium. Under Middlebrook instructional leader Janet Nobles and music educator Susan Kelly‘s direction and with Middlebrook student leadership (this year\, by eighth graders Grace Cristini and Samantha Victor)\, this annual concert has been a cornerstone of the Wilton Interfaith Action Committee‘s (Wi-ACT) fundraising efforts for doing its annual 160\,000 meal packaging event in October. Half of the gate receipts (by attendee donation) go to the Wi-ACT October event and the other half go to help to fund a separate 10\,000-meal packaging event at Middlebrook\, organized by Middlebrook students themselves.
URL:https://goodmorningwilton.com/event/rise-against-hunger-benefit-concert-talent-show-at-middlebrook/
LOCATION:Middlebrook School
CATEGORIES:Arts,Community Events,Concert,Fundraiser,Musical,Not for profit,Schools
ATTACH;FMTTYPE=image/png:https://goodmorningwilton.com/wp-content/uploads/2018/06/rise-against-hunger-concert-poster-2018-copy-1.png
END:VEVENT
BEGIN:VEVENT
DTSTART;TZID=America/New_York:20180616T100000
DTEND;TZID=America/New_York:20180616T160000
DTSTAMP:20260421T105250
CREATED:20180611T164356Z
LAST-MODIFIED:20180611T164502Z
UID:10007998-1529143200-1529164800@goodmorningwilton.com
SUMMARY:Wilton Day at Merwin Meadows
DESCRIPTION:Wilton’s Parks and Recreation Department is kicking off summer and showing off a refurbished Merwin Meadows by throwing a party for all Wilton residents. On Saturday\, June 16\, from 10 a.m. to 4 p.m.\, Parks & Rec is hosting “Wilton Day at Merwin Meadows” and all residents are invited for free fun and festivities. With proof of Wilton residency\, attendees will be able to enjoy free food and activities for all ages. Among the fun events and features will be face painting\, music\, corn hole\, beach volleyball\, inflatables (duel-sport combo bounce house\, climbing area and slide)\, sack races\, fencing demonstrations\, playground and swings\, and of course swimming in the Merwin pond. In addition\, Parks & Rec has a new tug-of-war rope that stretches across the entire pond and teams will compete from opposite shores; the winning team is the team that pulls its entire opposing team into the pond.
URL:https://goodmorningwilton.com/event/wilton-day-at-merwin-meadows/
LOCATION:Merwin Meadows\, 52 Lovers Ln\, Wilton\, CT
CATEGORIES:Community Celebration,Community Events,Family Event,Food,Free,Game
ATTACH;FMTTYPE=image/png:https://goodmorningwilton.com/wp-content/uploads/2018/06/merwin-meadows.png
ORGANIZER;CN="Wilton Parks and Recreation":MAILTO:parksandrec@wiltonct.org
GEO:41.197245;-73.4354331
X-APPLE-STRUCTURED-LOCATION;VALUE=URI;X-ADDRESS=Merwin Meadows 52 Lovers Ln Wilton CT;X-APPLE-RADIUS=500;X-TITLE=52 Lovers Ln:geo:-73.4354331,41.197245
END:VEVENT
BEGIN:VEVENT
DTSTART;TZID=America/New_York:20180619T173000
DTEND;TZID=America/New_York:20180619T173000
DTSTAMP:20260421T105250
CREATED:20180611T164851Z
LAST-MODIFIED:20180611T164851Z
UID:10008000-1529429400-1529429400@goodmorningwilton.com
SUMMARY:Annual Meeting and Potluck Dinner at Wilton Historical Society
DESCRIPTION:Held on the beautiful grounds of the Wilton Historical Society\, members will gather on Tuesday\, June 19 at 5:30 p.m. for the Annual Meeting and Old-fashioned Potluck Dinner. Members are asked to RSVP to the Society and state what dish they plan to bring. All members are welcome!
URL:https://goodmorningwilton.com/event/annual-meeting-and-potluck-dinner-at-wilton-historical-society/
LOCATION:Wilton Historical Society\, 224 Danbury Road\, Wilton\, CT
CATEGORIES:Community Celebration,Community Events,Food,Free,Meeting,Not for profit
ATTACH;FMTTYPE=image/jpeg:https://goodmorningwilton.com/wp-content/uploads/2018/06/wilton-historical-side-view-e1528657274337-1.jpg
ORGANIZER;CN="Wilton Historical Society":MAILTO:info@wiltonhistorical.org
GEO:41.188207;-73.424639
X-APPLE-STRUCTURED-LOCATION;VALUE=URI;X-ADDRESS=Wilton Historical Society 224 Danbury Road Wilton CT;X-APPLE-RADIUS=500;X-TITLE=224 Danbury Road:geo:-73.424639,41.188207
END:VEVENT
END:VCALENDAR