BEGIN:VCALENDAR
VERSION:2.0
PRODID:-//Good Morning Wilton - ECPv6.15.20//NONSGML v1.0//EN
CALSCALE:GREGORIAN
METHOD:PUBLISH
X-ORIGINAL-URL:https://goodmorningwilton.com
X-WR-CALDESC:Events for Good Morning Wilton
REFRESH-INTERVAL;VALUE=DURATION:PT1H
X-Robots-Tag:noindex
X-PUBLISHED-TTL:PT1H
BEGIN:VTIMEZONE
TZID:America/New_York
BEGIN:DAYLIGHT
TZOFFSETFROM:-0500
TZOFFSETTO:-0400
TZNAME:EDT
DTSTART:20230312T070000
END:DAYLIGHT
BEGIN:STANDARD
TZOFFSETFROM:-0400
TZOFFSETTO:-0500
TZNAME:EST
DTSTART:20231105T060000
END:STANDARD
BEGIN:DAYLIGHT
TZOFFSETFROM:-0500
TZOFFSETTO:-0400
TZNAME:EDT
DTSTART:20240310T070000
END:DAYLIGHT
BEGIN:STANDARD
TZOFFSETFROM:-0400
TZOFFSETTO:-0500
TZNAME:EST
DTSTART:20241103T060000
END:STANDARD
BEGIN:DAYLIGHT
TZOFFSETFROM:-0500
TZOFFSETTO:-0400
TZNAME:EDT
DTSTART:20250309T070000
END:DAYLIGHT
BEGIN:STANDARD
TZOFFSETFROM:-0400
TZOFFSETTO:-0500
TZNAME:EST
DTSTART:20251102T060000
END:STANDARD
END:VTIMEZONE
BEGIN:VEVENT
DTSTART;TZID=America/New_York:20240511T080000
DTEND;TZID=America/New_York:20240511T093000
DTSTAMP:20260420T060531
CREATED:20240430T004515Z
LAST-MODIFIED:20240430T004515Z
UID:10016739-1715414400-1715419800@goodmorningwilton.com
SUMMARY:Birds & Binoculars: A Birding Expedition — Exploring nature and spotting wildlife
DESCRIPTION:Drizzle or Shine\, Rain Date — Saturday\, May 25 \nThe birding expedition is led by expert birder\, environmentalist\, gardener\, and Wilton resident Joe Bear. The spring migration bird walk will explore Wilton Land Trust’s Schenck’s Island river walk. Together\, attendees will explore this birding hot spot that offers diverse habitats\, including open fields\, woodlands\, edges\, and swamps. \nDrizzle or shine\, Bear will lead a leisurely 2-hour walk\, pointing out various bird species\, defining calls\, explaining behaviors\, and answering questions. Whether participants are seasoned birders or new to birdwatching\, all are welcome for an exciting adventure. Witness first and foremost the beauty of migrating birds in Wilton. \nGrab binoculars\, water bottles\, supportive shoes\, tick and bug repellant\, and cameras\, and join in a morning of adventure\, exercise\, fresh air\, and learning. Additionally\, leave furry friends at home so they don’t scare off any wildlife we hope to see. \nParticipants have the chance to see and hear a diverse assortment of Neotropic migrants (returning from their southern wintering grounds). This includes Indigo Bunting\, Baltimore Oriole\, Scarlet Tanager\, Rose-breasted Grosbeak\, Eastern Kingbird\, Flycatchers\, and Vireos. See many Warbler species as well\, including Yellow\, Blue-winged\, Northern Parula\, Black and White\, and American Redstart to name a few. And with eyes kept to the sky\, attendees should hopefully see Wilton’s returning nesting pair of Osprey. These friends indeed nested for the first time in the Wilton Town Center in 2023! \nBear has been birding for over 30 years\, leading domestic and international trips for CT Audubon and other nature-based organizations. Bear really enjoys sharing his passion and enthusiasm for birds\, believing that\, experienced or novice\, there’s always something new to learn. He also currently resides in Wilton with his wife and two kids. \nThe Wilton Land Trust is a community-focused nonprofit organization that conserves land\, protects biodiversity\, enhances ecosystems\, and builds community.
URL:https://goodmorningwilton.com/event/birds-binoculars-a-birding-expedition-exploring-nature-and-spotting-wildlife/
LOCATION:Schenck’s Island:  202 Old Ridgefield Road\, #2\, 202 Old Ridgefield Road\, #2\, Wilton\, 06897
CATEGORIES:Animals,Community Events,Educational,Environmental,Nature,Outdoor Event
ATTACH;FMTTYPE=image/png:https://goodmorningwilton.com/wp-content/uploads/2024/04/Screenshot-2024-04-29-at-1.33.58 PM.png
END:VEVENT
BEGIN:VEVENT
DTSTART;TZID=America/New_York:20240914T103000
DTEND;TZID=America/New_York:20240914T123000
DTSTAMP:20260420T060531
CREATED:20240831T185548Z
LAST-MODIFIED:20240831T185548Z
UID:10018034-1726309800-1726317000@goodmorningwilton.com
SUMMARY:Wilton Land Trust Hosts Birds of Prey: a Live Raptor Event
DESCRIPTION:Join the Wilton Land Trust and Christine’s Critters\, bring your family\, and peek into the mysterious lives of New England Raptors in a WLT meadow. \n\n\nThis fun and educational family program increases public understanding and appreciation of North American birds of prey. Join in\, and peek into the mysterious lives of New England Raptors in a WLT meadow. \nThe Birds of Prey live raptor event features hawks\, owls\, falcons\, and other fantastic birds of prey. See these amazing creatures up close while learning about their unique traits and what makes them the birds of prey! \nAll are welcome to this relaxing program. Connect with nature\, community\, and yourself while learning about birds of prey. \n  \nThe Wilton Land Trust is a community-focused nonprofit organization that conserves land\, protects biodiversity\, enhances ecosystems\, and builds community. \nChristine’s Critters is a non-profit 501(c)(3) wildlife rehabilitation facility that sees over 100 injured birds of prey come through their doors each year. Many of these birds are able to be rehabilitated and returned home to the wild\, which helps offset the human impact on our wildlife. The birds that are unable to return to the wild are permanently injured and accompany CC to numerous educational programs each year to inspire other’s to take action towards their local environment. \nRain Date: Saturday\, Sept 21- 10:30 am
URL:https://goodmorningwilton.com/event/wilton-land-trust-hosts-birds-of-prey-a-live-raptor-event/
LOCATION:WLT’s Walter Preserve\, 688 Ridgefield Road\, Wilton\, 06897\, United States
CATEGORIES:Animals,Community Events,Educational,Not for profit
ATTACH;FMTTYPE=image/png:https://goodmorningwilton.com/wp-content/uploads/2024/08/Birds-of-Prey-2024.png
END:VEVENT
BEGIN:VEVENT
DTSTART;TZID=America/New_York:20240920T100000
DTEND;TZID=America/New_York:20240920T120000
DTSTAMP:20260420T060531
CREATED:20240917T014935Z
LAST-MODIFIED:20240917T014935Z
UID:10018091-1726826400-1726833600@goodmorningwilton.com
SUMMARY:Wilton Land Trust Hosts Books and a Blanket!
DESCRIPTION:Co-hosted by Wilton Land Trust\, Wilton Library\, and Wilton Go Green\, the Books and a Blanket series invites the community to immerse themselves in nature. \nBring your blanket and enjoy a relaxing story\, some arts and crafts\, and a hands-on environmental learning experience. \n\n\n\n\n\n\nThese three organizations have come together to offer a unique and immersive book-reading experience. Together\, they have created an opportunity for families to venture outside\, explore nature\, listen to stories\, and make an upcycled craft. As partners\, they elevate young minds within beautiful landscapes. \nThe Wilton Land Trust is a community-focused nonprofit organization that conserves land\, protects biodiversity\, enhances ecosystems\, and builds community. \nThe Wilton Library is the cultural and intellectual center of Wilton: informing\, enriching\, connecting\, and inspiring the Wilton community. \nWilton Go Green is committed to engaging\, educating\, and inspiring Wilton residents to embrace a lifestyle of environmental sustainability. \nAt the event: \nA member of the Wilton Children’s Library staff will read hand-curated books and sing interactive songs. Tammy Thornton\, President of Wilton Go Green\, will guide an upcycled craft.​​ David McCarthy of Wilton Land Trust will lead a short and sweet\, guided nature walk. \nPlease remember to bring a blanket\, snack\, or something to drink\, and join for some fresh air to celebrate community\, nature\, and a good book. \nFall 2024 BOOKS & A BLANKET SERIES: \nFriday\, Sept. 20 — 10 a.m. \nRain date — Sept. 27 \nTheme:  Pumpkins \nWalter Preserve: \n688 Ridgefield Road\, Wilton\, CT 06897. The parking lot is just past the preserve on the right when heading north on R33. \n  \nFriday\, Oct.20  — 10:00 a.m. \nRain date — Oct. 27 \nTheme: Halloween \nWLT’s Walter Preserve \n688 Ridgefield Road\, Wilton\, CT 06897 \n\n\n 
URL:https://goodmorningwilton.com/event/wilton-land-trust-hosts-books-and-a-blanket/2024-09-20/
LOCATION:Walter Preserve (Wilton Land Conservation Trust)\, 688 Ridgefield Road\, wilton\, CT\, 06897\, United States
CATEGORIES:Community Events,Nature,Not for profit,Outdoor Event
ATTACH;FMTTYPE=image/png:https://goodmorningwilton.com/wp-content/uploads/2024/08/BooksaBlanket9.2024.3.png
END:VEVENT
BEGIN:VEVENT
DTSTART;TZID=America/New_York:20240920T190000
DTEND;TZID=America/New_York:20240920T220000
DTSTAMP:20260420T060531
CREATED:20240904T195454Z
LAST-MODIFIED:20240904T195454Z
UID:10018067-1726858800-1726869600@goodmorningwilton.com
SUMMARY:Under the Harvest Moon
DESCRIPTION:An enjoyable\, relaxed evening of food\, live music and more to benefit the nature center’s well-loved programs in environmental education. Held in and around Woodcock’s picturesque candlelit pavilion and pond\, a highlight of the evening is carefully prepared fare by local chefs Sarah and Bernard Bouïssou of À Table in Ridgefield. \nA unique silent auction from September 6-16 includes items not available anywhere else such as tickets to a private meet and greet package with Cheyanne the Red Tailed Hawk… you can even bid on a spot at summer camp! Live auction items include a Wreath Festival experience for 15 guests\, private pavilion events and more. \nPlus\, guests will enjoy wine from Cellar XV Wine Market\, brews and spirits from Nod Hill Brewery and Litchfield Distillery\, delightful desserts and coffee from Queen B Coffee Company\, and live music by Fairfield County’s own Present Company. \nSingle Tickets: $175 \nVIP ticket opportunities also available. \nProceeds benefit Woodcock’s outreach and education programs. \n21+ only. No refunds. Rain or shine. \nCampground chic attire!
URL:https://goodmorningwilton.com/event/under-the-harvest-moon-2/
LOCATION:Woodcock Nature Center\, 56 Deer Run Rd\, Wilton\, CT\, 06897\, United States
CATEGORIES:Environmental,Fundraiser,Nature,Not for profit
ATTACH;FMTTYPE=image/jpeg:https://goodmorningwilton.com/wp-content/uploads/2024/09/008-Under-The-Harvest-Moon-By-Justin-Baiad-Photography-©2023-Blast-Media-Group-scaled.jpg
GEO:41.2467853;-73.4737154
X-APPLE-STRUCTURED-LOCATION;VALUE=URI;X-ADDRESS=Woodcock Nature Center 56 Deer Run Rd Wilton CT 06897 United States;X-APPLE-RADIUS=500;X-TITLE=56 Deer Run Rd:geo:-73.4737154,41.2467853
END:VEVENT
BEGIN:VEVENT
DTSTART;TZID=America/New_York:20241020T100000
DTEND;TZID=America/New_York:20241020T120000
DTSTAMP:20260420T060531
CREATED:20240917T014935Z
LAST-MODIFIED:20240917T014935Z
UID:10018092-1729418400-1729425600@goodmorningwilton.com
SUMMARY:Wilton Land Trust Hosts Books and a Blanket!
DESCRIPTION:Co-hosted by Wilton Land Trust\, Wilton Library\, and Wilton Go Green\, the Books and a Blanket series invites the community to immerse themselves in nature. \nBring your blanket and enjoy a relaxing story\, some arts and crafts\, and a hands-on environmental learning experience. \n\n\n\n\n\n\nThese three organizations have come together to offer a unique and immersive book-reading experience. Together\, they have created an opportunity for families to venture outside\, explore nature\, listen to stories\, and make an upcycled craft. As partners\, they elevate young minds within beautiful landscapes. \nThe Wilton Land Trust is a community-focused nonprofit organization that conserves land\, protects biodiversity\, enhances ecosystems\, and builds community. \nThe Wilton Library is the cultural and intellectual center of Wilton: informing\, enriching\, connecting\, and inspiring the Wilton community. \nWilton Go Green is committed to engaging\, educating\, and inspiring Wilton residents to embrace a lifestyle of environmental sustainability. \nAt the event: \nA member of the Wilton Children’s Library staff will read hand-curated books and sing interactive songs. Tammy Thornton\, President of Wilton Go Green\, will guide an upcycled craft.​​ David McCarthy of Wilton Land Trust will lead a short and sweet\, guided nature walk. \nPlease remember to bring a blanket\, snack\, or something to drink\, and join for some fresh air to celebrate community\, nature\, and a good book. \nFall 2024 BOOKS & A BLANKET SERIES: \nFriday\, Sept. 20 — 10 a.m. \nRain date — Sept. 27 \nTheme:  Pumpkins \nWalter Preserve: \n688 Ridgefield Road\, Wilton\, CT 06897. The parking lot is just past the preserve on the right when heading north on R33. \n  \nFriday\, Oct.20  — 10:00 a.m. \nRain date — Oct. 27 \nTheme: Halloween \nWLT’s Walter Preserve \n688 Ridgefield Road\, Wilton\, CT 06897 \n\n\n 
URL:https://goodmorningwilton.com/event/wilton-land-trust-hosts-books-and-a-blanket/2024-10-20/
LOCATION:Walter Preserve (Wilton Land Conservation Trust)\, 688 Ridgefield Road\, wilton\, CT\, 06897\, United States
CATEGORIES:Community Events,Nature,Not for profit,Outdoor Event
ATTACH;FMTTYPE=image/png:https://goodmorningwilton.com/wp-content/uploads/2024/08/BooksaBlanket9.2024.3.png
END:VEVENT
BEGIN:VEVENT
DTSTART;TZID=America/New_York:20241101T160000
DTEND;TZID=America/New_York:20241101T200000
DTSTAMP:20260420T060531
CREATED:20241026T160340Z
LAST-MODIFIED:20241026T160340Z
UID:10018168-1730476800-1730491200@goodmorningwilton.com
SUMMARY:Sip & Shop Event to Benefit Laurel House
DESCRIPTION:Join The Pilates Advantage for their annual Sip & Shop Event on Friday\, November 1 from 4-8 p.m. to benefit Laurel House\, a not for profit that helps individuals and families achieve and sustain mental health to lead fulfilling lives.\n\nLocal jewelry artisans and athletic clothing designers will be on site as well as a perfect selection of holiday gifts including skin care\, ceramics and stationary.\n\nThe entire weekend is dedicated to benefitting Laurel House starting with the Sip & Shop event on Friday\, November 1 and continuing throughout the weekend with a Round Robin Workout. Direct donations and the ability to purchase a custom T-shirt are also available at the studio.\n\nGet a head start on the holidays with a weekend of many opportunities to stay fit and donate to a great cause!\n\nFor more information\, visit online.
URL:https://goodmorningwilton.com/event/sip-shop-event-to-benefit-laurel-house/
LOCATION:The Pilates Advantage\,\, 414 Olmstead Hill Road\, Wilton\, Connecticut
CATEGORIES:Exercise,Fundraiser
ATTACH;FMTTYPE=image/png:https://goodmorningwilton.com/wp-content/uploads/2017/12/The-Pilates-Advantage-over-50.png
END:VEVENT
END:VCALENDAR