BEGIN:VCALENDAR
VERSION:2.0
PRODID:-//Good Morning Wilton - ECPv6.15.20//NONSGML v1.0//EN
CALSCALE:GREGORIAN
METHOD:PUBLISH
X-WR-CALNAME:Good Morning Wilton
X-ORIGINAL-URL:https://goodmorningwilton.com
X-WR-CALDESC:Events for Good Morning Wilton
REFRESH-INTERVAL;VALUE=DURATION:PT1H
X-Robots-Tag:noindex
X-PUBLISHED-TTL:PT1H
BEGIN:VTIMEZONE
TZID:America/New_York
BEGIN:DAYLIGHT
TZOFFSETFROM:-0500
TZOFFSETTO:-0400
TZNAME:EDT
DTSTART:20200308T070000
END:DAYLIGHT
BEGIN:STANDARD
TZOFFSETFROM:-0400
TZOFFSETTO:-0500
TZNAME:EST
DTSTART:20201101T060000
END:STANDARD
BEGIN:DAYLIGHT
TZOFFSETFROM:-0500
TZOFFSETTO:-0400
TZNAME:EDT
DTSTART:20210314T070000
END:DAYLIGHT
BEGIN:STANDARD
TZOFFSETFROM:-0400
TZOFFSETTO:-0500
TZNAME:EST
DTSTART:20211107T060000
END:STANDARD
BEGIN:DAYLIGHT
TZOFFSETFROM:-0500
TZOFFSETTO:-0400
TZNAME:EDT
DTSTART:20220313T070000
END:DAYLIGHT
BEGIN:STANDARD
TZOFFSETFROM:-0400
TZOFFSETTO:-0500
TZNAME:EST
DTSTART:20221106T060000
END:STANDARD
END:VTIMEZONE
BEGIN:VEVENT
DTSTART;TZID=America/New_York:20210626T190000
DTEND;TZID=America/New_York:20210626T203000
DTSTAMP:20260425T134623
CREATED:20210618T172527Z
LAST-MODIFIED:20210621T191304Z
UID:10010789-1624734000-1624739400@goodmorningwilton.com
SUMMARY:Wilton Singers Present “On The Road Again” Live Concert
DESCRIPTION:The Wilton Singers are “On The Road Again” on Saturday\, June 26 at 7 p.m. for a live performance at Wilton Episcopal Presbyterian Complex (WEPCO) (48 New Canaan Rd.) Guests are asked to bring their own chairs to spread out for festival-style seating. \nTickets for “On the Road Again” are on sale at the Wilton Singers website. The seating area opens at 6:30 p.m. and the concert begins at 7 p.m. In the event of rain\, the concert will be moved to Sunday\, June 27. 
URL:https://goodmorningwilton.com/event/wilton-singers-present-on-the-road-again-live-concert/
LOCATION:WEPCO Complex
CATEGORIES:Concert
ATTACH;FMTTYPE=image/jpeg:https://goodmorningwilton.com/wp-content/uploads/2021/06/WiltonSingersPhoto.jpg
ORGANIZER;CN="Wilton Singers":MAILTO:wiltonsingers@gmail.com
END:VEVENT
END:VCALENDAR