BEGIN:VCALENDAR
VERSION:2.0
PRODID:-//Good Morning Wilton - ECPv6.15.20//NONSGML v1.0//EN
CALSCALE:GREGORIAN
METHOD:PUBLISH
X-ORIGINAL-URL:https://goodmorningwilton.com
X-WR-CALDESC:Events for Good Morning Wilton
REFRESH-INTERVAL;VALUE=DURATION:PT1H
X-Robots-Tag:noindex
X-PUBLISHED-TTL:PT1H
BEGIN:VTIMEZONE
TZID:America/New_York
BEGIN:DAYLIGHT
TZOFFSETFROM:-0500
TZOFFSETTO:-0400
TZNAME:EDT
DTSTART:20230312T070000
END:DAYLIGHT
BEGIN:STANDARD
TZOFFSETFROM:-0400
TZOFFSETTO:-0500
TZNAME:EST
DTSTART:20231105T060000
END:STANDARD
BEGIN:DAYLIGHT
TZOFFSETFROM:-0500
TZOFFSETTO:-0400
TZNAME:EDT
DTSTART:20240310T070000
END:DAYLIGHT
BEGIN:STANDARD
TZOFFSETFROM:-0400
TZOFFSETTO:-0500
TZNAME:EST
DTSTART:20241103T060000
END:STANDARD
BEGIN:DAYLIGHT
TZOFFSETFROM:-0500
TZOFFSETTO:-0400
TZNAME:EDT
DTSTART:20250309T070000
END:DAYLIGHT
BEGIN:STANDARD
TZOFFSETFROM:-0400
TZOFFSETTO:-0500
TZNAME:EST
DTSTART:20251102T060000
END:STANDARD
END:VTIMEZONE
BEGIN:VEVENT
DTSTART;TZID=America/New_York:20240130T150000
DTEND;TZID=America/New_York:20240130T163000
DTSTAMP:20260424T201651
CREATED:20240125T194848Z
LAST-MODIFIED:20240125T194848Z
UID:10014988-1706626800-1706632200@goodmorningwilton.com
SUMMARY:Seminar: Online Cyber Security
DESCRIPTION:Older adults in the U.S. lose more than $2 billion through fraud\, scams and theft every year. Join Stay at Home in Wilton for a presentation by Wells Fargo banking experts who will help identify the warning signs of elder fraud and abuse\, how to recognize common scams and schemes\, and how to protect yourself from becoming a victim. RSVP to 203.762.2600 or via email.
URL:https://goodmorningwilton.com/event/seminar-online-cyber-security/
LOCATION:Comstock Community Center\, 180 School Rd.\, Wilton\, CT\, 06897\, United States
CATEGORIES:discussion,Seniors
ATTACH;FMTTYPE=image/jpeg:https://goodmorningwilton.com/wp-content/uploads/2024/01/senior_scams.jpg
ORGANIZER;CN="Stay at Home in Wilton":MAILTO:deb@shwil.org
GEO:41.2020422;-73.4335825
X-APPLE-STRUCTURED-LOCATION;VALUE=URI;X-ADDRESS=Comstock Community Center 180 School Rd. Wilton CT 06897 United States;X-APPLE-RADIUS=500;X-TITLE=180 School Rd.:geo:-73.4335825,41.2020422
END:VEVENT
BEGIN:VEVENT
DTSTART;TZID=America/New_York:20240221T103000
DTEND;TZID=America/New_York:20240221T123000
DTSTAMP:20260424T201651
CREATED:20240209T234930Z
LAST-MODIFIED:20240209T234930Z
UID:10015037-1708511400-1708518600@goodmorningwilton.com
SUMMARY:Staying Safe Online
DESCRIPTION:Join Wilton Library for this helpful presentation on online safety. No one wants to be the victim of identity theft\, lose important data\, or find that their computer has become infected. Yet\, these are all far too regular occurrences. In this class\, participants will learn about the threats that are lurking and how to best stay safe online\, from firewalls to phishing\, from social engineering to security software\, from ransomware to malware\, from backups to updates\, and from passwords to popups. Discuss how to keep computers protected\, stay safe while browsing the internet\, and recognize dangerous emails. Join this important class to cover these topics and much more. \nMike Ingber is the owner of Upward Business Systems\, in business since 1989 and providing expert\, reliable\, affordable computer consulting services to a large base of clients. These include town halls\, libraries\, schools\, non-profit agencies\, small and medium businesses of all sorts\, home users\, and senior citizens. \nRegistration is recommended online or call 203-762-6334. Email for more information.
URL:https://goodmorningwilton.com/event/staying-safe-online/
LOCATION:Wilton Library\, 137 Old Ridgefield Rd.\, Wilton\, CT\, 06987
CATEGORIES:Business,Class,discussion,Educational,Library,Presentation
ATTACH;FMTTYPE=image/png:https://goodmorningwilton.com/wp-content/uploads/2024/02/COMPUTER_SAFETY1_A0A21C23.png
END:VEVENT
BEGIN:VEVENT
DTSTART;TZID=America/New_York:20240603T110000
DTEND;TZID=America/New_York:20240603T130000
DTSTAMP:20260424T201651
CREATED:20240530T003149Z
LAST-MODIFIED:20240530T003149Z
UID:10016929-1717412400-1717419600@goodmorningwilton.com
SUMMARY:Scams and More Scams: How to Recognize Them and How to Avoid Them
DESCRIPTION:All are aware of the number of scams people encounter daily. Join Lieutenant David Hartman\, Sergeant Jonathan Patry and Offficer Graham O’Gorman of the Wilton Police Department for a presentation at Wilton Library that will give residents information on how scams work\, how to identify a scam\, how to avoid scams\, and what to do if you fall victim to a scam. \nFeel free to bring a snack or lunch if desired. \nRegistration is suggested online.
URL:https://goodmorningwilton.com/event/scams-and-more-scams-how-to-recognize-them-and-how-to-avoid-them/
LOCATION:Wilton Library\, 137 Old Ridgefield Rd.\, Wilton\, CT\, 06987
CATEGORIES:discussion,Educational,Library,Presentation,Seniors
ATTACH;FMTTYPE=image/png:https://goodmorningwilton.com/wp-content/uploads/2024/05/scam-1572528660-e1701729695560.png
END:VEVENT
END:VCALENDAR