BEGIN:VCALENDAR
VERSION:2.0
PRODID:-//Good Morning Wilton - ECPv6.15.20//NONSGML v1.0//EN
CALSCALE:GREGORIAN
METHOD:PUBLISH
X-ORIGINAL-URL:https://goodmorningwilton.com
X-WR-CALDESC:Events for Good Morning Wilton
REFRESH-INTERVAL;VALUE=DURATION:PT1H
X-Robots-Tag:noindex
X-PUBLISHED-TTL:PT1H
BEGIN:VTIMEZONE
TZID:America/New_York
BEGIN:DAYLIGHT
TZOFFSETFROM:-0500
TZOFFSETTO:-0400
TZNAME:EDT
DTSTART:20200308T070000
END:DAYLIGHT
BEGIN:STANDARD
TZOFFSETFROM:-0400
TZOFFSETTO:-0500
TZNAME:EST
DTSTART:20201101T060000
END:STANDARD
BEGIN:DAYLIGHT
TZOFFSETFROM:-0500
TZOFFSETTO:-0400
TZNAME:EDT
DTSTART:20210314T070000
END:DAYLIGHT
BEGIN:STANDARD
TZOFFSETFROM:-0400
TZOFFSETTO:-0500
TZNAME:EST
DTSTART:20211107T060000
END:STANDARD
BEGIN:DAYLIGHT
TZOFFSETFROM:-0500
TZOFFSETTO:-0400
TZNAME:EDT
DTSTART:20220313T070000
END:DAYLIGHT
BEGIN:STANDARD
TZOFFSETFROM:-0400
TZOFFSETTO:-0500
TZNAME:EST
DTSTART:20221106T060000
END:STANDARD
BEGIN:DAYLIGHT
TZOFFSETFROM:-0500
TZOFFSETTO:-0400
TZNAME:EDT
DTSTART:20230312T070000
END:DAYLIGHT
BEGIN:STANDARD
TZOFFSETFROM:-0400
TZOFFSETTO:-0500
TZNAME:EST
DTSTART:20231105T060000
END:STANDARD
BEGIN:DAYLIGHT
TZOFFSETFROM:-0500
TZOFFSETTO:-0400
TZNAME:EDT
DTSTART:20240310T070000
END:DAYLIGHT
BEGIN:STANDARD
TZOFFSETFROM:-0400
TZOFFSETTO:-0500
TZNAME:EST
DTSTART:20241103T060000
END:STANDARD
END:VTIMEZONE
BEGIN:VEVENT
DTSTART;TZID=America/New_York:20210307T103000
DTEND;TZID=America/New_York:20210307T103000
DTSTAMP:20260424T100824
CREATED:20210305T201419Z
LAST-MODIFIED:20210305T203533Z
UID:10009224-1615113000-1615113000@goodmorningwilton.com
SUMMARY:Ambler Farm Apprentice Program Open House
DESCRIPTION:Ambler Farm is looking for new apprentices to join our youth Apprentice Program\, a unique six-month program for students currently in grades 5-12. New apprentices are limited to students currently enrolled in grades 5-8. \nThis is an extraordinary hands-on program. Parents and prospective apprentices must attend one of the open houses on March 7th or 14th at 10:30 AM\, 12:00 PM\, or 1:30 PM. The purpose of the open house is to help prospective apprentices understand the nature of and the expectations for the program to ensure it is a good fit. The Open Houses are the deadline for new apprentices to express interest in the program. \nVisit the Ambler Farm website to learn more about the Apprentice Program.
URL:https://goodmorningwilton.com/event/ambler-farm-apprentice-program-open-house/2021-03-07/1/
LOCATION:Ambler Farm\, 257 Hurlbutt Street\, Wilton\, CT\, 06897
CATEGORIES:Kids,Open House,Teens
ATTACH;FMTTYPE=image/jpeg:https://goodmorningwilton.com/wp-content/uploads/2021/03/Ambler-Farm-Apprentice-.jpg
ORGANIZER;CN="Ambler Farm":MAILTO:info@amblerfarm.org
END:VEVENT
BEGIN:VEVENT
DTSTART;TZID=America/New_York:20210307T120000
DTEND;TZID=America/New_York:20210307T170000
DTSTAMP:20260424T100824
CREATED:20210305T201419Z
LAST-MODIFIED:20210305T203533Z
UID:10009225-1615118400-1615136400@goodmorningwilton.com
SUMMARY:Ambler Farm Apprentice Program Open House
DESCRIPTION:Ambler Farm is looking for new apprentices to join our youth Apprentice Program\, a unique six-month program for students currently in grades 5-12. New apprentices are limited to students currently enrolled in grades 5-8. \nThis is an extraordinary hands-on program. Parents and prospective apprentices must attend one of the open houses on March 7th or 14th at 10:30 AM\, 12:00 PM\, or 1:30 PM. The purpose of the open house is to help prospective apprentices understand the nature of and the expectations for the program to ensure it is a good fit. The Open Houses are the deadline for new apprentices to express interest in the program. \nVisit the Ambler Farm website to learn more about the Apprentice Program.
URL:https://goodmorningwilton.com/event/ambler-farm-apprentice-program-open-house/2021-03-07/2/
LOCATION:Ambler Farm\, 257 Hurlbutt Street\, Wilton\, CT\, 06897
CATEGORIES:Kids,Open House,Teens
ATTACH;FMTTYPE=image/jpeg:https://goodmorningwilton.com/wp-content/uploads/2021/03/Ambler-Farm-Apprentice-.jpg
ORGANIZER;CN="Ambler Farm":MAILTO:info@amblerfarm.org
END:VEVENT
BEGIN:VEVENT
DTSTART;TZID=America/New_York:20210307T133000
DTEND;TZID=America/New_York:20210307T170000
DTSTAMP:20260424T100824
CREATED:20210305T201419Z
LAST-MODIFIED:20210305T203533Z
UID:10009226-1615123800-1615136400@goodmorningwilton.com
SUMMARY:Ambler Farm Apprentice Program Open House
DESCRIPTION:Ambler Farm is looking for new apprentices to join our youth Apprentice Program\, a unique six-month program for students currently in grades 5-12. New apprentices are limited to students currently enrolled in grades 5-8. \nThis is an extraordinary hands-on program. Parents and prospective apprentices must attend one of the open houses on March 7th or 14th at 10:30 AM\, 12:00 PM\, or 1:30 PM. The purpose of the open house is to help prospective apprentices understand the nature of and the expectations for the program to ensure it is a good fit. The Open Houses are the deadline for new apprentices to express interest in the program. \nVisit the Ambler Farm website to learn more about the Apprentice Program.
URL:https://goodmorningwilton.com/event/ambler-farm-apprentice-program-open-house/2021-03-07/3/
LOCATION:Ambler Farm\, 257 Hurlbutt Street\, Wilton\, CT\, 06897
CATEGORIES:Kids,Open House,Teens
ATTACH;FMTTYPE=image/jpeg:https://goodmorningwilton.com/wp-content/uploads/2021/03/Ambler-Farm-Apprentice-.jpg
ORGANIZER;CN="Ambler Farm":MAILTO:info@amblerfarm.org
END:VEVENT
BEGIN:VEVENT
DTSTART;TZID=America/New_York:20210307T140000
DTEND;TZID=America/New_York:20210307T170000
DTSTAMP:20260424T100824
CREATED:20210224T155917Z
LAST-MODIFIED:20210313T195746Z
UID:10009211-1615125600-1615136400@goodmorningwilton.com
SUMMARY:Lake Club Open House
DESCRIPTION:sponsored post\nCome see what makes the Lake Club Fairfield County’s finest family club of its kind. With a highly active\, year-round social program\, two swimming pools\, both 3m and 1m diving boards\, 12 har-tru tennis courts – four lit for evening play – five platform tennis courts and a magnificent water setting with canoes and kayaks\, it’s a one-of-a-kind gem on the New Canaan/Wilton border. Children are most welcome. Please wear masks. \nWe will be meeting outside at the beautiful Spectator Hut above the tennis courts. \nThe Lake Club is located at 165 Thayer Pond Rd.\, Wilton.
URL:https://goodmorningwilton.com/event/lake-club-open-house/2021-03-07/
LOCATION:Lake Club\, 165 Thayer Pond Road\, Wilton\, 06897\, United States
CATEGORIES:Club,Family Event,Free,Open House,Outdoor Event,Sponsored Post
ATTACH;FMTTYPE=image/png:https://goodmorningwilton.com/wp-content/uploads/2021/02/large-event-march-21-image.png
END:VEVENT
BEGIN:VEVENT
DTSTART;TZID=America/New_York:20210314T103000
DTEND;TZID=America/New_York:20210314T103000
DTSTAMP:20260424T100824
CREATED:20210305T201419Z
LAST-MODIFIED:20210305T203533Z
UID:10009227-1615717800-1615717800@goodmorningwilton.com
SUMMARY:Ambler Farm Apprentice Program Open House
DESCRIPTION:Ambler Farm is looking for new apprentices to join our youth Apprentice Program\, a unique six-month program for students currently in grades 5-12. New apprentices are limited to students currently enrolled in grades 5-8. \nThis is an extraordinary hands-on program. Parents and prospective apprentices must attend one of the open houses on March 7th or 14th at 10:30 AM\, 12:00 PM\, or 1:30 PM. The purpose of the open house is to help prospective apprentices understand the nature of and the expectations for the program to ensure it is a good fit. The Open Houses are the deadline for new apprentices to express interest in the program. \nVisit the Ambler Farm website to learn more about the Apprentice Program.
URL:https://goodmorningwilton.com/event/ambler-farm-apprentice-program-open-house/2021-03-14/1/
LOCATION:Ambler Farm\, 257 Hurlbutt Street\, Wilton\, CT\, 06897
CATEGORIES:Kids,Open House,Teens
ATTACH;FMTTYPE=image/jpeg:https://goodmorningwilton.com/wp-content/uploads/2021/03/Ambler-Farm-Apprentice-.jpg
ORGANIZER;CN="Ambler Farm":MAILTO:info@amblerfarm.org
END:VEVENT
BEGIN:VEVENT
DTSTART;TZID=America/New_York:20210314T120000
DTEND;TZID=America/New_York:20210314T170000
DTSTAMP:20260424T100824
CREATED:20210305T201419Z
LAST-MODIFIED:20210305T203533Z
UID:10009228-1615723200-1615741200@goodmorningwilton.com
SUMMARY:Ambler Farm Apprentice Program Open House
DESCRIPTION:Ambler Farm is looking for new apprentices to join our youth Apprentice Program\, a unique six-month program for students currently in grades 5-12. New apprentices are limited to students currently enrolled in grades 5-8. \nThis is an extraordinary hands-on program. Parents and prospective apprentices must attend one of the open houses on March 7th or 14th at 10:30 AM\, 12:00 PM\, or 1:30 PM. The purpose of the open house is to help prospective apprentices understand the nature of and the expectations for the program to ensure it is a good fit. The Open Houses are the deadline for new apprentices to express interest in the program. \nVisit the Ambler Farm website to learn more about the Apprentice Program.
URL:https://goodmorningwilton.com/event/ambler-farm-apprentice-program-open-house/2021-03-14/2/
LOCATION:Ambler Farm\, 257 Hurlbutt Street\, Wilton\, CT\, 06897
CATEGORIES:Kids,Open House,Teens
ATTACH;FMTTYPE=image/jpeg:https://goodmorningwilton.com/wp-content/uploads/2021/03/Ambler-Farm-Apprentice-.jpg
ORGANIZER;CN="Ambler Farm":MAILTO:info@amblerfarm.org
END:VEVENT
BEGIN:VEVENT
DTSTART;TZID=America/New_York:20210314T133000
DTEND;TZID=America/New_York:20210314T170000
DTSTAMP:20260424T100824
CREATED:20210305T201419Z
LAST-MODIFIED:20210305T203533Z
UID:10009229-1615728600-1615741200@goodmorningwilton.com
SUMMARY:Ambler Farm Apprentice Program Open House
DESCRIPTION:Ambler Farm is looking for new apprentices to join our youth Apprentice Program\, a unique six-month program for students currently in grades 5-12. New apprentices are limited to students currently enrolled in grades 5-8. \nThis is an extraordinary hands-on program. Parents and prospective apprentices must attend one of the open houses on March 7th or 14th at 10:30 AM\, 12:00 PM\, or 1:30 PM. The purpose of the open house is to help prospective apprentices understand the nature of and the expectations for the program to ensure it is a good fit. The Open Houses are the deadline for new apprentices to express interest in the program. \nVisit the Ambler Farm website to learn more about the Apprentice Program.
URL:https://goodmorningwilton.com/event/ambler-farm-apprentice-program-open-house/2021-03-14/3/
LOCATION:Ambler Farm\, 257 Hurlbutt Street\, Wilton\, CT\, 06897
CATEGORIES:Kids,Open House,Teens
ATTACH;FMTTYPE=image/jpeg:https://goodmorningwilton.com/wp-content/uploads/2021/03/Ambler-Farm-Apprentice-.jpg
ORGANIZER;CN="Ambler Farm":MAILTO:info@amblerfarm.org
END:VEVENT
BEGIN:VEVENT
DTSTART;TZID=America/New_York:20210321T140000
DTEND;TZID=America/New_York:20210321T170000
DTSTAMP:20260424T100824
CREATED:20210224T155917Z
LAST-MODIFIED:20210313T195746Z
UID:10009212-1616335200-1616346000@goodmorningwilton.com
SUMMARY:Lake Club Open House
DESCRIPTION:sponsored post\nCome see what makes the Lake Club Fairfield County’s finest family club of its kind. With a highly active\, year-round social program\, two swimming pools\, both 3m and 1m diving boards\, 12 har-tru tennis courts – four lit for evening play – five platform tennis courts and a magnificent water setting with canoes and kayaks\, it’s a one-of-a-kind gem on the New Canaan/Wilton border. Children are most welcome. Please wear masks. \nWe will be meeting outside at the beautiful Spectator Hut above the tennis courts. \nThe Lake Club is located at 165 Thayer Pond Rd.\, Wilton.
URL:https://goodmorningwilton.com/event/lake-club-open-house/2021-03-21/
LOCATION:Lake Club\, 165 Thayer Pond Road\, Wilton\, 06897\, United States
CATEGORIES:Club,Family Event,Free,Open House,Outdoor Event,Sponsored Post
ATTACH;FMTTYPE=image/png:https://goodmorningwilton.com/wp-content/uploads/2021/02/large-event-march-21-image.png
END:VEVENT
BEGIN:VEVENT
DTSTART;TZID=America/New_York:20210327T103000
DTEND;TZID=America/New_York:20210327T123000
DTSTAMP:20260424T100824
CREATED:20210309T140257Z
LAST-MODIFIED:20210309T221726Z
UID:10010569-1616841000-1616848200@goodmorningwilton.com
SUMMARY:Wilton Family YMCA Preschool Open House
DESCRIPTION:Join us for the Wilton Family YMCA Preschool Open House\, Saturday\, March 27th\, 10:30 am-12:30 pm. \nOperating out of the Wilton YMCA Branch\, the program offers swim lessons\, Zumba\, music\, yoga\, STEAM\, STEM\, CATCH\, and cooking classes in addition to a quality curriculum. \nThe program follows the Connecticut Early Learning and Development Standards with a focus on kindergarten-readiness education. Offering both small group and whole-group activities\, students participate in “hands-on” learning\, fostering important social-emotional skills\, early literacy\, and physical development. \nThe Wilton Family YMCA Preschool is fully licensed\, operating under the Office of Early Childhood Guidance in order to mitigate against Covid-19. Policy & Procedure can be found on the Y’s website. \nRegister here.  \nFor more information\, please email or call (202.762.8384 ext. 293) Kimberly Fejes\, Preschool & School Age Childcare Director.
URL:https://goodmorningwilton.com/event/wilton-family-ymca-preschool-open-house/
LOCATION:Wilton YMCA\, 404 Danbury Rd.\, Wilton\, CT\, 06897\, United States
CATEGORIES:Educational,Open House
ATTACH;FMTTYPE=image/png:https://goodmorningwilton.com/wp-content/uploads/2021/03/Screen-Shot-2021-03-09-at-9.00.19-AM-1.png
ORGANIZER;CN="Riverbrook Regional YMCA":MAILTO:cfreedman@riverbrookymca.org
GEO:41.2116373;-73.4291811
X-APPLE-STRUCTURED-LOCATION;VALUE=URI;X-ADDRESS=Wilton YMCA 404 Danbury Rd. Wilton CT 06897 United States;X-APPLE-RADIUS=500;X-TITLE=404 Danbury Rd.:geo:-73.4291811,41.2116373
END:VEVENT
BEGIN:VEVENT
DTSTART;TZID=America/New_York:20210725T113000
DTEND;TZID=America/New_York:20210725T130000
DTSTAMP:20260424T100824
CREATED:20210719T123050Z
LAST-MODIFIED:20210722T120747Z
UID:10010801-1627212600-1627218000@goodmorningwilton.com
SUMMARY:St. Matthews Episcopal Church Open House
DESCRIPTION:St. Matthews Episcopal Church is holding an open house on Sunday\, July 25 at 11:30 am. Come meet the new Director of Music\, Director of the Children’s Ministry\, and enjoy free ice cream.
URL:https://goodmorningwilton.com/event/st-matthews-episcopal-church-open-house/
LOCATION:St. Matthews Episcopal Church\, 36 New Canaan Road\, Wilton\, CT\, 06897\, United States
CATEGORIES:Churches,Family Event,Open House
ATTACH;FMTTYPE=image/png:https://goodmorningwilton.com/wp-content/uploads/2015/12/St.-Matthews.png
END:VEVENT
BEGIN:VEVENT
DTSTART;TZID=America/New_York:20210913T100000
DTEND;TZID=America/New_York:20210913T113000
DTSTAMP:20260424T100824
CREATED:20210906T221904Z
LAST-MODIFIED:20210907T213839Z
UID:10009465-1631527200-1631532600@goodmorningwilton.com
SUMMARY:Wilton Woman's Club General Meeting and Fall Fashion Show
DESCRIPTION:The Wilton Woman’s Club will begin the new year in the fashion forefront with the latest trends from the fall runway in New York featured in our local participating stores: Blue Star Bazaar\, Champagne Taste\, Open House\, Signature Style\, B Chic\, and Snappy Gator. Stylists from these stores will be on hand at WEPCO (48 New Canaan Rd) on Tuesday\, Sept 13\, 10:00 am to 11:30 am to discuss the fashion statements and colors and to help with any wardrobe questions you may have. This event is a chance for you to become part of a vibrant group of active Wilton women who care about what is happening in the community. Register online.
URL:https://goodmorningwilton.com/event/wilton-womans-club-general-meeting-and-fall-fashion-show/
LOCATION:WEPCO\, 48 New Canaan Road\, Wilton\, CT\, 06897\, United States
CATEGORIES:Fashion Show,Women
ATTACH;FMTTYPE=image/jpeg:https://goodmorningwilton.com/wp-content/uploads/2021/09/fullsizeoutput_519e.jpg
GEO:41.1733031;-73.4464767
X-APPLE-STRUCTURED-LOCATION;VALUE=URI;X-ADDRESS=WEPCO 48 New Canaan Road Wilton CT 06897 United States;X-APPLE-RADIUS=500;X-TITLE=48 New Canaan Road:geo:-73.4464767,41.1733031
END:VEVENT
BEGIN:VEVENT
DTSTART;TZID=America/New_York:20210918T140000
DTEND;TZID=America/New_York:20210918T160000
DTSTAMP:20260424T100824
CREATED:20210916T172857Z
LAST-MODIFIED:20210917T115034Z
UID:10009475-1631973600-1631980800@goodmorningwilton.com
SUMMARY:Wilton Cub Scouts' New Joiner Open House
DESCRIPTION:On Saturday\, Sept. 18\, from 2-4 p.m.\, WiltonPack22 is hosting an open house for families interested in signing up their children for the Cub Scouts. There will be fun activities for all ages. More information is available via email. \nWiltonPack22 Cub Scouts consists of boys and girls grades K-5. Groups are broken up by age\, also known as a Den (Bobcat/Kindergarten\, Tiger/first grade\, Wolf/second grade\, Bear/third grade\, Webelo/fourth grade\, and Arrow of Light/fifth grade)\, that meet once a month\, either in person or virtually. Additionally\, there is a monthly pack meeting. Throughout the year\, the group engages in various community service\, life skill and outdoor skills lessons\, and fun group activities.
URL:https://goodmorningwilton.com/event/wilton-cub-scouts-to-hold-new-joiner-open-house/
LOCATION:WEPCO\, 48 New Canaan Road\, Wilton\, CT\, 06897\, United States
CATEGORIES:Club,Family Event,Free,Kids,Open House,Outdoor Event
ATTACH;FMTTYPE=image/png:https://goodmorningwilton.com/wp-content/uploads/2021/09/Wilton-Pack-22-2021-open-house-flyer.png
GEO:41.1733031;-73.4464767
X-APPLE-STRUCTURED-LOCATION;VALUE=URI;X-ADDRESS=WEPCO 48 New Canaan Road Wilton CT 06897 United States;X-APPLE-RADIUS=500;X-TITLE=48 New Canaan Road:geo:-73.4464767,41.1733031
END:VEVENT
BEGIN:VEVENT
DTSTART;TZID=America/New_York:20220423T100000
DTEND;TZID=America/New_York:20220423T150000
DTSTAMP:20260424T100824
CREATED:20220404T200823Z
LAST-MODIFIED:20220421T230809Z
UID:10011226-1650708000-1650726000@goodmorningwilton.com
SUMMARY:Wilton Reads: Wilton Library History Room Open House (In-Person)
DESCRIPTION:In conjunction with this year’s Wilton Reads program\, please take this opportunity to visit the Wilton History Room at Wilton Library during an “open house” day on Saturday\, April 23. \nVisit this wonderful\, professionally organized collection of local historical information\, documents\, maps\, and photographs. The Wilton Historical Society owns about half the archives\, the WLA another quarter\, and the remaining items belong to the Wilton Garden Club\, the Kiwanis Club\, and other local organizations. \nThe Wilton History Room is supported by the WHS\, the WLA\, the Russell Fund\, the History Room Fund\, local non-profit organizations\, individual donors\, and the community. No registration is necessary. Just come and visit. Please call 203.762.6330 for more information.
URL:https://goodmorningwilton.com/event/wilton-reads-wilton-library-history-room-open-house-in-person/
LOCATION:Wilton Library
CATEGORIES:Educational,Historic,Library,Open House
ATTACH;FMTTYPE=image/jpeg:https://goodmorningwilton.com/wp-content/uploads/2022/04/Fitch-Family-ca-1880.jpeg
ORGANIZER;CN="Wilton Library":MAILTO:publicity@wiltonlibrary.org
END:VEVENT
BEGIN:VEVENT
DTSTART;TZID=America/New_York:20230601T183000
DTEND;TZID=America/New_York:20230601T200000
DTSTAMP:20260424T100824
CREATED:20230509T204914Z
LAST-MODIFIED:20230509T205036Z
UID:10011933-1685644200-1685649600@goodmorningwilton.com
SUMMARY:A TASTE OF TRACKSIDE
DESCRIPTION:Join Trackside Teen Center for an ice cream social open house! Meet the staff\, learn about programs\, hear from the leaders and check out the refreshed interior. \nOpen to all rising 6th graders and families NEW to Trackside.  Register online.
URL:https://goodmorningwilton.com/event/a-taste-of-trackside/
LOCATION:Trackside Teen Center\, 15 Station Road\, Wilton\, CT\, 06897\, United States
CATEGORIES:Free,Kids,Not for profit,Open House,Teens
ATTACH;FMTTYPE=image/png:https://goodmorningwilton.com/wp-content/uploads/2023/05/savingPNG-5-1.png
END:VEVENT
BEGIN:VEVENT
DTSTART;TZID=America/New_York:20230907T183000
DTEND;TZID=America/New_York:20230907T200000
DTSTAMP:20260424T100824
CREATED:20230814T103719Z
LAST-MODIFIED:20230814T103719Z
UID:10012512-1694111400-1694116800@goodmorningwilton.com
SUMMARY:Open House & Ice Cream Social at Trackside
DESCRIPTION:Come meet the staff of Trackside and hear from Wilton High School leaders\, the Board and special guest\, Toni Boucher. \nEnjoy ice cream from The College Creamery!
URL:https://goodmorningwilton.com/event/open-house-ice-cream-social-at-trackside/
LOCATION:Trackside Teen Center\, 15 Station Road\, Wilton\, CT\, 06897\, United States
CATEGORIES:Community Events,Food,Free,Open House,Schools,Teens
ATTACH;FMTTYPE=image/png:https://goodmorningwilton.com/wp-content/uploads/2023/08/IMG_3138-2.png
END:VEVENT
END:VCALENDAR