BEGIN:VCALENDAR
VERSION:2.0
PRODID:-//Good Morning Wilton - ECPv6.15.20//NONSGML v1.0//EN
CALSCALE:GREGORIAN
METHOD:PUBLISH
X-WR-CALNAME:Good Morning Wilton
X-ORIGINAL-URL:https://goodmorningwilton.com
X-WR-CALDESC:Events for Good Morning Wilton
REFRESH-INTERVAL;VALUE=DURATION:PT1H
X-Robots-Tag:noindex
X-PUBLISHED-TTL:PT1H
BEGIN:VTIMEZONE
TZID:America/New_York
BEGIN:DAYLIGHT
TZOFFSETFROM:-0500
TZOFFSETTO:-0400
TZNAME:EDT
DTSTART:20230312T070000
END:DAYLIGHT
BEGIN:STANDARD
TZOFFSETFROM:-0400
TZOFFSETTO:-0500
TZNAME:EST
DTSTART:20231105T060000
END:STANDARD
BEGIN:DAYLIGHT
TZOFFSETFROM:-0500
TZOFFSETTO:-0400
TZNAME:EDT
DTSTART:20240310T070000
END:DAYLIGHT
BEGIN:STANDARD
TZOFFSETFROM:-0400
TZOFFSETTO:-0500
TZNAME:EST
DTSTART:20241103T060000
END:STANDARD
BEGIN:DAYLIGHT
TZOFFSETFROM:-0500
TZOFFSETTO:-0400
TZNAME:EDT
DTSTART:20250309T070000
END:DAYLIGHT
BEGIN:STANDARD
TZOFFSETFROM:-0400
TZOFFSETTO:-0500
TZNAME:EST
DTSTART:20251102T060000
END:STANDARD
END:VTIMEZONE
BEGIN:VEVENT
DTSTART;TZID=America/New_York:20240306T190000
DTEND;TZID=America/New_York:20240306T200000
DTSTAMP:20260425T160533
CREATED:20240228T022922Z
LAST-MODIFIED:20240228T022922Z
UID:10015651-1709751600-1709755200@goodmorningwilton.com
SUMMARY:Author Talk: Patrick Bringley on his Memoir: All the Beauty in the World: The Metropolitan Museum of Art and Me
DESCRIPTION:Join Wilton Library for a special Author Talk with Patrick Bringley. He shares his debut memoir\, All the Beauty in the World: The Metropolitan Museum of Art and Me. This is an intimate look at The Met and its profound effect on Bringley’s life while he grieved the death of his older brother. \nCaught up in his fledgling career at the New Yorker in his mid-twenties\, Bringley’s life suddenly changed with his adored older brother’s terminal cancer diagnosis. He consequently quit his job and looked for solace and quiet in the most beautiful place he knew: The Met. He spent the next decade as a museum guard. \nOver the years\, as his bonds with his colleagues and the art grew\, he came to understand how fortunate he was to be walled off in this little world. He also realized how much it resembled the best aspects of the larger world to which he gradually\, gratefully returned. \nAll the Beauty in the World has been named a Best Book of the Year by the New York Public Library\, NPR\, the Financial Times\, and Audible. The Sunday Times (London) even selected it as the Outstanding Art Book of 2023. It is additionally published in translated editions around the world. \nBringley leads public and private tours of The Met and lectures at venues around the country\, living with his wife and children in Sunset Park\, Brooklyn. \nElm Street Books will sell copies and Bringley will sign books after the talk. A portion of the proceeds goes to Wilton Library. \nGOOD Morning Wilton is the media sponsor of this event. \nRegistration is required online.
URL:https://goodmorningwilton.com/event/author-talk-patrick-bringley-on-his-memoir-all-the-beauty-in-the-world-the-metropolitan-museum-of-art-and-me/
LOCATION:Wilton Library\, 137 Old Ridgefield Rd.\, Wilton\, CT\, 06987
CATEGORIES:Book Signing,Community Events,discussion,Free,Library,Presentation
ATTACH;FMTTYPE=image/jpeg:https://goodmorningwilton.com/wp-content/uploads/2024/02/PATRICK_BRINGLEY_ALL_THE_BEAUTY_IN_THE_WORLD_V2_71E62B84cropped.jpg
END:VEVENT
END:VCALENDAR