BEGIN:VCALENDAR
VERSION:2.0
PRODID:-//Good Morning Wilton - ECPv6.15.20//NONSGML v1.0//EN
CALSCALE:GREGORIAN
METHOD:PUBLISH
X-ORIGINAL-URL:https://goodmorningwilton.com
X-WR-CALDESC:Events for Good Morning Wilton
REFRESH-INTERVAL;VALUE=DURATION:PT1H
X-Robots-Tag:noindex
X-PUBLISHED-TTL:PT1H
BEGIN:VTIMEZONE
TZID:America/New_York
BEGIN:DAYLIGHT
TZOFFSETFROM:-0500
TZOFFSETTO:-0400
TZNAME:EDT
DTSTART:20220313T070000
END:DAYLIGHT
BEGIN:STANDARD
TZOFFSETFROM:-0400
TZOFFSETTO:-0500
TZNAME:EST
DTSTART:20221106T060000
END:STANDARD
BEGIN:DAYLIGHT
TZOFFSETFROM:-0500
TZOFFSETTO:-0400
TZNAME:EDT
DTSTART:20230312T070000
END:DAYLIGHT
BEGIN:STANDARD
TZOFFSETFROM:-0400
TZOFFSETTO:-0500
TZNAME:EST
DTSTART:20231105T060000
END:STANDARD
BEGIN:DAYLIGHT
TZOFFSETFROM:-0500
TZOFFSETTO:-0400
TZNAME:EDT
DTSTART:20240310T070000
END:DAYLIGHT
BEGIN:STANDARD
TZOFFSETFROM:-0400
TZOFFSETTO:-0500
TZNAME:EST
DTSTART:20241103T060000
END:STANDARD
END:VTIMEZONE
BEGIN:VEVENT
DTSTART;TZID=America/New_York:20231128T180000
DTEND;TZID=America/New_York:20231128T193000
DTSTAMP:20260423T155807
CREATED:20231122T111409Z
LAST-MODIFIED:20231122T111409Z
UID:10013811-1701194400-1701199800@goodmorningwilton.com
SUMMARY:Paint It Up
DESCRIPTION:Join Wilton Library for a fun and relaxing evening of painting. Wilton Library will supply the canvas\, paints\, brushes and a collection of masterpieces to copy and inspire you. No art experience required. Just a desire to pick up a brush\, have fun and let your inner self out! \nFor adults\, ages 18+. Space is limited. Registration is required. Register on the Wilton Library website.
URL:https://goodmorningwilton.com/event/paint-it-up-2/
LOCATION:Wilton Library\, 137 Old Ridgefield Rd.\, Wilton\, CT\, 06987
CATEGORIES:Arts,craft,Create!,Free,Library,Not for profit
ATTACH;FMTTYPE=image/jpeg:https://goodmorningwilton.com/wp-content/uploads/2023/11/PaintItUpJADESTEPHENSWHVO1XKIDVWUNSPLASH_84CA5C64.jpg
END:VEVENT
END:VCALENDAR