BEGIN:VCALENDAR
VERSION:2.0
PRODID:-//Good Morning Wilton - ECPv6.15.20//NONSGML v1.0//EN
CALSCALE:GREGORIAN
METHOD:PUBLISH
X-ORIGINAL-URL:https://goodmorningwilton.com
X-WR-CALDESC:Events for Good Morning Wilton
REFRESH-INTERVAL;VALUE=DURATION:PT1H
X-Robots-Tag:noindex
X-PUBLISHED-TTL:PT1H
BEGIN:VTIMEZONE
TZID:America/New_York
BEGIN:DAYLIGHT
TZOFFSETFROM:-0500
TZOFFSETTO:-0400
TZNAME:EDT
DTSTART:20230312T070000
END:DAYLIGHT
BEGIN:STANDARD
TZOFFSETFROM:-0400
TZOFFSETTO:-0500
TZNAME:EST
DTSTART:20231105T060000
END:STANDARD
BEGIN:DAYLIGHT
TZOFFSETFROM:-0500
TZOFFSETTO:-0400
TZNAME:EDT
DTSTART:20240310T070000
END:DAYLIGHT
BEGIN:STANDARD
TZOFFSETFROM:-0400
TZOFFSETTO:-0500
TZNAME:EST
DTSTART:20241103T060000
END:STANDARD
BEGIN:DAYLIGHT
TZOFFSETFROM:-0500
TZOFFSETTO:-0400
TZNAME:EDT
DTSTART:20250309T070000
END:DAYLIGHT
BEGIN:STANDARD
TZOFFSETFROM:-0400
TZOFFSETTO:-0500
TZNAME:EST
DTSTART:20251102T060000
END:STANDARD
BEGIN:DAYLIGHT
TZOFFSETFROM:-0500
TZOFFSETTO:-0400
TZNAME:EDT
DTSTART:20260308T070000
END:DAYLIGHT
BEGIN:STANDARD
TZOFFSETFROM:-0400
TZOFFSETTO:-0500
TZNAME:EST
DTSTART:20261101T060000
END:STANDARD
END:VTIMEZONE
BEGIN:VEVENT
DTSTART;TZID=America/New_York:20240313T190000
DTEND;TZID=America/New_York:20240313T203000
DTSTAMP:20260422T020841
CREATED:20240227T013527Z
LAST-MODIFIED:20240227T013527Z
UID:10015624-1710356400-1710361800@goodmorningwilton.com
SUMMARY:Strengthen Growing Brains: How to Empower ALL Types of Learners for Success in School and Life
DESCRIPTION:SPED*NET\, in partnership with Wilton Public Schools and Newtown Sped PTA\, presents this webinar. \nSharon Saline\, PsyD\, will teach parents concrete strategies to meet neurodivergent learners where they are and help them strengthen essential executive functioning skills. With current research on the developing brain and real-life case examples\, she shows attendees how and why executive functioning skills are critical to the learning process for all children and teens\, especially for kids with ADHD\, learning disabilities\, level one autism and twice-exceptionality. Dr. Saline also discusses tools for improving motivation\, overcoming conflicts\, building collaborations\, and managing common anxiety. \nParticipants will leave this presentation with practical\, tangible strategies for identifying and nurturing cognitive strengths in children\, reducing daily family conflicts and fostering essential self-confidence. \nRegistration is required and available here.
URL:https://goodmorningwilton.com/event/strengthen-growing-brains-how-to-empower-all-types-of-learners-for-success-in-school-and-life/
LOCATION:online webinar
CATEGORIES:Educational,Parenting,Webinar,Zoom Call
ATTACH;FMTTYPE=image/jpeg:https://goodmorningwilton.com/wp-content/uploads/2024/02/Sharon-Saline-new-scaled.jpg
ORGANIZER;CN="SPED*NET":MAILTO:info@spednet.org
END:VEVENT
BEGIN:VEVENT
DTSTART;TZID=America/New_York:20250211T103000
DTEND;TZID=America/New_York:20250211T123000
DTSTAMP:20260422T020841
CREATED:20250125T180814Z
LAST-MODIFIED:20250125T180814Z
UID:10018789-1739269800-1739277000@goodmorningwilton.com
SUMMARY:Parenting in Partnership: Blending Perspectives and Perceptions for More Strategic Parenting
DESCRIPTION:Being the parent of a child with special needs is often a confusing\, frustrating and deflating experience. The different experiences each parent has with their children can contribute to quite different perspectives on how best to guide them. \nIt’s a struggle to parent from the same page when we sometimes question if we’re even in the same book. School psychologist David P. Sylvestro\, MA\, CSP\, will discuss how parents can work to better sync their parenting philosophies and policies to be on the same page. Topics include enhancing parents’ knowledge base related to their child’s overall profile\, practicing the language of effective conflict resolution and expanding their affective vocabulary — the language of emotions. \nThis free event is an in-person presentation. Register online. \nPresented by SPED*NET in partnership with Wilton Public Schools\, Wilton Library and Newtown Sped PTA.
URL:https://goodmorningwilton.com/event/parenting-in-partnership-blending-perspectives-and-perceptions-for-more-strategic-parenting/
LOCATION:Wilton Library\, 137 Old Ridgefield Rd.\, Wilton\, CT\, 06987
CATEGORIES:discussion,Free,Library,Parenting,Presentation,Schools
ATTACH;FMTTYPE=image/jpeg:https://goodmorningwilton.com/wp-content/uploads/2025/01/David-Sylvestro-jp-320-400.jpg
ORGANIZER;CN="SPED*NET":MAILTO:info@spednet.org
END:VEVENT
END:VCALENDAR