BEGIN:VCALENDAR
VERSION:2.0
PRODID:-//Good Morning Wilton - ECPv6.15.20//NONSGML v1.0//EN
CALSCALE:GREGORIAN
METHOD:PUBLISH
X-WR-CALNAME:Good Morning Wilton
X-ORIGINAL-URL:https://goodmorningwilton.com
X-WR-CALDESC:Events for Good Morning Wilton
REFRESH-INTERVAL;VALUE=DURATION:PT1H
X-Robots-Tag:noindex
X-PUBLISHED-TTL:PT1H
BEGIN:VTIMEZONE
TZID:America/New_York
BEGIN:DAYLIGHT
TZOFFSETFROM:-0500
TZOFFSETTO:-0400
TZNAME:EDT
DTSTART:20240310T070000
END:DAYLIGHT
BEGIN:STANDARD
TZOFFSETFROM:-0400
TZOFFSETTO:-0500
TZNAME:EST
DTSTART:20241103T060000
END:STANDARD
BEGIN:DAYLIGHT
TZOFFSETFROM:-0500
TZOFFSETTO:-0400
TZNAME:EDT
DTSTART:20250309T070000
END:DAYLIGHT
BEGIN:STANDARD
TZOFFSETFROM:-0400
TZOFFSETTO:-0500
TZNAME:EST
DTSTART:20251102T060000
END:STANDARD
BEGIN:DAYLIGHT
TZOFFSETFROM:-0500
TZOFFSETTO:-0400
TZNAME:EDT
DTSTART:20260308T070000
END:DAYLIGHT
BEGIN:STANDARD
TZOFFSETFROM:-0400
TZOFFSETTO:-0500
TZNAME:EST
DTSTART:20261101T060000
END:STANDARD
END:VTIMEZONE
BEGIN:VEVENT
DTSTART;TZID=America/New_York:20251110T103000
DTEND;TZID=America/New_York:20251110T123000
DTSTAMP:20260423T201612
CREATED:20251028T160019Z
LAST-MODIFIED:20251028T160019Z
UID:10020021-1762770600-1762777800@goodmorningwilton.com
SUMMARY:Free Presentation: Calm First\, Learn Later (A Regulation Roadmap for Parents)
DESCRIPTION:For parents of children ages 4-12 (elementary and middle school). \n\n\nWhen kids are dysregulated — whether they’re melting down\, shutting down\, or just plain stuck—it can feel impossible to reach them\, let alone help them learn. The truth is\, kids can’t access logic\, focus\, or problem-solving until they feel safe and regulated. \n\n\nIn this engaging and practical talk\, special education teacher Charlie Del Santo will discuss simple\, proven strategies to support children through stress\, shutdowns and big emotions\, so they can return to a place where listening\, learning and connection are possible. \nParticipants will leave this presentation with: \n\nA clear understanding of what’s happening in your child’s brain and body during moments of dysregulation\nEveryday tools to use before\, during and after dysregulation to help your child reset\nA ready-to-use “parent toolbox” of calming phrases\, routines and supports for home\n\nMore About Charlie Del Santo \n\n\nPresented by SPED*NET in partnership with Wilton Library\, Wilton Public Schools\, Wilton Youth Council and Newtown Sped PTA
URL:https://goodmorningwilton.com/event/free-presentation-calm-first-learn-later-a-regulation-roadmap-for-parents/
LOCATION:Wilton Library\, 137 Old Ridgefield Rd.\, Wilton\, CT\, 06987
CATEGORIES:Presentation,Schools
ATTACH;FMTTYPE=image/jpeg:https://goodmorningwilton.com/wp-content/uploads/2025/10/Charlie-Del-Santo.jpg
ORGANIZER;CN="SPED*NET":MAILTO:info@spednet.org
END:VEVENT
END:VCALENDAR