BEGIN:VCALENDAR
VERSION:2.0
PRODID:-//Good Morning Wilton - ECPv6.15.20//NONSGML v1.0//EN
CALSCALE:GREGORIAN
METHOD:PUBLISH
X-ORIGINAL-URL:https://goodmorningwilton.com
X-WR-CALDESC:Events for Good Morning Wilton
REFRESH-INTERVAL;VALUE=DURATION:PT1H
X-Robots-Tag:noindex
X-PUBLISHED-TTL:PT1H
BEGIN:VTIMEZONE
TZID:America/New_York
BEGIN:DAYLIGHT
TZOFFSETFROM:-0500
TZOFFSETTO:-0400
TZNAME:EDT
DTSTART:20170312T070000
END:DAYLIGHT
BEGIN:STANDARD
TZOFFSETFROM:-0400
TZOFFSETTO:-0500
TZNAME:EST
DTSTART:20171105T060000
END:STANDARD
BEGIN:DAYLIGHT
TZOFFSETFROM:-0500
TZOFFSETTO:-0400
TZNAME:EDT
DTSTART:20180311T070000
END:DAYLIGHT
BEGIN:STANDARD
TZOFFSETFROM:-0400
TZOFFSETTO:-0500
TZNAME:EST
DTSTART:20181104T060000
END:STANDARD
BEGIN:DAYLIGHT
TZOFFSETFROM:-0500
TZOFFSETTO:-0400
TZNAME:EDT
DTSTART:20190310T070000
END:DAYLIGHT
BEGIN:STANDARD
TZOFFSETFROM:-0400
TZOFFSETTO:-0500
TZNAME:EST
DTSTART:20191103T060000
END:STANDARD
END:VTIMEZONE
BEGIN:VEVENT
DTSTART;TZID=America/New_York:20180928T180000
DTEND;TZID=America/New_York:20180928T210000
DTSTAMP:20260424T022315
CREATED:20180921T072500Z
LAST-MODIFIED:20180928T174343Z
UID:10008135-1538157600-1538168400@goodmorningwilton.com
SUMMARY:Wilton Parks & Recreation Presents FREE Family Movie Night–NEW INDOOR LOCATION
DESCRIPTION:Wilton Parks and Recreation is putting on a free movie night for Wilton residents on Friday\, Sept. 28\, with a showing of Disney/Pixar’s Coco. The movie will run from 7:15-9 p.m. at Merwin Meadows Park. Free popcorn will be given out on a first come\, first serve basis until it runs out. \n*The event location has been changed to the Cider Mill School Gym.\nBring a non-alcoholic beverage and any picnic items you may want with your chair or blankets and enjoy the outdoor movie experience. Come early to get your space and have a picnic on the grass or at one of the picnic tables in the park. \nNo pets please. Pets are not allowed in the park. The inclement weather location is the Cider Mill School lower gym. Organizers will have a sign at Merwin if the venue is changed.
URL:https://goodmorningwilton.com/event/wilton-parks-recreation-presents-free-family-movie-night/
LOCATION:Merwin Meadows\, 52 Lovers Ln\, Wilton\, CT
CATEGORIES:Community Events,Family Event,Film,Free,Kids,Screening
ATTACH;FMTTYPE=image/jpeg:https://goodmorningwilton.com/wp-content/uploads/2018/09/movie-night-coco-09-28-2018-1.jpg
ORGANIZER;CN="Wilton Parks and Recreation":MAILTO:parksandrec@wiltonct.org
GEO:41.197245;-73.4354331
X-APPLE-STRUCTURED-LOCATION;VALUE=URI;X-ADDRESS=Merwin Meadows 52 Lovers Ln Wilton CT;X-APPLE-RADIUS=500;X-TITLE=52 Lovers Ln:geo:-73.4354331,41.197245
END:VEVENT
BEGIN:VEVENT
DTSTART;TZID=America/New_York:20181027T173000
DTEND;TZID=America/New_York:20181027T190000
DTSTAMP:20260424T022315
CREATED:20181022T103553Z
LAST-MODIFIED:20181022T103553Z
UID:10008258-1540661400-1540666800@goodmorningwilton.com
SUMMARY:Free Movie Night
DESCRIPTION:Wilton Parks and Recreation is putting on another free movie night for Wilton residents\, on Saturday\, Oct. 27. The Disney movie\, The Nightmare Before Christmas will run from 5:30-7 p.m. at the Cider Mill Lower Gym. \nThe showing is designed to allow children to attend the Pumpkin Parade in Wilton Center and then come to the movie in costume. Bring a non-alcoholic beverage and any picnic items you may want with your chair or blankets and enjoy the movie experience. Feel free to come as soon as you are done with the Pumpkin Parade\, to get your spot in the gym.
URL:https://goodmorningwilton.com/event/free-movie-night/
LOCATION:Cider Mill School Gym\, 240 School Rd\, Wilton\, 06897\, United States
CATEGORIES:Family Event,Film,Free,Kids,Presentation,Screening
ATTACH;FMTTYPE=image/jpeg:https://goodmorningwilton.com/wp-content/uploads/2018/10/the-nightmare-before-christmas-poster.jpg
ORGANIZER;CN="Wilton Parks and Recreation":MAILTO:parksandrec@wiltonct.org
END:VEVENT
END:VCALENDAR