BEGIN:VCALENDAR
VERSION:2.0
PRODID:-//Good Morning Wilton - ECPv6.15.20//NONSGML v1.0//EN
CALSCALE:GREGORIAN
METHOD:PUBLISH
X-WR-CALNAME:Good Morning Wilton
X-ORIGINAL-URL:https://goodmorningwilton.com
X-WR-CALDESC:Events for Good Morning Wilton
REFRESH-INTERVAL;VALUE=DURATION:PT1H
X-Robots-Tag:noindex
X-PUBLISHED-TTL:PT1H
BEGIN:VTIMEZONE
TZID:America/New_York
BEGIN:DAYLIGHT
TZOFFSETFROM:-0500
TZOFFSETTO:-0400
TZNAME:EDT
DTSTART:20210314T070000
END:DAYLIGHT
BEGIN:STANDARD
TZOFFSETFROM:-0400
TZOFFSETTO:-0500
TZNAME:EST
DTSTART:20211107T060000
END:STANDARD
BEGIN:DAYLIGHT
TZOFFSETFROM:-0500
TZOFFSETTO:-0400
TZNAME:EDT
DTSTART:20220313T070000
END:DAYLIGHT
BEGIN:STANDARD
TZOFFSETFROM:-0400
TZOFFSETTO:-0500
TZNAME:EST
DTSTART:20221106T060000
END:STANDARD
BEGIN:DAYLIGHT
TZOFFSETFROM:-0500
TZOFFSETTO:-0400
TZNAME:EDT
DTSTART:20230312T070000
END:DAYLIGHT
BEGIN:STANDARD
TZOFFSETFROM:-0400
TZOFFSETTO:-0500
TZNAME:EST
DTSTART:20231105T060000
END:STANDARD
BEGIN:DAYLIGHT
TZOFFSETFROM:-0500
TZOFFSETTO:-0400
TZNAME:EDT
DTSTART:20240310T070000
END:DAYLIGHT
BEGIN:STANDARD
TZOFFSETFROM:-0400
TZOFFSETTO:-0500
TZNAME:EST
DTSTART:20241103T060000
END:STANDARD
END:VTIMEZONE
BEGIN:VEVENT
DTSTART;TZID=America/New_York:20220506T160000
DTEND;TZID=America/New_York:20220506T170000
DTSTAMP:20260425T093822
CREATED:20220428T142324Z
LAST-MODIFIED:20220428T175617Z
UID:10011240-1651852800-1651856400@goodmorningwilton.com
SUMMARY:Wilton Library: Children's Garden Club
DESCRIPTION:Do you love being outside and getting your hands dirty? Garden Club might be the place for you! \nChildren in grades Kindergarten and up and a participating adult are invited to join our Wilton Children’s Library staff in planting and maintaining the Library’s Children’s Garden. Children will learn about gardening\, hear stories\, and get hands-on experience planting\, weeding\, watering and otherwise maintaining the garden throughout the spring\, summer\, and into the fall. \nRegistration required. To register\, visit the Wilton Library’s website.
URL:https://goodmorningwilton.com/event/wilton-library-childrens-garden-club/2022-05-06/
LOCATION:Wilton Library
CATEGORIES:Free,Kids,Library,Nature
ATTACH;FMTTYPE=image/jpeg:https://goodmorningwilton.com/wp-content/uploads/2022/04/PLANTS4963049_1280_F6FD2EF2-e1651168493104.jpg
ORGANIZER;CN="Wilton Library":MAILTO:publicity@wiltonlibrary.org
END:VEVENT
BEGIN:VEVENT
DTSTART;TZID=America/New_York:20220513T160000
DTEND;TZID=America/New_York:20220513T170000
DTSTAMP:20260425T093822
CREATED:20220428T142324Z
LAST-MODIFIED:20220428T175617Z
UID:10011241-1652457600-1652461200@goodmorningwilton.com
SUMMARY:Wilton Library: Children's Garden Club
DESCRIPTION:Do you love being outside and getting your hands dirty? Garden Club might be the place for you! \nChildren in grades Kindergarten and up and a participating adult are invited to join our Wilton Children’s Library staff in planting and maintaining the Library’s Children’s Garden. Children will learn about gardening\, hear stories\, and get hands-on experience planting\, weeding\, watering and otherwise maintaining the garden throughout the spring\, summer\, and into the fall. \nRegistration required. To register\, visit the Wilton Library’s website.
URL:https://goodmorningwilton.com/event/wilton-library-childrens-garden-club/2022-05-13/
LOCATION:Wilton Library
CATEGORIES:Free,Kids,Library,Nature
ATTACH;FMTTYPE=image/jpeg:https://goodmorningwilton.com/wp-content/uploads/2022/04/PLANTS4963049_1280_F6FD2EF2-e1651168493104.jpg
ORGANIZER;CN="Wilton Library":MAILTO:publicity@wiltonlibrary.org
END:VEVENT
BEGIN:VEVENT
DTSTART;TZID=America/New_York:20220520T160000
DTEND;TZID=America/New_York:20220520T170000
DTSTAMP:20260425T093822
CREATED:20220428T142324Z
LAST-MODIFIED:20220428T175617Z
UID:10011242-1653062400-1653066000@goodmorningwilton.com
SUMMARY:Wilton Library: Children's Garden Club
DESCRIPTION:Do you love being outside and getting your hands dirty? Garden Club might be the place for you! \nChildren in grades Kindergarten and up and a participating adult are invited to join our Wilton Children’s Library staff in planting and maintaining the Library’s Children’s Garden. Children will learn about gardening\, hear stories\, and get hands-on experience planting\, weeding\, watering and otherwise maintaining the garden throughout the spring\, summer\, and into the fall. \nRegistration required. To register\, visit the Wilton Library’s website.
URL:https://goodmorningwilton.com/event/wilton-library-childrens-garden-club/2022-05-20/
LOCATION:Wilton Library
CATEGORIES:Free,Kids,Library,Nature
ATTACH;FMTTYPE=image/jpeg:https://goodmorningwilton.com/wp-content/uploads/2022/04/PLANTS4963049_1280_F6FD2EF2-e1651168493104.jpg
ORGANIZER;CN="Wilton Library":MAILTO:publicity@wiltonlibrary.org
END:VEVENT
BEGIN:VEVENT
DTSTART;TZID=America/New_York:20220805T160000
DTEND;TZID=America/New_York:20220805T170000
DTSTAMP:20260425T093822
CREATED:20220722T151905Z
LAST-MODIFIED:20220725T033011Z
UID:10011385-1659715200-1659718800@goodmorningwilton.com
SUMMARY:Children's Garden Club
DESCRIPTION:Do you love being outside and getting your hands dirty? Garden Club might be the place for you! \nChildren in grades Kindergarten and up and a participating adult are invited to join our Children’s Library staff in planting and maintaining the library’s Children’s Garden. Children will learn about gardening\, hear stories\, and get hands-on experience planting\, weeding\, watering and otherwise maintaining the garden throughout the spring\, summer\, and into the fall. \nRegistration required. Garden Club will be cancelled on inclement weather days. This program is full\, please contact the Children’s Library with any further questions at 203-762-6336. Masks recommended for any time spent inside.
URL:https://goodmorningwilton.com/event/childrens-garden-club/2022-08-05/
LOCATION:Wilton Library
CATEGORIES:Kids,Library,Nature
ATTACH;FMTTYPE=image/jpeg:https://goodmorningwilton.com/wp-content/uploads/2022/07/PLANTS4963049_1280_F6FD2EF2-e1658719803780.jpg
ORGANIZER;CN="Wilton Library":MAILTO:publicity@wiltonlibrary.org
END:VEVENT
BEGIN:VEVENT
DTSTART;TZID=America/New_York:20220819T160000
DTEND;TZID=America/New_York:20220819T170000
DTSTAMP:20260425T093822
CREATED:20220722T151905Z
LAST-MODIFIED:20220725T033011Z
UID:10011386-1660924800-1660928400@goodmorningwilton.com
SUMMARY:Children's Garden Club
DESCRIPTION:Do you love being outside and getting your hands dirty? Garden Club might be the place for you! \nChildren in grades Kindergarten and up and a participating adult are invited to join our Children’s Library staff in planting and maintaining the library’s Children’s Garden. Children will learn about gardening\, hear stories\, and get hands-on experience planting\, weeding\, watering and otherwise maintaining the garden throughout the spring\, summer\, and into the fall. \nRegistration required. Garden Club will be cancelled on inclement weather days. This program is full\, please contact the Children’s Library with any further questions at 203-762-6336. Masks recommended for any time spent inside.
URL:https://goodmorningwilton.com/event/childrens-garden-club/2022-08-19/
LOCATION:Wilton Library
CATEGORIES:Kids,Library,Nature
ATTACH;FMTTYPE=image/jpeg:https://goodmorningwilton.com/wp-content/uploads/2022/07/PLANTS4963049_1280_F6FD2EF2-e1658719803780.jpg
ORGANIZER;CN="Wilton Library":MAILTO:publicity@wiltonlibrary.org
END:VEVENT
BEGIN:VEVENT
DTSTART;TZID=America/New_York:20230302T153000
DTEND;TZID=America/New_York:20230302T170000
DTSTAMP:20260425T093822
CREATED:20230217T205759Z
LAST-MODIFIED:20230309T143736Z
UID:10011739-1677771000-1677776400@goodmorningwilton.com
SUMMARY:Get Down and Dirty with the Green Team — CANCELED
DESCRIPTION:This series has been canceled.\nThe Wilton Garden Club\, Wilton Go Green\, and the Wilton Conservation Commission are teaming up to offer a series of gardening workshops. \nMarch 2: Winter Seed Sowing  \nAnne Djupedal Gura and Wayne Gura\, co-chairs of the Wilton Garden Club Conservation Committee\, will help you support the environment by making a mini greenhouse where you will sow native plant seeds to take home and care for over the winter. \nMarch 9: Pollinator Pathways & Growing Your Own Natives \nJackie Algon\, Wilton Garden Club member and chair of the Wilton Conservation Commission\, will teach you about the different types of pollinators and their importance. You will learn about the Pollinator Pathway and how to get on it! \nDave Havens\, a retired science teacher from St. Luke’s School\, a Wilton Go Green board member\, and vice president of the Norwalk River Watershed Association\, will show you how to upcycle to make your own growing pots where you will grow native\, pollinator-friendly flowers or vegetables to bring home. \nMarch 16: Garden Art & Floral Arranging \nDana Wolfson\, Wilton Garden Club member and local art teacher\, will lead you through a few garden art projects using recycled materials that you have around the house. \nGretchen Kilmartin and Michelle Klink\, Wilton Garden Club members\, will teach you some simple floral arranging techniques. You get to take your arrangement home with you! \nMarch 23: Recycling\, Zero Waste & Backyard Composting \nTammy Thornton\, president of Wilton Go Green\, will take you through food and household items that can be recycled. There is so much to learn about how to properly recycle. Also\, learn about the new food scrap recycling initiative and how you can get your kit. \nJackie Algon\, Wilton Garden Club member and chair of the Wilton Conservation Commission\, will talk to you about backyard composting. You will meet her pet worms and see how they are making their own compost! \n$50 for the entire series.  Open to non-member. \nRegister online.
URL:https://goodmorningwilton.com/event/get-down-and-dirty-with-the-green-team/2023-03-02/
LOCATION:Trackside Teen Center\, 15 Station Road\, Wilton\, CT\, 06897\, United States
CATEGORIES:Class,Educational,Environmental,For profit,Nature,Workshop
ATTACH;FMTTYPE=image/png:https://goodmorningwilton.com/wp-content/uploads/2023/02/IMG_3744.png
END:VEVENT
BEGIN:VEVENT
DTSTART;TZID=America/New_York:20230309T153000
DTEND;TZID=America/New_York:20230309T170000
DTSTAMP:20260425T093822
CREATED:20230217T205759Z
LAST-MODIFIED:20230309T143736Z
UID:10011740-1678375800-1678381200@goodmorningwilton.com
SUMMARY:Get Down and Dirty with the Green Team — CANCELED
DESCRIPTION:This series has been canceled.\nThe Wilton Garden Club\, Wilton Go Green\, and the Wilton Conservation Commission are teaming up to offer a series of gardening workshops. \nMarch 2: Winter Seed Sowing  \nAnne Djupedal Gura and Wayne Gura\, co-chairs of the Wilton Garden Club Conservation Committee\, will help you support the environment by making a mini greenhouse where you will sow native plant seeds to take home and care for over the winter. \nMarch 9: Pollinator Pathways & Growing Your Own Natives \nJackie Algon\, Wilton Garden Club member and chair of the Wilton Conservation Commission\, will teach you about the different types of pollinators and their importance. You will learn about the Pollinator Pathway and how to get on it! \nDave Havens\, a retired science teacher from St. Luke’s School\, a Wilton Go Green board member\, and vice president of the Norwalk River Watershed Association\, will show you how to upcycle to make your own growing pots where you will grow native\, pollinator-friendly flowers or vegetables to bring home. \nMarch 16: Garden Art & Floral Arranging \nDana Wolfson\, Wilton Garden Club member and local art teacher\, will lead you through a few garden art projects using recycled materials that you have around the house. \nGretchen Kilmartin and Michelle Klink\, Wilton Garden Club members\, will teach you some simple floral arranging techniques. You get to take your arrangement home with you! \nMarch 23: Recycling\, Zero Waste & Backyard Composting \nTammy Thornton\, president of Wilton Go Green\, will take you through food and household items that can be recycled. There is so much to learn about how to properly recycle. Also\, learn about the new food scrap recycling initiative and how you can get your kit. \nJackie Algon\, Wilton Garden Club member and chair of the Wilton Conservation Commission\, will talk to you about backyard composting. You will meet her pet worms and see how they are making their own compost! \n$50 for the entire series.  Open to non-member. \nRegister online.
URL:https://goodmorningwilton.com/event/get-down-and-dirty-with-the-green-team/2023-03-09/
LOCATION:Trackside Teen Center\, 15 Station Road\, Wilton\, CT\, 06897\, United States
CATEGORIES:Class,Educational,Environmental,For profit,Nature,Workshop
ATTACH;FMTTYPE=image/png:https://goodmorningwilton.com/wp-content/uploads/2023/02/IMG_3744.png
END:VEVENT
BEGIN:VEVENT
DTSTART;TZID=America/New_York:20230316T153000
DTEND;TZID=America/New_York:20230316T170000
DTSTAMP:20260425T093822
CREATED:20230217T205759Z
LAST-MODIFIED:20230309T143736Z
UID:10011741-1678980600-1678986000@goodmorningwilton.com
SUMMARY:Get Down and Dirty with the Green Team — CANCELED
DESCRIPTION:This series has been canceled.\nThe Wilton Garden Club\, Wilton Go Green\, and the Wilton Conservation Commission are teaming up to offer a series of gardening workshops. \nMarch 2: Winter Seed Sowing  \nAnne Djupedal Gura and Wayne Gura\, co-chairs of the Wilton Garden Club Conservation Committee\, will help you support the environment by making a mini greenhouse where you will sow native plant seeds to take home and care for over the winter. \nMarch 9: Pollinator Pathways & Growing Your Own Natives \nJackie Algon\, Wilton Garden Club member and chair of the Wilton Conservation Commission\, will teach you about the different types of pollinators and their importance. You will learn about the Pollinator Pathway and how to get on it! \nDave Havens\, a retired science teacher from St. Luke’s School\, a Wilton Go Green board member\, and vice president of the Norwalk River Watershed Association\, will show you how to upcycle to make your own growing pots where you will grow native\, pollinator-friendly flowers or vegetables to bring home. \nMarch 16: Garden Art & Floral Arranging \nDana Wolfson\, Wilton Garden Club member and local art teacher\, will lead you through a few garden art projects using recycled materials that you have around the house. \nGretchen Kilmartin and Michelle Klink\, Wilton Garden Club members\, will teach you some simple floral arranging techniques. You get to take your arrangement home with you! \nMarch 23: Recycling\, Zero Waste & Backyard Composting \nTammy Thornton\, president of Wilton Go Green\, will take you through food and household items that can be recycled. There is so much to learn about how to properly recycle. Also\, learn about the new food scrap recycling initiative and how you can get your kit. \nJackie Algon\, Wilton Garden Club member and chair of the Wilton Conservation Commission\, will talk to you about backyard composting. You will meet her pet worms and see how they are making their own compost! \n$50 for the entire series.  Open to non-member. \nRegister online.
URL:https://goodmorningwilton.com/event/get-down-and-dirty-with-the-green-team/2023-03-16/
LOCATION:Trackside Teen Center\, 15 Station Road\, Wilton\, CT\, 06897\, United States
CATEGORIES:Class,Educational,Environmental,For profit,Nature,Workshop
ATTACH;FMTTYPE=image/png:https://goodmorningwilton.com/wp-content/uploads/2023/02/IMG_3744.png
END:VEVENT
BEGIN:VEVENT
DTSTART;TZID=America/New_York:20230320T093000
DTEND;TZID=America/New_York:20230320T110000
DTSTAMP:20260425T093822
CREATED:20230310T100532Z
LAST-MODIFIED:20230310T100532Z
UID:10010413-1679304600-1679310000@goodmorningwilton.com
SUMMARY:Ambler Farm Home Garden Workshop with Farmer Jonathan
DESCRIPTION:Do you ever wish your garden would yield the same beautiful produce that Ambler Farm‘s own Farmer Jonathan Kirschner grows? It can! Now is the time to start planning for your home garden. Jonathan\, Ambler Farm’s director of agriculture\, is offering this workshop to guide you on your way to the most bountiful home garden. He will walk through the steps that he takes at Ambler Farm and how to adapt these processes for your own garden. Topics Jonathan will discuss include: crop selection\, starting seedlings\, timing\, spacing\, basic soil nutrition and home composting\, and basic garden design. \n$35 for nonmembers; $30 for members; Registration is required. Register on the Ambler Farm website. \nFarmer Jonathan is also available for one-on-one consultations at your home garden. If interested\, please contact him via email.
URL:https://goodmorningwilton.com/event/ambler-farm-home-garden-workshop-with-farmer-jonathan-2/
LOCATION:Ambler Farm\, 257 Hurlbutt Street\, Wilton\, CT\, 06897
CATEGORIES:Environmental,Nature,Not for profit,Workshop
ATTACH;FMTTYPE=image/jpeg:https://goodmorningwilton.com/wp-content/uploads/2023/03/Home-Garden-Workshop-image.jpg
ORGANIZER;CN="Ambler Farm":MAILTO:info@amblerfarm.org
END:VEVENT
BEGIN:VEVENT
DTSTART;TZID=America/New_York:20230323T153000
DTEND;TZID=America/New_York:20230323T170000
DTSTAMP:20260425T093822
CREATED:20230217T205759Z
LAST-MODIFIED:20230309T143736Z
UID:10011742-1679585400-1679590800@goodmorningwilton.com
SUMMARY:Get Down and Dirty with the Green Team — CANCELED
DESCRIPTION:This series has been canceled.\nThe Wilton Garden Club\, Wilton Go Green\, and the Wilton Conservation Commission are teaming up to offer a series of gardening workshops. \nMarch 2: Winter Seed Sowing  \nAnne Djupedal Gura and Wayne Gura\, co-chairs of the Wilton Garden Club Conservation Committee\, will help you support the environment by making a mini greenhouse where you will sow native plant seeds to take home and care for over the winter. \nMarch 9: Pollinator Pathways & Growing Your Own Natives \nJackie Algon\, Wilton Garden Club member and chair of the Wilton Conservation Commission\, will teach you about the different types of pollinators and their importance. You will learn about the Pollinator Pathway and how to get on it! \nDave Havens\, a retired science teacher from St. Luke’s School\, a Wilton Go Green board member\, and vice president of the Norwalk River Watershed Association\, will show you how to upcycle to make your own growing pots where you will grow native\, pollinator-friendly flowers or vegetables to bring home. \nMarch 16: Garden Art & Floral Arranging \nDana Wolfson\, Wilton Garden Club member and local art teacher\, will lead you through a few garden art projects using recycled materials that you have around the house. \nGretchen Kilmartin and Michelle Klink\, Wilton Garden Club members\, will teach you some simple floral arranging techniques. You get to take your arrangement home with you! \nMarch 23: Recycling\, Zero Waste & Backyard Composting \nTammy Thornton\, president of Wilton Go Green\, will take you through food and household items that can be recycled. There is so much to learn about how to properly recycle. Also\, learn about the new food scrap recycling initiative and how you can get your kit. \nJackie Algon\, Wilton Garden Club member and chair of the Wilton Conservation Commission\, will talk to you about backyard composting. You will meet her pet worms and see how they are making their own compost! \n$50 for the entire series.  Open to non-member. \nRegister online.
URL:https://goodmorningwilton.com/event/get-down-and-dirty-with-the-green-team/2023-03-23/
LOCATION:Trackside Teen Center\, 15 Station Road\, Wilton\, CT\, 06897\, United States
CATEGORIES:Class,Educational,Environmental,For profit,Nature,Workshop
ATTACH;FMTTYPE=image/png:https://goodmorningwilton.com/wp-content/uploads/2023/02/IMG_3744.png
END:VEVENT
BEGIN:VEVENT
DTSTART;TZID=America/New_York:20230406T161500
DTEND;TZID=America/New_York:20230406T170000
DTSTAMP:20260425T093822
CREATED:20230403T171531Z
LAST-MODIFIED:20230403T171531Z
UID:10010486-1680797700-1680800400@goodmorningwilton.com
SUMMARY:Wilton Reads: Milk Carton Flower Garden
DESCRIPTION:In this fun Wilton Reads program at Wilton Library\, gardeners in grades K-5 and their families can transform half-gallon milk and juice cartons into beautiful flower planters. All supplies will be provided\, but feel free to bring your own half-gallon cartons and wear clothes that can get dirty! \nNo registration is required.
URL:https://goodmorningwilton.com/event/wilton-reads-milk-carton-flower-garden/
LOCATION:Wilton Library\, 137 Old Ridgefield Rd.\, Wilton\, CT\, 06987
CATEGORIES:craft,Create!,Environmental,Free,Kids,Library,Nature,Not for profit
ATTACH;FMTTYPE=image/jpeg:https://goodmorningwilton.com/wp-content/uploads/2023/04/MILKCARTONPLANTER_89806040.jpg
END:VEVENT
BEGIN:VEVENT
DTSTART;TZID=America/New_York:20230416T140000
DTEND;TZID=America/New_York:20230416T150000
DTSTAMP:20260425T093822
CREATED:20230412T184040Z
LAST-MODIFIED:20230412T184203Z
UID:10011796-1681653600-1681657200@goodmorningwilton.com
SUMMARY:Earth Day Terrariums for Teens
DESCRIPTION:Celebrate Earth Day at Wilton Library by making a beautiful terrarium in the library’s courtyard (weather permitting). A terrarium is a miniature garden made in a glass container. \nThis program is suitable for teens in Grades 6-12 only. Registration is required and space is limited.  This is an outdoor program and will be rescheduled if the weather forecast is not favorable.  All supplies will be provided. To register\, visit the Wilton Library’s website.
URL:https://goodmorningwilton.com/event/earth-day-terrariums-for-teens/
LOCATION:Wilton Library\, 137 Old Ridgefield Rd.\, Wilton\, CT\, 06987
CATEGORIES:Arts,craft,Create!,Free,Library,Nature,Not for profit,Teens
ATTACH;FMTTYPE=image/jpeg:https://goodmorningwilton.com/wp-content/uploads/2023/04/ARTANDSOILBANGALORE6NCPCLOZWU4UNSPLASH_3CA19B08.jpg
END:VEVENT
BEGIN:VEVENT
DTSTART;TZID=America/New_York:20230422T100000
DTEND;TZID=America/New_York:20230422T120000
DTSTAMP:20260425T093822
CREATED:20230412T145126Z
LAST-MODIFIED:20230412T145126Z
UID:10011788-1682157600-1682164800@goodmorningwilton.com
SUMMARY:Trekking Together:  A Spring Wildflower Hike
DESCRIPTION:Join members of Wilton Land Trust and Woodcock Nature Center as they lead you on a hike to explore the world of spring ephemerals. You’ll have the chance to spot\, identify\, and learn about a variety of ephemerals\, including trillium\, bloodroot\, twin leaf\, false rue anemone\, and wild ginger. \nSo\, grab your water bottle\, supportive shoes\, tick repellant\, camera\, and binoculars for a morning of adventure and learning.  Don’t forget to leave your furry friends at home so we don’t scare away any potential wildlife! \nThe hike starts and ends at the Trailhead of Marble/Van Haelewyn Center Richards Preserve\, located at the end of Abbott Lane in Wilton.  To register for the hike\, visit the Wilton Land Trust’s website.
URL:https://goodmorningwilton.com/event/trekking-together-a-spring-wildflower-hike/
LOCATION:Marble/Van Haelewyn-Richards Center Preserve\, Abbott Lane\, Wilton\, 06897
CATEGORIES:Educational,Environmental,Free,Nature,Not for profit,Walk/Hike
ATTACH;FMTTYPE=image/png:https://goodmorningwilton.com/wp-content/uploads/2023/04/E5932F34-8BFA-46D3-BF7E-E3D4F3482A2D.png
END:VEVENT
END:VCALENDAR