BEGIN:VCALENDAR
VERSION:2.0
PRODID:-//Good Morning Wilton - ECPv6.15.20//NONSGML v1.0//EN
CALSCALE:GREGORIAN
METHOD:PUBLISH
X-WR-CALNAME:Good Morning Wilton
X-ORIGINAL-URL:https://goodmorningwilton.com
X-WR-CALDESC:Events for Good Morning Wilton
REFRESH-INTERVAL;VALUE=DURATION:PT1H
X-Robots-Tag:noindex
X-PUBLISHED-TTL:PT1H
BEGIN:VTIMEZONE
TZID:America/New_York
BEGIN:DAYLIGHT
TZOFFSETFROM:-0500
TZOFFSETTO:-0400
TZNAME:EDT
DTSTART:20230312T070000
END:DAYLIGHT
BEGIN:STANDARD
TZOFFSETFROM:-0400
TZOFFSETTO:-0500
TZNAME:EST
DTSTART:20231105T060000
END:STANDARD
BEGIN:DAYLIGHT
TZOFFSETFROM:-0500
TZOFFSETTO:-0400
TZNAME:EDT
DTSTART:20240310T070000
END:DAYLIGHT
BEGIN:STANDARD
TZOFFSETFROM:-0400
TZOFFSETTO:-0500
TZNAME:EST
DTSTART:20241103T060000
END:STANDARD
BEGIN:DAYLIGHT
TZOFFSETFROM:-0500
TZOFFSETTO:-0400
TZNAME:EDT
DTSTART:20250309T070000
END:DAYLIGHT
BEGIN:STANDARD
TZOFFSETFROM:-0400
TZOFFSETTO:-0500
TZNAME:EST
DTSTART:20251102T060000
END:STANDARD
END:VTIMEZONE
BEGIN:VEVENT
DTSTART;TZID=America/New_York:20240518T090000
DTEND;TZID=America/New_York:20240518T120000
DTSTAMP:20260422T213050
CREATED:20240408T234055Z
LAST-MODIFIED:20240408T234055Z
UID:10015821-1716022800-1716033600@goodmorningwilton.com
SUMMARY:Community Shred Day
DESCRIPTION:Circle of Care and Wilton Go Green are co-hosting a community shred day! Start gathering all sensitive documents and bring them down to the shredding truck. Attendees will park and bring their items over to the shred truck where you can also learn more about Circle of Care and Wilton Go Green as well as enter a raffle! \nWilton Go Green promotes engaging\, educating and inspiring green living. \nCircle of Care supports CT families of children with cancer with financial\, practical and emotional support. \nAll proceeds will benefit these two Wilton-based non-profits. Suggested donation of $20/bag or box. Maximum of 5 per person.
URL:https://goodmorningwilton.com/event/community-shred-day-3/
LOCATION:Fairfield Couny Bank\, 190 Old Ridgefield Rd.\, Wilton\, CT\, 06897\, United States
CATEGORIES:Community Events,Environmental,Not for profit
ATTACH;FMTTYPE=image/png:https://goodmorningwilton.com/wp-content/uploads/2024/04/2024-Community-Shred-Day-8.5-x-11-in-Instagram-Post-2.png
ORGANIZER;CN="Circle of Care":MAILTO:info@thecircleofcare.org
END:VEVENT
BEGIN:VEVENT
DTSTART;TZID=America/New_York:20240518T090000
DTEND;TZID=America/New_York:20240518T120000
DTSTAMP:20260422T213050
CREATED:20240319T005513Z
LAST-MODIFIED:20240319T005513Z
UID:10015690-1716022800-1716033600@goodmorningwilton.com
SUMMARY:Community Shred Day
DESCRIPTION:Wilton Go Green and Circle of Care are co-hosting the 2nd Annual Community Shred Day. Residents can bring up to 5 boxes of paper to be placed in the Shred-It Truck. \nNow that tax season is almost over\, start gathering sensitive documents and bring them down to the shredding event. A secure shred truck will be on site for the event. Attendees will park and bring their items over to the shred truck also learn more about Circle of Care and Wilton Go Green. Enter a raffle as well! Volunteers will be on hand for anyone who needs assistance. \nSuggested donation of $20 per bag/box to support the work of Circle of Care and Wilton Go Green \nFairfield County Bank generously hosts and John Schiaroli of William Pitt Sotheby’s sponsors the Shred Truck. \nCircle of Care is a non-profit organization dedicated to supporting childhood cancer patients and their families for their entire experience\, from day of diagnosis to wherever the journey leads. It vows to continue until no parent has to hear the words\, “your child has cancer.” To learn more about Circle of Care\, visit the organization’s website. \nWilton Go Green is a non-profit organization dedicated to engaging\, educating and inspiring green living. Learn more online.
URL:https://goodmorningwilton.com/event/community-shred-day-2/
LOCATION:Fairfield Couny Bank\, 190 Old Ridgefield Rd.\, Wilton\, CT\, 06897\, United States
CATEGORIES:Community Events,Environmental
ATTACH;FMTTYPE=image/png:https://goodmorningwilton.com/wp-content/uploads/2024/03/2024-Community-Shred-Day-8.5-x-11-in-Instagram-Post-2.png
ORGANIZER;CN="Wilton Go Green":MAILTO:info@wiltongogreen.org
END:VEVENT
BEGIN:VEVENT
DTSTART;TZID=America/New_York:20240921T193000
DTEND;TZID=America/New_York:20240921T213000
DTSTAMP:20260422T213050
CREATED:20240917T012215Z
LAST-MODIFIED:20240917T012215Z
UID:10018087-1726947000-1726954200@goodmorningwilton.com
SUMMARY:20th Anniversary Celebration @TRACKSIDE
DESCRIPTION:Celebrate twenty years 0f Trackside serving our teens and town. Enjoy music\, mingling\, bubbly and light bites and some great raffle prizes from local businesses. Learn more here.
URL:https://goodmorningwilton.com/event/20th-anniversary-celebration-trackside/
LOCATION:Trackside Teen Center\, 15 Station Road\, Wilton\, CT\, 06897\, United States
CATEGORIES:5K,Art Exhibit,Community Celebration,Concert
ATTACH;FMTTYPE=image/jpeg:https://goodmorningwilton.com/wp-content/uploads/2024/09/20thpartygraphic.jpg
END:VEVENT
END:VCALENDAR