BEGIN:VCALENDAR
VERSION:2.0
PRODID:-//Good Morning Wilton - ECPv6.15.20//NONSGML v1.0//EN
CALSCALE:GREGORIAN
METHOD:PUBLISH
X-ORIGINAL-URL:https://goodmorningwilton.com
X-WR-CALDESC:Events for Good Morning Wilton
REFRESH-INTERVAL;VALUE=DURATION:PT1H
X-Robots-Tag:noindex
X-PUBLISHED-TTL:PT1H
BEGIN:VTIMEZONE
TZID:America/New_York
BEGIN:DAYLIGHT
TZOFFSETFROM:-0500
TZOFFSETTO:-0400
TZNAME:EDT
DTSTART:20220313T070000
END:DAYLIGHT
BEGIN:STANDARD
TZOFFSETFROM:-0400
TZOFFSETTO:-0500
TZNAME:EST
DTSTART:20221106T060000
END:STANDARD
BEGIN:DAYLIGHT
TZOFFSETFROM:-0500
TZOFFSETTO:-0400
TZNAME:EDT
DTSTART:20230312T070000
END:DAYLIGHT
BEGIN:STANDARD
TZOFFSETFROM:-0400
TZOFFSETTO:-0500
TZNAME:EST
DTSTART:20231105T060000
END:STANDARD
BEGIN:DAYLIGHT
TZOFFSETFROM:-0500
TZOFFSETTO:-0400
TZNAME:EDT
DTSTART:20240310T070000
END:DAYLIGHT
BEGIN:STANDARD
TZOFFSETFROM:-0400
TZOFFSETTO:-0500
TZNAME:EST
DTSTART:20241103T060000
END:STANDARD
END:VTIMEZONE
BEGIN:VEVENT
DTSTART;TZID=America/New_York:20230409T093000
DTEND;TZID=America/New_York:20230409T223000
DTSTAMP:20260421T121651
CREATED:20230331T120946Z
LAST-MODIFIED:20230331T120946Z
UID:10010471-1681032600-1681079400@goodmorningwilton.com
SUMMARY:Worship with Wilton Congregational Church this Easter Season [sponsored]
DESCRIPTION:Worship with Wilton Congregational Church this Easter season\, where all are invited to join. \nSunday\, April 9  \n\n9:30 a.m.: Traditional Service\n10:30 a.m.: Easter Egg Hunt\n11:00 a.m.: Contemporary Service\n\nFor by grace you have been saved through faith. \nWilton Congregational Church is located at 70 Ridgefield Rd. 203.762.5591 \nFor more information\, visit the Wilton Congregational Church website. \n 
URL:https://goodmorningwilton.com/event/worship-with-wilton-congregational-church-this-easter-season-sponsored/2023-04-09/1/
LOCATION:Wilton Congregational Church\, Wilton\, CT\, 06897\, United States
CATEGORIES:Churches,Community Events,Family Event,Free,Kids,Not for profit,Outdoor Event,Religious Event,Sponsored Post,Worship
ATTACH;FMTTYPE=image/png:https://goodmorningwilton.com/wp-content/uploads/2023/03/thumbnail_Easter-2023-WCC.png
ORGANIZER;CN="Wilton Congregational Church":MAILTO:office@wiltoncongregational.org
END:VEVENT
BEGIN:VEVENT
DTSTART;TZID=America/New_York:20230409T110000
DTEND;TZID=America/New_York:20230409T120000
DTSTAMP:20260421T121651
CREATED:20230331T120946Z
LAST-MODIFIED:20230331T120946Z
UID:10010472-1681038000-1681041600@goodmorningwilton.com
SUMMARY:Worship with Wilton Congregational Church this Easter Season [sponsored]
DESCRIPTION:Worship with Wilton Congregational Church this Easter season\, where all are invited to join. \nSunday\, April 9  \n\n9:30 a.m.: Traditional Service\n10:30 a.m.: Easter Egg Hunt\n11:00 a.m.: Contemporary Service\n\nFor by grace you have been saved through faith. \nWilton Congregational Church is located at 70 Ridgefield Rd. 203.762.5591 \nFor more information\, visit the Wilton Congregational Church website. \n 
URL:https://goodmorningwilton.com/event/worship-with-wilton-congregational-church-this-easter-season-sponsored/2023-04-09/2/
LOCATION:Wilton Congregational Church\, Wilton\, CT\, 06897\, United States
CATEGORIES:Churches,Community Events,Family Event,Free,Kids,Not for profit,Outdoor Event,Religious Event,Sponsored Post,Worship
ATTACH;FMTTYPE=image/png:https://goodmorningwilton.com/wp-content/uploads/2023/03/thumbnail_Easter-2023-WCC.png
ORGANIZER;CN="Wilton Congregational Church":MAILTO:office@wiltoncongregational.org
END:VEVENT
END:VCALENDAR