BEGIN:VCALENDAR
VERSION:2.0
PRODID:-//Good Morning Wilton - ECPv6.15.20//NONSGML v1.0//EN
CALSCALE:GREGORIAN
METHOD:PUBLISH
X-ORIGINAL-URL:https://goodmorningwilton.com
X-WR-CALDESC:Events for Good Morning Wilton
REFRESH-INTERVAL;VALUE=DURATION:PT1H
X-Robots-Tag:noindex
X-PUBLISHED-TTL:PT1H
BEGIN:VTIMEZONE
TZID:America/New_York
BEGIN:DAYLIGHT
TZOFFSETFROM:-0500
TZOFFSETTO:-0400
TZNAME:EDT
DTSTART:20220313T070000
END:DAYLIGHT
BEGIN:STANDARD
TZOFFSETFROM:-0400
TZOFFSETTO:-0500
TZNAME:EST
DTSTART:20221106T060000
END:STANDARD
BEGIN:DAYLIGHT
TZOFFSETFROM:-0500
TZOFFSETTO:-0400
TZNAME:EDT
DTSTART:20230312T070000
END:DAYLIGHT
BEGIN:STANDARD
TZOFFSETFROM:-0400
TZOFFSETTO:-0500
TZNAME:EST
DTSTART:20231105T060000
END:STANDARD
BEGIN:DAYLIGHT
TZOFFSETFROM:-0500
TZOFFSETTO:-0400
TZNAME:EDT
DTSTART:20240310T070000
END:DAYLIGHT
BEGIN:STANDARD
TZOFFSETFROM:-0400
TZOFFSETTO:-0500
TZNAME:EST
DTSTART:20241103T060000
END:STANDARD
END:VTIMEZONE
BEGIN:VEVENT
DTSTART;TZID=America/New_York:20230422T100000
DTEND;TZID=America/New_York:20230422T140000
DTSTAMP:20260422T112247
CREATED:20230328T192614Z
LAST-MODIFIED:20230328T192614Z
UID:10011801-1682157600-1682172000@goodmorningwilton.com
SUMMARY:Repair Cafe
DESCRIPTION:Wilton Go Green and Cannon Grange are teaming up to host Wilton’s first Repair Café on Saturday\, April 22\, from 10:00 a.m. to 2:00 p.m. \nDon’t throw away something that can be fixed!  The Repair Café will provide the opportunity for members of our community to not only try and repair a treasured item\, but also to learn alongside our volunteer fixers. \nThe Repair Café will be organized into two categories: \nRepairs: volunteer fixers will bring their tools and spare parts\, look at your item\, and assess what they can do to help.  Bring items such as bicycles\, jewelry\, clothing\, small appliances\, and toys. \nConsultations: volunteer experts will be on hand to talk with you and answer your questions. They will provide some tips on how to repair items such house plants\, gardens\, woodwork and electronics. \nTo learn more and to sign up for a time slot\, visit the Wilton Go Green website.
URL:https://goodmorningwilton.com/event/repair-cafe/
LOCATION:Cannon Grange Hall\, 25 Cannon Road\, Wilton\, CT\, 06897
CATEGORIES:Educational,Free,Not for profit
ATTACH;FMTTYPE=image/png:https://goodmorningwilton.com/wp-content/uploads/2023/03/Repair-Cafe-for-GMW.png
ORGANIZER;CN="Cannon Grange No. 152":MAILTO:michele.cannongrange@gmail.com
END:VEVENT
END:VCALENDAR