BEGIN:VCALENDAR
VERSION:2.0
PRODID:-//Good Morning Wilton - ECPv6.15.20//NONSGML v1.0//EN
CALSCALE:GREGORIAN
METHOD:PUBLISH
X-ORIGINAL-URL:https://goodmorningwilton.com
X-WR-CALDESC:Events for Good Morning Wilton
REFRESH-INTERVAL;VALUE=DURATION:PT1H
X-Robots-Tag:noindex
X-PUBLISHED-TTL:PT1H
BEGIN:VTIMEZONE
TZID:America/New_York
BEGIN:DAYLIGHT
TZOFFSETFROM:-0500
TZOFFSETTO:-0400
TZNAME:EDT
DTSTART:20200308T070000
END:DAYLIGHT
BEGIN:STANDARD
TZOFFSETFROM:-0400
TZOFFSETTO:-0500
TZNAME:EST
DTSTART:20201101T060000
END:STANDARD
BEGIN:DAYLIGHT
TZOFFSETFROM:-0500
TZOFFSETTO:-0400
TZNAME:EDT
DTSTART:20210314T070000
END:DAYLIGHT
BEGIN:STANDARD
TZOFFSETFROM:-0400
TZOFFSETTO:-0500
TZNAME:EST
DTSTART:20211107T060000
END:STANDARD
BEGIN:DAYLIGHT
TZOFFSETFROM:-0500
TZOFFSETTO:-0400
TZNAME:EDT
DTSTART:20220313T070000
END:DAYLIGHT
BEGIN:STANDARD
TZOFFSETFROM:-0400
TZOFFSETTO:-0500
TZNAME:EST
DTSTART:20221106T060000
END:STANDARD
END:VTIMEZONE
BEGIN:VEVENT
DTSTART;TZID=America/New_York:20211003T083000
DTEND;TZID=America/New_York:20211003T103000
DTSTAMP:20260422T214104
CREATED:20210903T140505Z
LAST-MODIFIED:20210930T130048Z
UID:10009461-1633249800-1633257000@goodmorningwilton.com
SUMMARY:Woodcock Nature Center: Where the Wild Things Run 5K and Kids Fun Run
DESCRIPTION:Woodcock Nature Center welcomes runners\, hikers\, and walkers of all ages at its annual Where the Wild Things Run 5K and Kids Fun Run on Sunday\, Oct. 3 at 8:30 am. For several decades\, this event has highlighted Woodcock’s nearly 5 miles of publicly accessible trails and raised money for the center’s educational programs. \nThe popular 5K\, which kicks off at 9 am is 90% trail with a mix of groomed trails\, rugged trails\, and narrow bridges/boardwalks. Walkers are also welcome. The terrain of the 5k will highlight the diversity and beauty of the Woodcock property. \nA shorter 1K Kids Fun Run geared towards ages 6 and up kicks off at 8:30 am and is guided by a Woodcock team member. Parents are also welcome to accompany their children. \nAfter the Kids Fun Run\, families are invited to stick around for some unique post-race festivities on the nature center grounds including snacks\, music\, games\, playground fun\, nature crafts\, and the annual live turtle race at 9:15 am.  \nWoodcock welcomes interested businesses to inquire about sponsorship opportunities which can include inclusion on the race t-shirt\, cross-promotions\, and a table at the race finish. Special thanks to current sponsors Fairfield County Bank\, Outdoor Sports Center\, and Ridgefield Running Company. \nOrganizers are expecting 150 participants\, so runners are encouraged to register in advance online. Race fees are $35 for the 5K and $20 for the Kids Fun Run. Race t-shirts will only be guaranteed to participants registered by Wednesday\, Sept. 15. Prizes will be awarded to top adult finishers.
URL:https://goodmorningwilton.com/event/woodcock-nature-center-where-the-wild-things-run-5k-and-kids-fun-run/
LOCATION:Woodcock Nature Center\, 56 Deer Run Rd\, Wilton\, CT\, 06897\, United States
CATEGORIES:5K,Exercise,Family Event,Nature,Outdoor Event,Walk/Hike
ATTACH;FMTTYPE=image/jpeg:https://goodmorningwilton.com/wp-content/uploads/2014/04/Woodcock-5k-runners-starting-at-front-gate.jpg
GEO:41.2467853;-73.4737154
X-APPLE-STRUCTURED-LOCATION;VALUE=URI;X-ADDRESS=Woodcock Nature Center 56 Deer Run Rd Wilton CT 06897 United States;X-APPLE-RADIUS=500;X-TITLE=56 Deer Run Rd:geo:-73.4737154,41.2467853
END:VEVENT
END:VCALENDAR