BEGIN:VCALENDAR
VERSION:2.0
PRODID:-//Good Morning Wilton - ECPv6.15.20//NONSGML v1.0//EN
CALSCALE:GREGORIAN
METHOD:PUBLISH
X-ORIGINAL-URL:https://goodmorningwilton.com
X-WR-CALDESC:Events for Good Morning Wilton
REFRESH-INTERVAL;VALUE=DURATION:PT1H
X-Robots-Tag:noindex
X-PUBLISHED-TTL:PT1H
BEGIN:VTIMEZONE
TZID:America/New_York
BEGIN:DAYLIGHT
TZOFFSETFROM:-0500
TZOFFSETTO:-0400
TZNAME:EDT
DTSTART:20210314T070000
END:DAYLIGHT
BEGIN:STANDARD
TZOFFSETFROM:-0400
TZOFFSETTO:-0500
TZNAME:EST
DTSTART:20211107T060000
END:STANDARD
BEGIN:DAYLIGHT
TZOFFSETFROM:-0500
TZOFFSETTO:-0400
TZNAME:EDT
DTSTART:20220313T070000
END:DAYLIGHT
BEGIN:STANDARD
TZOFFSETFROM:-0400
TZOFFSETTO:-0500
TZNAME:EST
DTSTART:20221106T060000
END:STANDARD
BEGIN:DAYLIGHT
TZOFFSETFROM:-0500
TZOFFSETTO:-0400
TZNAME:EDT
DTSTART:20230312T070000
END:DAYLIGHT
BEGIN:STANDARD
TZOFFSETFROM:-0400
TZOFFSETTO:-0500
TZNAME:EST
DTSTART:20231105T060000
END:STANDARD
END:VTIMEZONE
BEGIN:VEVENT
DTSTART;TZID=America/New_York:20220817T160000
DTEND;TZID=America/New_York:20220817T180000
DTSTAMP:20260422T222100
CREATED:20220727T172647Z
LAST-MODIFIED:20220727T173505Z
UID:10011402-1660752000-1660759200@goodmorningwilton.com
SUMMARY:Rocketry for Teens & Tweens (RESCHEDULED from an Earlier Date)
DESCRIPTION:(Rescheduled from July 27-28) This is a two-day workshop for students entering grades 6-12 who have an interest in rocketry. On Day 1 (Wednesday\, Aug. 17) you’ll learn about the science of rockets and then build your own at Wilton Library. On Day 2 (Thursday\, Aug. 18) we’ll at meet at Allen’s Meadows to launch them\, weather permitting. Ray DePaola\, a member of CATO and the National Association of Rocketry will be the instructor. Registration is required. To register\, visit the Wilton Library website. a
URL:https://goodmorningwilton.com/event/rocketry-for-teens-tweens-rescheduled-from-an-earlier-date/2022-08-17/
LOCATION:Wilton Library\, 137 Old Ridgefield Rd.\, Wilton\, CT\, 06987
ATTACH;FMTTYPE=image/jpeg:https://goodmorningwilton.com/wp-content/uploads/2022/07/RocketryBILLJELENNVWYN8GAMCKUNSPLASH_A9BF896F.jpg
END:VEVENT
BEGIN:VEVENT
DTSTART;TZID=America/New_York:20220818T160000
DTEND;TZID=America/New_York:20220818T180000
DTSTAMP:20260422T222100
CREATED:20220727T172647Z
LAST-MODIFIED:20220727T173505Z
UID:10011403-1660838400-1660845600@goodmorningwilton.com
SUMMARY:Rocketry for Teens & Tweens (RESCHEDULED from an Earlier Date)
DESCRIPTION:(Rescheduled from July 27-28) This is a two-day workshop for students entering grades 6-12 who have an interest in rocketry. On Day 1 (Wednesday\, Aug. 17) you’ll learn about the science of rockets and then build your own at Wilton Library. On Day 2 (Thursday\, Aug. 18) we’ll at meet at Allen’s Meadows to launch them\, weather permitting. Ray DePaola\, a member of CATO and the National Association of Rocketry will be the instructor. Registration is required. To register\, visit the Wilton Library website. a
URL:https://goodmorningwilton.com/event/rocketry-for-teens-tweens-rescheduled-from-an-earlier-date/2022-08-18/
LOCATION:Wilton Library\, 137 Old Ridgefield Rd.\, Wilton\, CT\, 06987
ATTACH;FMTTYPE=image/jpeg:https://goodmorningwilton.com/wp-content/uploads/2022/07/RocketryBILLJELENNVWYN8GAMCKUNSPLASH_A9BF896F.jpg
END:VEVENT
END:VCALENDAR