BEGIN:VCALENDAR
VERSION:2.0
PRODID:-//Good Morning Wilton - ECPv6.15.20//NONSGML v1.0//EN
CALSCALE:GREGORIAN
METHOD:PUBLISH
X-WR-CALNAME:Good Morning Wilton
X-ORIGINAL-URL:https://goodmorningwilton.com
X-WR-CALDESC:Events for Good Morning Wilton
REFRESH-INTERVAL;VALUE=DURATION:PT1H
X-Robots-Tag:noindex
X-PUBLISHED-TTL:PT1H
BEGIN:VTIMEZONE
TZID:America/New_York
BEGIN:DAYLIGHT
TZOFFSETFROM:-0500
TZOFFSETTO:-0400
TZNAME:EDT
DTSTART:20230312T070000
END:DAYLIGHT
BEGIN:STANDARD
TZOFFSETFROM:-0400
TZOFFSETTO:-0500
TZNAME:EST
DTSTART:20231105T060000
END:STANDARD
BEGIN:DAYLIGHT
TZOFFSETFROM:-0500
TZOFFSETTO:-0400
TZNAME:EDT
DTSTART:20240310T070000
END:DAYLIGHT
BEGIN:STANDARD
TZOFFSETFROM:-0400
TZOFFSETTO:-0500
TZNAME:EST
DTSTART:20241103T060000
END:STANDARD
BEGIN:DAYLIGHT
TZOFFSETFROM:-0500
TZOFFSETTO:-0400
TZNAME:EDT
DTSTART:20250309T070000
END:DAYLIGHT
BEGIN:STANDARD
TZOFFSETFROM:-0400
TZOFFSETTO:-0500
TZNAME:EST
DTSTART:20251102T060000
END:STANDARD
END:VTIMEZONE
BEGIN:VEVENT
DTSTART;TZID=America/New_York:20240515T190000
DTEND;TZID=America/New_York:20240515T203000
DTSTAMP:20260420T091855
CREATED:20240510T030402Z
LAST-MODIFIED:20240510T030402Z
UID:10016883-1715799600-1715805000@goodmorningwilton.com
SUMMARY:Understanding the Transgender & Non-binary Identity
DESCRIPTION:Join Wilton Library and Wilton Pride for Ask Me Anything 2024\, a community forum on “Understanding the Transgender and Non-binary Identity” on May 15\, at 7 p.m.\, in the library’s Brubeck Room. \nThis conversation breaks down gender and sexual diversity and rethinks historical and traditional assumptions around identity. It is therefore essential in understanding the transgender and non-binary identity. \nPanelists will cover:\n• Understanding the transgender and non-binary identity and community.\n• Importance of allyship in real life situations; understanding how bias impacts LGBTQ+ individuals\, particularly TGNCNBI (Transgender\, gender nonconforming\, non-binary\, and intersex); and an overview of best safety and inclusion practices.\n• Understanding what sexual orientation\, sexual identity\, gender identity\, gender expression\, and sex assigned at birth mean — their differences and impact on each other.\n• Language and definition of terms associated with the LGBTQ+ community\, including lesser known terms.\n• Understanding notions of hetero-normativity\, gender/sex binary\, and cis-normativity.\n• Rethinking social norms and expectations surrounding sexuality and gender in our society. \nModerator:\nSarah Malhotra (she/they) is the Director of Education at The Rowan Center\, and has worked in the prevention education field for 11+ years. She oversees prevention education programming on sexual violence for K-12 schools\, colleges and agency partnerships. \nPanelists:\n– Dr. Robyn Schlesinger (she/her) is an attorney and educator who has worked extensively with the LGBTQIA+ community\, nonprofit organizations\, and institutions of higher education. Schlesinger has also consulted with businesses\, schools\, and organizations to create inclusive workplaces and environments. She is currently the director of LGBTQIA+ programs\, resources\, innovation\, development\, and engagement (PRIDE) for Westchester Jewish Community Services (WJCS)\, the parent organization of Center Lane for LGBTQ+ youth.\n– Ace Ricker (he/him) has been an educator and advocate for the past 20 years. Through his company Awareness through Communication & Education\, LLC (A.C.E)\, he works with a wide variety of organizations\, religious forums\, K-12 schools\, colleges\, medical facilities and nonprofits\, delivering workshops\, talks and consultations on diversity\, inclusion and empowerment\, etc.\n– Remy (he/him) is an author\, graphic designer\, and community organizer based in Brooklyn\, NY. His work often centers around queer and trans people\, and mentoring and volunteering with transgender teens. His project\, “My Gay Love is Holy: Stories of LGBTQ People of Faith” was the first recipient of the Victor Ng Design Impact Award. \nSee link in event listing to submit questions for panelists before the program. Registration is strongly recommended. Register online or call 203.762.6334. Email for more information.
URL:https://goodmorningwilton.com/event/understanding-the-transgender-non-binary-identity/
LOCATION:Wilton Library\, 137 Old Ridgefield Rd.\, Wilton\, CT\, 06987
CATEGORIES:discussion,Educational,Library,Presentation
ATTACH;FMTTYPE=image/png:https://goodmorningwilton.com/wp-content/uploads/2024/05/2024_ASK_ME_ANYTHING_FOR_LIBRARY_FINAL_1_C0212FC9.png
END:VEVENT
END:VCALENDAR