BEGIN:VCALENDAR
VERSION:2.0
PRODID:-//Good Morning Wilton - ECPv6.15.20//NONSGML v1.0//EN
CALSCALE:GREGORIAN
METHOD:PUBLISH
X-WR-CALNAME:Good Morning Wilton
X-ORIGINAL-URL:https://goodmorningwilton.com
X-WR-CALDESC:Events for Good Morning Wilton
REFRESH-INTERVAL;VALUE=DURATION:PT1H
X-Robots-Tag:noindex
X-PUBLISHED-TTL:PT1H
BEGIN:VTIMEZONE
TZID:America/New_York
BEGIN:DAYLIGHT
TZOFFSETFROM:-0500
TZOFFSETTO:-0400
TZNAME:EDT
DTSTART:20210314T070000
END:DAYLIGHT
BEGIN:STANDARD
TZOFFSETFROM:-0400
TZOFFSETTO:-0500
TZNAME:EST
DTSTART:20211107T060000
END:STANDARD
BEGIN:DAYLIGHT
TZOFFSETFROM:-0500
TZOFFSETTO:-0400
TZNAME:EDT
DTSTART:20220313T070000
END:DAYLIGHT
BEGIN:STANDARD
TZOFFSETFROM:-0400
TZOFFSETTO:-0500
TZNAME:EST
DTSTART:20221106T060000
END:STANDARD
BEGIN:DAYLIGHT
TZOFFSETFROM:-0500
TZOFFSETTO:-0400
TZNAME:EDT
DTSTART:20230312T070000
END:DAYLIGHT
BEGIN:STANDARD
TZOFFSETFROM:-0400
TZOFFSETTO:-0500
TZNAME:EST
DTSTART:20231105T060000
END:STANDARD
END:VTIMEZONE
BEGIN:VEVENT
DTSTART;TZID=America/New_York:20221006T153000
DTEND;TZID=America/New_York:20221006T171500
DTSTAMP:20260424T171117
CREATED:20220920T155834Z
LAST-MODIFIED:20220927T053124Z
UID:10011474-1665070200-1665076500@goodmorningwilton.com
SUMMARY:Scarecrow Building for Wilton's Scarecrow Fest at Trackside Teen Center!
DESCRIPTION:Come check out Trackside Teen Center on this special Freestyle Thursday and help us build and decorate the Trackside scarecrow for Wilton’s annual Scarecrow Fest!
URL:https://goodmorningwilton.com/event/scarecrow-building-for-wiltons-scarecrow-fest-at-trackside-teen-center/
LOCATION:Trackside Teen Center\, 15 Station Road\, Wilton\, CT\, 06897\, United States
ATTACH;FMTTYPE=image/png:https://goodmorningwilton.com/wp-content/uploads/2021/10/Wilton-Scarecrows-2021.png
END:VEVENT
END:VCALENDAR