BEGIN:VCALENDAR
VERSION:2.0
PRODID:-//Good Morning Wilton - ECPv6.15.20//NONSGML v1.0//EN
CALSCALE:GREGORIAN
METHOD:PUBLISH
X-WR-CALNAME:Good Morning Wilton
X-ORIGINAL-URL:https://goodmorningwilton.com
X-WR-CALDESC:Events for Good Morning Wilton
REFRESH-INTERVAL;VALUE=DURATION:PT1H
X-Robots-Tag:noindex
X-PUBLISHED-TTL:PT1H
BEGIN:VTIMEZONE
TZID:America/New_York
BEGIN:DAYLIGHT
TZOFFSETFROM:-0500
TZOFFSETTO:-0400
TZNAME:EDT
DTSTART:20250309T070000
END:DAYLIGHT
BEGIN:STANDARD
TZOFFSETFROM:-0400
TZOFFSETTO:-0500
TZNAME:EST
DTSTART:20251102T060000
END:STANDARD
BEGIN:DAYLIGHT
TZOFFSETFROM:-0500
TZOFFSETTO:-0400
TZNAME:EDT
DTSTART:20260308T070000
END:DAYLIGHT
BEGIN:STANDARD
TZOFFSETFROM:-0400
TZOFFSETTO:-0500
TZNAME:EST
DTSTART:20261101T060000
END:STANDARD
BEGIN:DAYLIGHT
TZOFFSETFROM:-0500
TZOFFSETTO:-0400
TZNAME:EDT
DTSTART:20270314T070000
END:DAYLIGHT
BEGIN:STANDARD
TZOFFSETFROM:-0400
TZOFFSETTO:-0500
TZNAME:EST
DTSTART:20271107T060000
END:STANDARD
END:VTIMEZONE
BEGIN:VEVENT
DTSTART;TZID=America/New_York:20260509T090000
DTEND;TZID=America/New_York:20260509T130000
DTSTAMP:20260420T131100
CREATED:20260322T184152Z
LAST-MODIFIED:20260322T184152Z
UID:10023870-1778317200-1778331600@goodmorningwilton.com
SUMMARY:Community Shred Day at The Wilton Historical Society
DESCRIPTION:Wilton Go Green and the Wilton Kiwanis Club are co-hosting a Community Shred Day at the Wilton Historical Society on Saturday\, May 9\, 9 a.m. – 1 p.m. (or until the truck is full). Residents can bring up to 5 boxes of paper.  A secure shred truck will be on site for the event. Attendees will park and bring their items over to the shred truck. Volunteers will be on hand for anyone who needs assistance.\n\n\n\n\nSuggested donation of $20 per bag/box to support the work of the Wilton Kiwanis Club and Wilton Go Green\n\n\n\n 
URL:https://goodmorningwilton.com/event/community-shred-day-at-the-wilton-historical-society/
LOCATION:Wilton Historical Society\, 224 Danbury Road\, Wilton\, CT
CATEGORIES:Community Events,Environmental
ATTACH;FMTTYPE=image/png:https://goodmorningwilton.com/wp-content/uploads/2026/02/Spring-2026-Shred-Day-1.png
ORGANIZER;CN="Wilton Go Green":MAILTO:info@wiltongogreen.org
GEO:41.188207;-73.424639
X-APPLE-STRUCTURED-LOCATION;VALUE=URI;X-ADDRESS=Wilton Historical Society 224 Danbury Road Wilton CT;X-APPLE-RADIUS=500;X-TITLE=224 Danbury Road:geo:-73.424639,41.188207
END:VEVENT
END:VCALENDAR