BEGIN:VCALENDAR
VERSION:2.0
PRODID:-//Good Morning Wilton - ECPv6.15.20//NONSGML v1.0//EN
CALSCALE:GREGORIAN
METHOD:PUBLISH
X-ORIGINAL-URL:https://goodmorningwilton.com
X-WR-CALDESC:Events for Good Morning Wilton
REFRESH-INTERVAL;VALUE=DURATION:PT1H
X-Robots-Tag:noindex
X-PUBLISHED-TTL:PT1H
BEGIN:VTIMEZONE
TZID:America/New_York
BEGIN:DAYLIGHT
TZOFFSETFROM:-0500
TZOFFSETTO:-0400
TZNAME:EDT
DTSTART:20230312T070000
END:DAYLIGHT
BEGIN:STANDARD
TZOFFSETFROM:-0400
TZOFFSETTO:-0500
TZNAME:EST
DTSTART:20231105T060000
END:STANDARD
BEGIN:DAYLIGHT
TZOFFSETFROM:-0500
TZOFFSETTO:-0400
TZNAME:EDT
DTSTART:20240310T070000
END:DAYLIGHT
BEGIN:STANDARD
TZOFFSETFROM:-0400
TZOFFSETTO:-0500
TZNAME:EST
DTSTART:20241103T060000
END:STANDARD
BEGIN:DAYLIGHT
TZOFFSETFROM:-0500
TZOFFSETTO:-0400
TZNAME:EDT
DTSTART:20250309T070000
END:DAYLIGHT
BEGIN:STANDARD
TZOFFSETFROM:-0400
TZOFFSETTO:-0500
TZNAME:EST
DTSTART:20251102T060000
END:STANDARD
END:VTIMEZONE
BEGIN:VEVENT
DTSTART;TZID=America/New_York:20240420T140000
DTEND;TZID=America/New_York:20240420T150000
DTSTAMP:20260419T085014
CREATED:20240407T234124Z
LAST-MODIFIED:20240407T234124Z
UID:10015801-1713621600-1713625200@goodmorningwilton.com
SUMMARY:The Lorax Live at Wilton Library
DESCRIPTION:Children in kindergarten and up can celebrate Earth Day with their families at a theatrical adaptation of the Dr. Seuss classic at Wilton Library. Four Corners Productions presents a fun 20 minute staged version of the beloved tale about a mysterious creature who speaks for the trees. A Q&A with in-character actors will follow. \nRegistration is required. Register all attendees online. Drop-ins welcome if space allows.
URL:https://goodmorningwilton.com/event/the-lorax-live-at-wilton-library/
LOCATION:Wilton Library\, 137 Old Ridgefield Rd.\, Wilton\, CT\, 06987
CATEGORIES:Environmental,Kids,Library,Performance,Theater
ATTACH;FMTTYPE=image/png:https://goodmorningwilton.com/wp-content/uploads/2024/04/LORAX_4340D201.png
END:VEVENT
END:VCALENDAR