BEGIN:VCALENDAR
VERSION:2.0
PRODID:-//Good Morning Wilton - ECPv6.15.20//NONSGML v1.0//EN
CALSCALE:GREGORIAN
METHOD:PUBLISH
X-WR-CALNAME:Good Morning Wilton
X-ORIGINAL-URL:https://goodmorningwilton.com
X-WR-CALDESC:Events for Good Morning Wilton
REFRESH-INTERVAL;VALUE=DURATION:PT1H
X-Robots-Tag:noindex
X-PUBLISHED-TTL:PT1H
BEGIN:VTIMEZONE
TZID:America/New_York
BEGIN:DAYLIGHT
TZOFFSETFROM:-0500
TZOFFSETTO:-0400
TZNAME:EDT
DTSTART:20200308T070000
END:DAYLIGHT
BEGIN:STANDARD
TZOFFSETFROM:-0400
TZOFFSETTO:-0500
TZNAME:EST
DTSTART:20201101T060000
END:STANDARD
BEGIN:DAYLIGHT
TZOFFSETFROM:-0500
TZOFFSETTO:-0400
TZNAME:EDT
DTSTART:20210314T070000
END:DAYLIGHT
BEGIN:STANDARD
TZOFFSETFROM:-0400
TZOFFSETTO:-0500
TZNAME:EST
DTSTART:20211107T060000
END:STANDARD
BEGIN:DAYLIGHT
TZOFFSETFROM:-0500
TZOFFSETTO:-0400
TZNAME:EDT
DTSTART:20220313T070000
END:DAYLIGHT
BEGIN:STANDARD
TZOFFSETFROM:-0400
TZOFFSETTO:-0500
TZNAME:EST
DTSTART:20221106T060000
END:STANDARD
BEGIN:DAYLIGHT
TZOFFSETFROM:-0500
TZOFFSETTO:-0400
TZNAME:EDT
DTSTART:20230312T070000
END:DAYLIGHT
BEGIN:STANDARD
TZOFFSETFROM:-0400
TZOFFSETTO:-0500
TZNAME:EST
DTSTART:20231105T060000
END:STANDARD
END:VTIMEZONE
BEGIN:VEVENT
DTSTART;TZID=America/New_York:20210424T193000
DTEND;TZID=America/New_York:20210424T213000
DTSTAMP:20260422T233003
CREATED:20210416T175055Z
LAST-MODIFIED:20210422T211559Z
UID:10010736-1619292600-1619299800@goodmorningwilton.com
SUMMARY:Virtual Trivia Night with Wilton Dems and Special Guests
DESCRIPTION:Join the Wilton Democrats for Trivia Night\, a virtual event (on Zoom)\, featuring Rep. Jim Himes\, Lt. Gov. Susan Bysiewicz\, Attorney General William Tong\, State Rep. Stephanie Thomas\, and State Sen. Will Haskell. Be part of the fun and participate in the team trivia competition! Don’t be shy. You’ll have plenty of support! \nEveryone who signs up will get a party-in-a-box featuring products from local Wilton companies: Barrelsmith Cocktails\, Sweet Pierre’s\, Pearls (a new bakery business in town)\, and cookies from our Dem bakers. \nBonus: Upgrade your ticket to VIP and join a special session with Rep. Jim Himes.
URL:https://goodmorningwilton.com/event/virtual-trivia-night-with-wilton-dems-and-special-guests/
LOCATION:ZOOM
CATEGORIES:Fundraiser,Game,Not for profit,Online,Politics,Zoom Call
ATTACH;FMTTYPE=image/jpeg:https://goodmorningwilton.com/wp-content/uploads/2014/04/Wilton-Dems-jpeg.jpg
END:VEVENT
BEGIN:VEVENT
DTSTART;TZID=America/New_York:20210928T183000
DTEND;TZID=America/New_York:20210928T193000
DTSTAMP:20260422T233003
CREATED:20210925T153145Z
LAST-MODIFIED:20210925T161208Z
UID:10010909-1632853800-1632857400@goodmorningwilton.com
SUMMARY:Panel Discussion:  Affordable Housing in Wilton [ZOOM Webinar]
DESCRIPTION:Learn more about affordable housing — its meaning\, role\, and impact on Wilton. \nTuesday\, September 28\, join a panel discussion on Affordable Housing in the Community. The event is co–hosted by State Rep. Stephanie Thomas and State Sen. Will Haskell. Panelists are Rick Tomasetti\, chair of the Wilton Planning and Zoning Commission\, and Danielle Dobin\, chair of the Westport Planning and Zoning Commission. The event will be moderated by Heather Borden Herve\, editor of GOOD Morning Wilton. \nThis event is an online ZOOM Webinar. \nThe first portion of the discussion will serve as an overview of the bills proposed during the 2021 session and a review of HB 6107\, the final bill that was passed in May. Register online.
URL:https://goodmorningwilton.com/event/panel-discussion-affordable-housing-in-wilton-zoom-webinar/
LOCATION:ZOOM
CATEGORIES:Civic,discussion,Free,Government,Online,Zoom Call
ATTACH;FMTTYPE=image/png:https://goodmorningwilton.com/wp-content/uploads/2021/09/2021-thomas-haskell-affordable-housing-panel-image.png
END:VEVENT
BEGIN:VEVENT
DTSTART;TZID=America/New_York:20211025T183000
DTEND;TZID=America/New_York:20211025T193000
DTSTAMP:20260422T233003
CREATED:20211015T144617Z
LAST-MODIFIED:20211018T183650Z
UID:10010944-1635186600-1635190200@goodmorningwilton.com
SUMMARY:Thomas Talks:  Learn the Signs of Domestic Violence
DESCRIPTION:Join Rep. Stephanie Thomas as she speaks with members of the Norwalk\, Westport\, and Wilton Domestic Violence Task Force groups and the Domestic Violence Crisis Center about the impact of domestic violence in the district\, recent changes in policy\, and how you can help. \nRegister to join in advance or watch the event anonymously on Rep. Thomas’ Facebook page live or at any time following the event. \nIf you think your computer usage might be monitored\, clear your browser history after leaving this page. \nIf you need help or just someone to talk to\, please visit CT Safe Connect online or call or text 888.774.2900. Advocates are available 24 hours a day\, 7 days a week. \nSi necesitas información o si solo quieres conversar con alguien\, por favor visite CTSafeConnect.org o llamada or texto 888.774.2900. Los consejeros estará disponible las 24 horas del día\, los siete días de la semana.
URL:https://goodmorningwilton.com/event/thomas-talks-learn-the-signs-of-domestic-violence/
LOCATION:Online
CATEGORIES:discussion,Free,Online,Police,Presentation,Support Group,Women,Zoom Call
ATTACH;FMTTYPE=image/png:https://goodmorningwilton.com/wp-content/uploads/2021/10/2021_ThomasTalks_DVAM_10-25-4-5555.png
END:VEVENT
BEGIN:VEVENT
DTSTART;TZID=America/New_York:20220226T133000
DTEND;TZID=America/New_York:20220226T143000
DTSTAMP:20260422T233003
CREATED:20220203T192204Z
LAST-MODIFIED:20220226T043855Z
UID:10009734-1645882200-1645885800@goodmorningwilton.com
SUMMARY:League of Women Voters Legislative Dialogue (Zoom)
DESCRIPTION:Please join us on Zoom as Wilton Library and the Wilton League of Women Voters present a Legislative Dialogue to give our elected state legislators an opportunity to present their priorities for the 2022 Connecticut Assembly session\, and for constituents to provide them feedback and ask them questions about issues facing our town and state. \nSenator Will Haskell (District 26)\, Representative Stephanie Thomas (District 143)\, and Representative Tom O’Dea (District 125) have been invited. \nThe event will be on Saturday\, Feb. 26\, from 1:30 p.m.-2:30 p.m. \nRegistration required in order to receive the Zoom invitation link. Email the League at wiltonlwv@gmail.com with any questions you would like the legislators to address. Constituents will also be able to submit questions during the virtual event. To register\, visit the Wilton Library website.
URL:https://goodmorningwilton.com/event/league-of-women-voters-legislative-dialogue-zoom/
LOCATION:ZOOM
CATEGORIES:Civic,Government,Online,Politics,Zoom Call
ATTACH;FMTTYPE=image/jpeg:https://goodmorningwilton.com/wp-content/uploads/2022/02/LWV_LOGO_PLAIN_434B92F6.jpg
ORGANIZER;CN="Wilton Library":MAILTO:publicity@wiltonlibrary.org
END:VEVENT
END:VCALENDAR