BEGIN:VCALENDAR
VERSION:2.0
PRODID:-//Good Morning Wilton - ECPv6.15.20//NONSGML v1.0//EN
CALSCALE:GREGORIAN
METHOD:PUBLISH
X-WR-CALNAME:Good Morning Wilton
X-ORIGINAL-URL:https://goodmorningwilton.com
X-WR-CALDESC:Events for Good Morning Wilton
REFRESH-INTERVAL;VALUE=DURATION:PT1H
X-Robots-Tag:noindex
X-PUBLISHED-TTL:PT1H
BEGIN:VTIMEZONE
TZID:America/New_York
BEGIN:DAYLIGHT
TZOFFSETFROM:-0500
TZOFFSETTO:-0400
TZNAME:EDT
DTSTART:20180311T070000
END:DAYLIGHT
BEGIN:STANDARD
TZOFFSETFROM:-0400
TZOFFSETTO:-0500
TZNAME:EST
DTSTART:20181104T060000
END:STANDARD
BEGIN:DAYLIGHT
TZOFFSETFROM:-0500
TZOFFSETTO:-0400
TZNAME:EDT
DTSTART:20190310T070000
END:DAYLIGHT
BEGIN:STANDARD
TZOFFSETFROM:-0400
TZOFFSETTO:-0500
TZNAME:EST
DTSTART:20191103T060000
END:STANDARD
BEGIN:DAYLIGHT
TZOFFSETFROM:-0500
TZOFFSETTO:-0400
TZNAME:EDT
DTSTART:20200308T070000
END:DAYLIGHT
BEGIN:STANDARD
TZOFFSETFROM:-0400
TZOFFSETTO:-0500
TZNAME:EST
DTSTART:20201101T060000
END:STANDARD
BEGIN:DAYLIGHT
TZOFFSETFROM:-0500
TZOFFSETTO:-0400
TZNAME:EDT
DTSTART:20210314T070000
END:DAYLIGHT
BEGIN:STANDARD
TZOFFSETFROM:-0400
TZOFFSETTO:-0500
TZNAME:EST
DTSTART:20211107T060000
END:STANDARD
BEGIN:DAYLIGHT
TZOFFSETFROM:-0500
TZOFFSETTO:-0400
TZNAME:EDT
DTSTART:20220313T070000
END:DAYLIGHT
BEGIN:STANDARD
TZOFFSETFROM:-0400
TZOFFSETTO:-0500
TZNAME:EST
DTSTART:20221106T060000
END:STANDARD
END:VTIMEZONE
BEGIN:VEVENT
DTSTART;TZID=America/New_York:20190225T180000
DTEND;TZID=America/New_York:20190225T190000
DTSTAMP:20260422T184142
CREATED:20190224T020047Z
LAST-MODIFIED:20190224T020047Z
UID:10008612-1551117600-1551121200@goodmorningwilton.com
SUMMARY:Will Haskell Hosts Wilton Community Conversation
DESCRIPTION:State Senator Will Haskell will host a community conversation at Wilton Library.
URL:https://goodmorningwilton.com/event/will-haskell-hosts-wilton-community-conversation/
LOCATION:Wilton Library\, 137 Old Ridgefield Rd.\, Wilton\, CT\, 06987
CATEGORIES:discussion,Free,Meeting,Politics,Town/Government Meeting
ATTACH;FMTTYPE=image/png:https://goodmorningwilton.com/wp-content/uploads/2019/02/will-haskell.png
END:VEVENT
BEGIN:VEVENT
DTSTART;TZID=America/New_York:20190617T190000
DTEND;TZID=America/New_York:20190617T203000
DTSTAMP:20260422T184142
CREATED:20190611T195458Z
LAST-MODIFIED:20190611T234333Z
UID:10008849-1560798000-1560803400@goodmorningwilton.com
SUMMARY:Wilton Community Conversation with State Sen. Will Haskell
DESCRIPTION:State Senator Will Haskell will be holding a Community Conversation at Wilton Library on June 17. Come and learn more about the 2019 legislative session and share any concerns or questions about issues important to you. \n 
URL:https://goodmorningwilton.com/event/wilton-community-conversation-with-state-sen-will-haskell/
LOCATION:Wilton Library\, 137 Old Ridgefield Rd.\, Wilton\, CT\, 06987
CATEGORIES:discussion,Free,Government,Politics
ATTACH;FMTTYPE=image/png:https://goodmorningwilton.com/wp-content/uploads/2019/02/will-haskell.png
END:VEVENT
BEGIN:VEVENT
DTSTART;TZID=America/New_York:20190625T150000
DTEND;TZID=America/New_York:20190625T170000
DTSTAMP:20260422T184142
CREATED:20190619T184257Z
LAST-MODIFIED:20190619T184257Z
UID:10008832-1561474800-1561482000@goodmorningwilton.com
SUMMARY:State Senator Will Haskell Advocates for Seniors
DESCRIPTION:On Tuesday\, June 25 at 3 p.m.\, Stay at Home in Wilton will host State Senator Will Haskell at the Comstock Community Center to discuss his plans to make Connecticut an affordable and attractive state for seniors. Senator Haskell will discuss the social security tax as well as programs he is supporting that will help Connecticut’s seniors live comfortably as they grow older. Stay at Home in Wilton welcomes community members to bring their questions to this special town hall meeting. \nReservations are recommended. There is no charge to attend. Contact Janet Johnson at 203.762.2600. Please provide your phone or email. In the event the Senator is called away registrants will be notified. \nStay at Home in Wilton\, a registered\, volunteered supported non-profit\, offers seniors supportive services and resources\, along with social and educational programs that unite its members as a community and enhance their efforts to remain independent\, active and connected.
URL:https://goodmorningwilton.com/event/state-senator-will-haskell-advocates-for-seniors/
LOCATION:Comstock Community Center
CATEGORIES:discussion,Free,Government,Not for profit,Politics,Seniors
ATTACH;FMTTYPE=image/png:https://goodmorningwilton.com/wp-content/uploads/2019/06/image001.png
ORGANIZER;CN="Stay at Home in Wilton":MAILTO:deb@shwil.org
END:VEVENT
BEGIN:VEVENT
DTSTART;TZID=America/New_York:20190926T113000
DTEND;TZID=America/New_York:20190926T133000
DTSTAMP:20260422T184142
CREATED:20190828T222228Z
LAST-MODIFIED:20190828T222228Z
UID:10008966-1569497400-1569504600@goodmorningwilton.com
SUMMARY:Will Haskell to be Speaker at Wilton League of Women Voters September Meeting
DESCRIPTION:The Wilton League of Women Voters invites all to its September opening meeting and luncheon at the Comstock Community Center on Thursday\, Sept. 26. The meeting will begin with a “meet and greet” at 11:15 a.m.; then the 26th Senate District’s State Senator Will Haskell will be the featured guest and speak of the latest Connecticut efforts on the Government Administration and Election Committee and the Higher Education and Advancement Committee. A light lunch will be served. Cost is $20. For additional meeting information\, and to register go to the Wilton League of Women Voters website. \nThe League of Women Voters\, a non-partisan political organization\, welcomes all and does not support or oppose any political party\, candidate for elective office\, or office holder. The League of Women Voters encourages informed active participation of citizens in government\, and works to increase the understanding of major public policy issues through education and advocac . For future calendar events sponsored by the Wilton League of Women Voters and/or for membership information\, check the League website.
URL:https://goodmorningwilton.com/event/will-haskell-to-be-speaker-at-wilton-league-of-women-voters-september-meeting/
LOCATION:Comstock Community Center\, 180 School Rd.\, Wilton\, CT\, 06897\, United States
CATEGORIES:discussion,Government,Luncheon,Meeting,Not for profit,Politics,Presentation,Women
ATTACH;FMTTYPE=image/jpeg:https://goodmorningwilton.com/wp-content/uploads/2018/09/league-women-voters-logo.jpg
ORGANIZER;CN="Wilton League of Woman Voters":MAILTO:league@comcast.net
GEO:41.2020422;-73.4335825
X-APPLE-STRUCTURED-LOCATION;VALUE=URI;X-ADDRESS=Comstock Community Center 180 School Rd. Wilton CT 06897 United States;X-APPLE-RADIUS=500;X-TITLE=180 School Rd.:geo:-73.4335825,41.2020422
END:VEVENT
BEGIN:VEVENT
DTSTART;TZID=America/New_York:20200201T093000
DTEND;TZID=America/New_York:20200201T110000
DTSTAMP:20260422T184142
CREATED:20200109T195650Z
LAST-MODIFIED:20200129T165153Z
UID:10009265-1580549400-1580554800@goodmorningwilton.com
SUMMARY:Wilton League of Woman Voters 2020 Legislative Breakfast
DESCRIPTION:The Wilton League of Women Voters will be sponsoring its 2020 Legislative Breakfast on Saturday\, Feb. 1 at 9:30-11 a.m. at the Greens at Cannondale (435 Danbury Rd.). State Senator Will Haskell and State Representatives Gail Lavielle and Tom O’Dea will discuss key issues facing our district\, outline legislative priorities for the coming year\, and answer questions from the public. \nNo registration required\, all are welcome.
URL:https://goodmorningwilton.com/event/wilton-league-of-woman-voters-2020-legislative-breakfast/
LOCATION:The Greens at Cannondale\, 435 Danbury Rd.\, Wilton\, CT\, 06897\, United States
CATEGORIES:Breakfast,Civic,discussion,Free,Government
ATTACH;FMTTYPE=image/png:https://goodmorningwilton.com/wp-content/uploads/2020/01/haskell-lavielle-odea-3-shot.png
ORGANIZER;CN="Wilton League of Woman Voters":MAILTO:league@comcast.net
END:VEVENT
BEGIN:VEVENT
DTSTART;TZID=America/New_York:20210420T140000
DTEND;TZID=America/New_York:20210420T150000
DTSTAMP:20260422T184142
CREATED:20210415T155258Z
LAST-MODIFIED:20210415T194049Z
UID:10010734-1618927200-1618930800@goodmorningwilton.com
SUMMARY:Scam Protection with State Sen. Will Haskell and Lt. Dave Hartman
DESCRIPTION:We have all received “those” calls asking for personal information and wondering if it is real or a scam. Join Stay at Home in Wilton and hear from State Sen. Will Haskell and Lt. Dave Hartman help you spot the telltale signs of a phone or computer scam. Learn the steps to protect yourself and your assets. \nRSVP 203-762-2600 to receive a Zoom link.
URL:https://goodmorningwilton.com/event/scam-protection-with-senator-will-haskell-and-lt-dave-hartman/
LOCATION:ZOOM
CATEGORIES:Educational,Not for profit,Seminar
ATTACH;FMTTYPE=image/png:https://goodmorningwilton.com/wp-content/uploads/2021/04/HaskellHartman.png
ORGANIZER;CN="Stay at Home in Wilton":MAILTO:deb@shwil.org
END:VEVENT
BEGIN:VEVENT
DTSTART;TZID=America/New_York:20210424T193000
DTEND;TZID=America/New_York:20210424T213000
DTSTAMP:20260422T184142
CREATED:20210416T175055Z
LAST-MODIFIED:20210422T211559Z
UID:10010736-1619292600-1619299800@goodmorningwilton.com
SUMMARY:Virtual Trivia Night with Wilton Dems and Special Guests
DESCRIPTION:Join the Wilton Democrats for Trivia Night\, a virtual event (on Zoom)\, featuring Rep. Jim Himes\, Lt. Gov. Susan Bysiewicz\, Attorney General William Tong\, State Rep. Stephanie Thomas\, and State Sen. Will Haskell. Be part of the fun and participate in the team trivia competition! Don’t be shy. You’ll have plenty of support! \nEveryone who signs up will get a party-in-a-box featuring products from local Wilton companies: Barrelsmith Cocktails\, Sweet Pierre’s\, Pearls (a new bakery business in town)\, and cookies from our Dem bakers. \nBonus: Upgrade your ticket to VIP and join a special session with Rep. Jim Himes.
URL:https://goodmorningwilton.com/event/virtual-trivia-night-with-wilton-dems-and-special-guests/
LOCATION:ZOOM
CATEGORIES:Fundraiser,Game,Not for profit,Online,Politics,Zoom Call
ATTACH;FMTTYPE=image/jpeg:https://goodmorningwilton.com/wp-content/uploads/2014/04/Wilton-Dems-jpeg.jpg
END:VEVENT
BEGIN:VEVENT
DTSTART;TZID=America/New_York:20210928T183000
DTEND;TZID=America/New_York:20210928T193000
DTSTAMP:20260422T184142
CREATED:20210925T153145Z
LAST-MODIFIED:20210925T161208Z
UID:10010909-1632853800-1632857400@goodmorningwilton.com
SUMMARY:Panel Discussion:  Affordable Housing in Wilton [ZOOM Webinar]
DESCRIPTION:Learn more about affordable housing — its meaning\, role\, and impact on Wilton. \nTuesday\, September 28\, join a panel discussion on Affordable Housing in the Community. The event is co–hosted by State Rep. Stephanie Thomas and State Sen. Will Haskell. Panelists are Rick Tomasetti\, chair of the Wilton Planning and Zoning Commission\, and Danielle Dobin\, chair of the Westport Planning and Zoning Commission. The event will be moderated by Heather Borden Herve\, editor of GOOD Morning Wilton. \nThis event is an online ZOOM Webinar. \nThe first portion of the discussion will serve as an overview of the bills proposed during the 2021 session and a review of HB 6107\, the final bill that was passed in May. Register online.
URL:https://goodmorningwilton.com/event/panel-discussion-affordable-housing-in-wilton-zoom-webinar/
LOCATION:ZOOM
CATEGORIES:Civic,discussion,Free,Government,Online,Zoom Call
ATTACH;FMTTYPE=image/png:https://goodmorningwilton.com/wp-content/uploads/2021/09/2021-thomas-haskell-affordable-housing-panel-image.png
END:VEVENT
END:VCALENDAR