BEGIN:VCALENDAR
VERSION:2.0
PRODID:-//Good Morning Wilton - ECPv6.15.20//NONSGML v1.0//EN
CALSCALE:GREGORIAN
METHOD:PUBLISH
X-WR-CALNAME:Good Morning Wilton
X-ORIGINAL-URL:https://goodmorningwilton.com
X-WR-CALDESC:Events for Good Morning Wilton
REFRESH-INTERVAL;VALUE=DURATION:PT1H
X-Robots-Tag:noindex
X-PUBLISHED-TTL:PT1H
BEGIN:VTIMEZONE
TZID:America/New_York
BEGIN:DAYLIGHT
TZOFFSETFROM:-0500
TZOFFSETTO:-0400
TZNAME:EDT
DTSTART:20220313T070000
END:DAYLIGHT
BEGIN:STANDARD
TZOFFSETFROM:-0400
TZOFFSETTO:-0500
TZNAME:EST
DTSTART:20221106T060000
END:STANDARD
BEGIN:DAYLIGHT
TZOFFSETFROM:-0500
TZOFFSETTO:-0400
TZNAME:EDT
DTSTART:20230312T070000
END:DAYLIGHT
BEGIN:STANDARD
TZOFFSETFROM:-0400
TZOFFSETTO:-0500
TZNAME:EST
DTSTART:20231105T060000
END:STANDARD
BEGIN:DAYLIGHT
TZOFFSETFROM:-0500
TZOFFSETTO:-0400
TZNAME:EDT
DTSTART:20240310T070000
END:DAYLIGHT
BEGIN:STANDARD
TZOFFSETFROM:-0400
TZOFFSETTO:-0500
TZNAME:EST
DTSTART:20241103T060000
END:STANDARD
END:VTIMEZONE
BEGIN:VEVENT
DTSTART;TZID=America/New_York:20230427T183000
DTEND;TZID=America/New_York:20230427T193000
DTSTAMP:20260423T080447
CREATED:20230414T094324Z
LAST-MODIFIED:20230414T094324Z
UID:10010492-1682620200-1682623800@goodmorningwilton.com
SUMMARY:Wilton Reads: Post-Pandemic Mental Health for Young Adults
DESCRIPTION:Teens and young adults are facing unique challenges after the COVID-19 pandemic. Join Wilton Library for a panel discussion and Q&A featuring local mental health professionals. Gain insight on what tools and resources young people and their families can use for mental wellness. \nPanelists include Kaitlin Comet\, Program Coordinator from The Hub\, Sarah Edwards\, Project Coordinator for Turning Point CT\, William Testani\, Admissions Coordinator\, and Jack Britton\, Vice President of Clinical Services from Turnbridge Treatment Center. \nTeens\, young adults\, and their families are encouraged to attend this discussion and bring questions. Registration is required. Register on Wilton Library’s website.
URL:https://goodmorningwilton.com/event/wilton-reads-post-pandemic-mental-health-for-young-adults/
LOCATION:Wilton Library\, 137 Old Ridgefield Rd.\, Wilton\, CT\, 06987
CATEGORIES:discussion,Educational,Free,Health & Wellness,Library,Not for profit,Parenting,Presentation,Teens
ATTACH;FMTTYPE=image/jpeg:https://goodmorningwilton.com/wp-content/uploads/2023/04/PostPandemicMentalHealthMARIAHKRAFFTG87PTQNLQOEUNSPLASH_519B1500.jpg
END:VEVENT
BEGIN:VEVENT
DTSTART;TZID=America/New_York:20230516T180000
DTEND;TZID=America/New_York:20230516T190000
DTSTAMP:20260423T080447
CREATED:20230502T093409Z
LAST-MODIFIED:20230502T093520Z
UID:10010557-1684260000-1684263600@goodmorningwilton.com
SUMMARY:Teen Poetry Slam
DESCRIPTION:Join Wilton Library in celebrating Mental Health Awareness Month by celebrating self-expression! Bring a poem\, song\, or story to share or just sit and listen. Refreshments will be provided. \nRegistration is recommended. This program is for teens in grades 8-12\, but audience members of all ages welcome. \nRegister on the Wilton Library’s website.
URL:https://goodmorningwilton.com/event/teen-poetry-slam/
LOCATION:Wilton Library\, 137 Old Ridgefield Rd.\, Wilton\, CT\, 06987
CATEGORIES:Arts,Free,Health & Wellness,Kids,Library,Live Music,Not for profit,Performance,Presentation
ATTACH;FMTTYPE=image/jpeg:https://goodmorningwilton.com/wp-content/uploads/2023/05/PoetrySlamPEXELSDOMINIKAROSECLAY1032000_66B0BEEC-e1775675488113.jpg
END:VEVENT
BEGIN:VEVENT
DTSTART;TZID=America/New_York:20230523T153000
DTEND;TZID=America/New_York:20230523T170000
DTSTAMP:20260423T080447
CREATED:20230503T102702Z
LAST-MODIFIED:20230503T102702Z
UID:10011821-1684855800-1684861200@goodmorningwilton.com
SUMMARY:Reshaping Reality: Middle Schoolers in the Mirror
DESCRIPTION:The Reshaping Reality Club at Wilton High School\, in collaboration with Eating Disorder Coach Oriana Laflamme\, invite you to “Middle Schoolers in the Mirror”\, a program at Wilton Library aimed at educating middle school students about the challenges surrounding body image\, eating disorders\, and other related issues. Through interactive activities\, discussions\, videos\, and body image exercises\, the program aims to break down the misconceptions and stigma surrounding these harmful behaviors. \nMiddle school is a critical time when students begin to face increased social pressure around their appearance. This can result in self-esteem problems\, eating disorders\, and other damaging health behaviors. During these sessions\, students will gain insight into the issues they may encounter\, learn how they can support their friends and themselves\, and receive guidance from high school students who have faced similar experiences. \nWith Laflamme’s expertise and the collective knowledge of the Reshaping Reality Club\, the goal is to provide a safe and supportive space for middle school students to learn\, grow\, and develop healthy relationships with their bodies and selves.  \nRegistration is required for this two-part program and is open for students in Grades 6-8. Register on the Wilton Library’s website.
URL:https://goodmorningwilton.com/event/reshaping-reality-middle-schoolers-in-the-mirror/2023-05-23/
LOCATION:Wilton Library\, 137 Old Ridgefield Rd.\, Wilton\, CT\, 06987
CATEGORIES:discussion,Educational,Free,Health & Wellness,Library,Presentation,Teens
ATTACH;FMTTYPE=image/jpeg:https://goodmorningwilton.com/wp-content/uploads/2023/05/ReshapingPEXELSMARIANABLUE1188410_D779068D.jpg
END:VEVENT
BEGIN:VEVENT
DTSTART;TZID=America/New_York:20230530T153000
DTEND;TZID=America/New_York:20230530T170000
DTSTAMP:20260423T080447
CREATED:20230503T102702Z
LAST-MODIFIED:20230503T102702Z
UID:10011822-1685460600-1685466000@goodmorningwilton.com
SUMMARY:Reshaping Reality: Middle Schoolers in the Mirror
DESCRIPTION:The Reshaping Reality Club at Wilton High School\, in collaboration with Eating Disorder Coach Oriana Laflamme\, invite you to “Middle Schoolers in the Mirror”\, a program at Wilton Library aimed at educating middle school students about the challenges surrounding body image\, eating disorders\, and other related issues. Through interactive activities\, discussions\, videos\, and body image exercises\, the program aims to break down the misconceptions and stigma surrounding these harmful behaviors. \nMiddle school is a critical time when students begin to face increased social pressure around their appearance. This can result in self-esteem problems\, eating disorders\, and other damaging health behaviors. During these sessions\, students will gain insight into the issues they may encounter\, learn how they can support their friends and themselves\, and receive guidance from high school students who have faced similar experiences. \nWith Laflamme’s expertise and the collective knowledge of the Reshaping Reality Club\, the goal is to provide a safe and supportive space for middle school students to learn\, grow\, and develop healthy relationships with their bodies and selves.  \nRegistration is required for this two-part program and is open for students in Grades 6-8. Register on the Wilton Library’s website.
URL:https://goodmorningwilton.com/event/reshaping-reality-middle-schoolers-in-the-mirror/2023-05-30/
LOCATION:Wilton Library\, 137 Old Ridgefield Rd.\, Wilton\, CT\, 06987
CATEGORIES:discussion,Educational,Free,Health & Wellness,Library,Presentation,Teens
ATTACH;FMTTYPE=image/jpeg:https://goodmorningwilton.com/wp-content/uploads/2023/05/ReshapingPEXELSMARIANABLUE1188410_D779068D.jpg
END:VEVENT
BEGIN:VEVENT
DTSTART;TZID=America/New_York:20230926T100000
DTEND;TZID=America/New_York:20230926T114500
DTSTAMP:20260423T080447
CREATED:20230917T092931Z
LAST-MODIFIED:20230917T092931Z
UID:10012657-1695722400-1695728700@goodmorningwilton.com
SUMMARY:The College Process: Supporting Your Teen and Finding the Right Fit
DESCRIPTION:The college process can often feel like a frenzy but there are ways to manage it that foster resilience and relationships rather than discord and despair. Please join Susan Bauerfeld\, Ph.D. and Deena Maerowitz\, J.D.\, M.S.W. at Wilton Library to learn tips\, strategies and suggestions for reducing stress\, staying connected to your child and managing the process with greater ease and comfort. You will feel better and your teen will thank you! \nSusan Bauerfeld\, Ph.D. is a licensed clinical psychologist\, speaker\, parenting coach and ADHD coach. Her passion is promoting understanding and teaching skills for success–especially skills of self-regulation\, anxiety management\, effective communication and self-advocacy. She has a private practice in Norwalk. \nDeena Maerowitz\, J.D.\, M.S.W. has had a multifaceted career\, including experience in graduate admissions and working in the public policy arena around education. As an educational consultant with the Bertram Group\, she advises students throughout the entire college admissions process\, planning both undergraduate and graduate educations. \nPlease register online or call 203.762.6334. For more information or to submit a question in advance\, please email Wilton Youth Council. \nSponsored by Wilton Youth Council in partnership with Wilton Library and Wilton Kiwanis.
URL:https://goodmorningwilton.com/event/the-college-process-supporting-your-teen-and-finding-the-right-fit/
LOCATION:Wilton Library\, 137 Old Ridgefield Rd.\, Wilton\, CT\, 06987
CATEGORIES:discussion,Free,Health & Wellness,Library,Not for profit,Parenting,Presentation,Schools,Teens
ATTACH;FMTTYPE=image/png:https://goodmorningwilton.com/wp-content/uploads/2023/09/COLLEGE_AHEADWYC_6B08F527.png
END:VEVENT
END:VCALENDAR