BEGIN:VCALENDAR
VERSION:2.0
PRODID:-//Good Morning Wilton - ECPv6.15.20//NONSGML v1.0//EN
CALSCALE:GREGORIAN
METHOD:PUBLISH
X-ORIGINAL-URL:https://goodmorningwilton.com
X-WR-CALDESC:Events for Good Morning Wilton
REFRESH-INTERVAL;VALUE=DURATION:PT1H
X-Robots-Tag:noindex
X-PUBLISHED-TTL:PT1H
BEGIN:VTIMEZONE
TZID:America/New_York
BEGIN:DAYLIGHT
TZOFFSETFROM:-0500
TZOFFSETTO:-0400
TZNAME:EDT
DTSTART:20200308T070000
END:DAYLIGHT
BEGIN:STANDARD
TZOFFSETFROM:-0400
TZOFFSETTO:-0500
TZNAME:EST
DTSTART:20201101T060000
END:STANDARD
BEGIN:DAYLIGHT
TZOFFSETFROM:-0500
TZOFFSETTO:-0400
TZNAME:EDT
DTSTART:20210314T070000
END:DAYLIGHT
BEGIN:STANDARD
TZOFFSETFROM:-0400
TZOFFSETTO:-0500
TZNAME:EST
DTSTART:20211107T060000
END:STANDARD
BEGIN:DAYLIGHT
TZOFFSETFROM:-0500
TZOFFSETTO:-0400
TZNAME:EDT
DTSTART:20220313T070000
END:DAYLIGHT
BEGIN:STANDARD
TZOFFSETFROM:-0400
TZOFFSETTO:-0500
TZNAME:EST
DTSTART:20221106T060000
END:STANDARD
BEGIN:DAYLIGHT
TZOFFSETFROM:-0500
TZOFFSETTO:-0400
TZNAME:EDT
DTSTART:20230312T070000
END:DAYLIGHT
BEGIN:STANDARD
TZOFFSETFROM:-0400
TZOFFSETTO:-0500
TZNAME:EST
DTSTART:20231105T060000
END:STANDARD
BEGIN:DAYLIGHT
TZOFFSETFROM:-0500
TZOFFSETTO:-0400
TZNAME:EDT
DTSTART:20240310T070000
END:DAYLIGHT
BEGIN:STANDARD
TZOFFSETFROM:-0400
TZOFFSETTO:-0500
TZNAME:EST
DTSTART:20241103T060000
END:STANDARD
END:VTIMEZONE
BEGIN:VEVENT
DTSTART;TZID=America/New_York:20210818T120000
DTEND;TZID=America/New_York:20210818T123000
DTSTAMP:20260423T023421
CREATED:20210810T135305Z
LAST-MODIFIED:20210810T151852Z
UID:10010846-1629288000-1629289800@goodmorningwilton.com
SUMMARY:It's Ok Not to Be Ok: When and How to Get Help in Wilton
DESCRIPTION:Wilton Social Services\, Wilton Youth Services\, and Wilton Police Department together with Kids in Crisis and Positive Directions will be hosting a discussion on mental health on Wednesday\, August 18\, 12 pm to 12:30 pm via Zoom. \nAccording to discussion organizers\, Covid has taken a toll on everyone with depression\, anxiety\, and substance use increasing over the past year. The discussion will focus on how to recognize the signs that help is needed\, demystify the process of seeking help\, and share local resources. \nPlease RSVP to Positive Directions online. For more information on the event\, please email or call Sarah Heath at 203.834.6238. \n 
URL:https://goodmorningwilton.com/event/its-ok-not-to-be-ok-when-and-how-to-get-help-in-wilton/
LOCATION:ZOOM
CATEGORIES:Community Events,Educational,Health & Wellness,Zoom Call
ATTACH;FMTTYPE=image/png:https://goodmorningwilton.com/wp-content/uploads/2021/08/Screenshot-2021-08-10-095034.png
END:VEVENT
BEGIN:VEVENT
DTSTART;TZID=America/New_York:20211023T080000
DTEND;TZID=America/New_York:20211023T170000
DTSTAMP:20260423T023421
CREATED:20211020T154045Z
LAST-MODIFIED:20211020T154258Z
UID:10010981-1634976000-1635008400@goodmorningwilton.com
SUMMARY:Wilton Police Participate in National Prescription Drug Take-Back Day
DESCRIPTION:The Wilton Police Department is inviting residents to take part in the Drug Enforcement Administration‘s (DEA) National Prescription Drug Take-Back Day\, this Saturday\, Oct. 23. \nExpired\, unused or unwanted controlled substances in the home are a potential source of supply for the increasing abuse of pharmaceutical drugs in the United States and an unacceptable risk to public health and safety every day. The day aims to provide a safe\, convenient\, and responsible means to dispose of prescription drugs\, while also educating the general public about the potential for abuse of medications. \nThe Wilton Police Department is a participant in the Medication Drop-Box Program with a box located in the main lobby of the Wilton Police Department that is accessible 24/7\, 365 days of the year to dispose of unused medications. This confidential\, free service ensures safe disposal of unused medication\, protecting the environment and community.
URL:https://goodmorningwilton.com/event/wilton-police-participate-in-national-prescription-drug-take-back-day/
LOCATION:Wilton Police Department\, 240 Danbury Rd.\, Wilton\, CT\, 06897\, United States
CATEGORIES:Civic,Government,Health & Wellness,Police
ATTACH;FMTTYPE=image/jpeg:https://goodmorningwilton.com/wp-content/uploads/2017/02/prescription-drugs.jpg
END:VEVENT
BEGIN:VEVENT
DTSTART;TZID=America/New_York:20230126T190000
DTEND;TZID=America/New_York:20230126T210000
DTSTAMP:20260423T023421
CREATED:20230112T223618Z
LAST-MODIFIED:20230112T223618Z
UID:10011566-1674759600-1674766800@goodmorningwilton.com
SUMMARY:Recreational Cannabis: What Families Should Know
DESCRIPTION:Connecticut’s legal adult-use cannabis market officially rolled out on Tuesday\, Jan. 10\, 2023. What are the facts and laws? How is new legislation affecting our youth? What are clinicians\, schools and police officers saying? You’ll be surprised about what you don’t know! Please join Wilton Youth Council at Wilton Library for an informative presentation and panel discussion on cannabis. Presented by Wilton Youth Council in partnership with Wilton Library\, Mountainside Treatment Center\, SPED*NET and Middlebrook PTA. \nPanelists include: \nMelissa McGarry is the project director for Trumbull’s Prevention Partnership\, a local prevention coalition that strives to prevent underage substance use and promote social and emotional wellness through education\, outreach\, enforcement and public policy. \nJohn Daviau\, MACP\, is a community psychologist\, certified dialogue educator and certified prevention specialist. He has extensive experience in providing evidence-based substance abuse prevention. \nAnthony Nave is a Licensed Clinical Social Worker with master’s degrees in educational psychology and clinical social work. He serves as senior manager of outpatient services at Mountainside Treatment Center. \nRepresentatives of the Wilton Police Department and Wilton Public Schools will also be joining the panel to provide information specific to the Wilton community. \nRegistration is required. Register online or call 203.762.6334. For questions about the program or to submit a question in advance\, email Wilton Youth Council.
URL:https://goodmorningwilton.com/event/recreational-cannabis-what-families-should-know/
LOCATION:Wilton Library\, 137 Old Ridgefield Rd.\, Wilton\, CT\, 06987
CATEGORIES:discussion,Library,Police,Presentation,Schools,Teens
ATTACH;FMTTYPE=image/png:https://goodmorningwilton.com/wp-content/uploads/2023/01/CANNIBIS2_72C9364B.png
END:VEVENT
END:VCALENDAR