BEGIN:VCALENDAR
VERSION:2.0
PRODID:-//Good Morning Wilton - ECPv6.15.20//NONSGML v1.0//EN
CALSCALE:GREGORIAN
METHOD:PUBLISH
X-ORIGINAL-URL:https://goodmorningwilton.com
X-WR-CALDESC:Events for Good Morning Wilton
REFRESH-INTERVAL;VALUE=DURATION:PT1H
X-Robots-Tag:noindex
X-PUBLISHED-TTL:PT1H
BEGIN:VTIMEZONE
TZID:America/New_York
BEGIN:DAYLIGHT
TZOFFSETFROM:-0500
TZOFFSETTO:-0400
TZNAME:EDT
DTSTART:20200308T070000
END:DAYLIGHT
BEGIN:STANDARD
TZOFFSETFROM:-0400
TZOFFSETTO:-0500
TZNAME:EST
DTSTART:20201101T060000
END:STANDARD
BEGIN:DAYLIGHT
TZOFFSETFROM:-0500
TZOFFSETTO:-0400
TZNAME:EDT
DTSTART:20210314T070000
END:DAYLIGHT
BEGIN:STANDARD
TZOFFSETFROM:-0400
TZOFFSETTO:-0500
TZNAME:EST
DTSTART:20211107T060000
END:STANDARD
BEGIN:DAYLIGHT
TZOFFSETFROM:-0500
TZOFFSETTO:-0400
TZNAME:EDT
DTSTART:20220313T070000
END:DAYLIGHT
BEGIN:STANDARD
TZOFFSETFROM:-0400
TZOFFSETTO:-0500
TZNAME:EST
DTSTART:20221106T060000
END:STANDARD
END:VTIMEZONE
BEGIN:VEVENT
DTSTART;TZID=America/New_York:20210310T120000
DTEND;TZID=America/New_York:20210310T133000
DTSTAMP:20260423T230726
CREATED:20210218T215737Z
LAST-MODIFIED:20210220T040301Z
UID:10010414-1615377600-1615383000@goodmorningwilton.com
SUMMARY:Wilton Library Book Discussion: Lost Children Archive
DESCRIPTION:Using Zoom\, professional book discussion leader Susan Boyar discusses Lost Children Archive by Valeria Luiselli. Attendees may feel free to munch their lunches while discussing the book. The group meets the second Wednesday of each month through June. A Zoom link will be emailed to all registrants a few days before the meeting. Register here. Please email questions.
URL:https://goodmorningwilton.com/event/wilton-library-book-discussion-lost-children-archive/
LOCATION:ZOOM
CATEGORIES:Book Group,discussion,Library,Zoom Call
ATTACH;FMTTYPE=image/jpeg:https://goodmorningwilton.com/wp-content/uploads/2021/02/WLA-Readers-Mar.jpg
ORGANIZER;CN="Wilton Library":MAILTO:publicity@wiltonlibrary.org
END:VEVENT
BEGIN:VEVENT
DTSTART;TZID=America/New_York:20210414T120000
DTEND;TZID=America/New_York:20210414T133000
DTSTAMP:20260423T230726
CREATED:20210329T174923Z
LAST-MODIFIED:20210330T213532Z
UID:10010628-1618401600-1618407000@goodmorningwilton.com
SUMMARY:Wilton Library Readers: "The Jane Austen Society"
DESCRIPTION:Using Zoom\, professional book discussion leader Susan Boyar discusses The Jane Austen Society by Natalie Jenner. Attendees may feel free to munch their lunches while discussing the book. The group will meet the second Wednesday of each month through June. A Zoom link will be provided to all registrants a few days before the meeting. Email any questions. Register here.
URL:https://goodmorningwilton.com/event/wilton-library-readers-the-jane-austen-society/2021-04-14/
LOCATION:ZOOM
CATEGORIES:Book Group,Library,Zoom Call
ATTACH;FMTTYPE=image/jpeg:https://goodmorningwilton.com/wp-content/uploads/2021/03/jane_austen.jpg
ORGANIZER;CN="Wilton Library":MAILTO:publicity@wiltonlibrary.org
END:VEVENT
BEGIN:VEVENT
DTSTART;TZID=America/New_York:20210609T120000
DTEND;TZID=America/New_York:20210609T133000
DTSTAMP:20260423T230726
CREATED:20210329T174923Z
LAST-MODIFIED:20210422T234145Z
UID:10010629-1623240000-1623245400@goodmorningwilton.com
SUMMARY:Wilton Library Readers: "The Jane Austen Society"
DESCRIPTION:Using Zoom\, professional book discussion leader Susan Boyar discusses The Jane Austen Society by Natalie Jenner. Attendees may feel free to munch their lunches while discussing the book. The group will meet the second Wednesday of each month through June. A Zoom link will be provided to all registrants a few days before the meeting. Email any questions. Register here.
URL:https://goodmorningwilton.com/event/wilton-library-readers-the-jane-austen-society-2021-06-09/
LOCATION:ZOOM
CATEGORIES:Book Group,Library,Zoom Call
ATTACH;FMTTYPE=image/jpeg:https://goodmorningwilton.com/wp-content/uploads/2021/03/jane_austen.jpg
ORGANIZER;CN="Wilton Library":MAILTO:publicity@wiltonlibrary.org
END:VEVENT
BEGIN:VEVENT
DTSTART;TZID=America/New_York:20210714T120000
DTEND;TZID=America/New_York:20210714T133000
DTSTAMP:20260423T230726
CREATED:20210702T204850Z
LAST-MODIFIED:20210715T205418Z
UID:10010804-1626264000-1626269400@goodmorningwilton.com
SUMMARY:New Yorker Shorts: Four Weeks of Short Stories From The New Yorker
DESCRIPTION:New Yorker Shorts: Four Weeks of Short Stories From The New Yorker is back by popular demand for its 7th year. Using Zoom\, professional book discussion leader Susan Boyar will discuss 4 short stories published in The New Yorker magazine over 4 consecutive weeks.  Story titles will be announced one week prior to the discussion. The current issue of The New Yorker is available in the Reading Room for in-library use\, or download it through OverDrive on your computer or the Libby by OverDrive app on your mobile device. Links to the stories on The New Yorker‘s website will also be provided. Online registration required. We will email you an invitation link shortly before the event. You must register for each individual session. Please note that the Zoom link for each week’s session will come by email from kzeibak@wiltonlibrary.org. Email any questions to Karen Zeibak.
URL:https://goodmorningwilton.com/event/new-yorker-shorts-four-weeks-of-short-stories-from-the-new-yorker-2/2021-07-14/
LOCATION:ZOOM
CATEGORIES:Library
ATTACH;FMTTYPE=image/png:https://goodmorningwilton.com/wp-content/uploads/2021/07/ORIGINAL_NEW_YORKER_COVER_77470B84.png
ORGANIZER;CN="Wilton Library":MAILTO:publicity@wiltonlibrary.org
END:VEVENT
BEGIN:VEVENT
DTSTART;TZID=America/New_York:20210721T120000
DTEND;TZID=America/New_York:20210721T133000
DTSTAMP:20260423T230726
CREATED:20210702T204850Z
LAST-MODIFIED:20210715T205418Z
UID:10010805-1626868800-1626874200@goodmorningwilton.com
SUMMARY:New Yorker Shorts: Four Weeks of Short Stories From The New Yorker
DESCRIPTION:New Yorker Shorts: Four Weeks of Short Stories From The New Yorker is back by popular demand for its 7th year. Using Zoom\, professional book discussion leader Susan Boyar will discuss 4 short stories published in The New Yorker magazine over 4 consecutive weeks.  Story titles will be announced one week prior to the discussion. The current issue of The New Yorker is available in the Reading Room for in-library use\, or download it through OverDrive on your computer or the Libby by OverDrive app on your mobile device. Links to the stories on The New Yorker‘s website will also be provided. Online registration required. We will email you an invitation link shortly before the event. You must register for each individual session. Please note that the Zoom link for each week’s session will come by email from kzeibak@wiltonlibrary.org. Email any questions to Karen Zeibak.
URL:https://goodmorningwilton.com/event/new-yorker-shorts-four-weeks-of-short-stories-from-the-new-yorker-2/2021-07-21/
LOCATION:ZOOM
CATEGORIES:Library
ATTACH;FMTTYPE=image/png:https://goodmorningwilton.com/wp-content/uploads/2021/07/ORIGINAL_NEW_YORKER_COVER_77470B84.png
ORGANIZER;CN="Wilton Library":MAILTO:publicity@wiltonlibrary.org
END:VEVENT
BEGIN:VEVENT
DTSTART;TZID=America/New_York:20210728T120000
DTEND;TZID=America/New_York:20210728T133000
DTSTAMP:20260423T230726
CREATED:20210702T204850Z
LAST-MODIFIED:20210715T205418Z
UID:10010806-1627473600-1627479000@goodmorningwilton.com
SUMMARY:New Yorker Shorts: Four Weeks of Short Stories From The New Yorker
DESCRIPTION:New Yorker Shorts: Four Weeks of Short Stories From The New Yorker is back by popular demand for its 7th year. Using Zoom\, professional book discussion leader Susan Boyar will discuss 4 short stories published in The New Yorker magazine over 4 consecutive weeks.  Story titles will be announced one week prior to the discussion. The current issue of The New Yorker is available in the Reading Room for in-library use\, or download it through OverDrive on your computer or the Libby by OverDrive app on your mobile device. Links to the stories on The New Yorker‘s website will also be provided. Online registration required. We will email you an invitation link shortly before the event. You must register for each individual session. Please note that the Zoom link for each week’s session will come by email from kzeibak@wiltonlibrary.org. Email any questions to Karen Zeibak.
URL:https://goodmorningwilton.com/event/new-yorker-shorts-four-weeks-of-short-stories-from-the-new-yorker-2/2021-07-28/
LOCATION:ZOOM
CATEGORIES:Library
ATTACH;FMTTYPE=image/png:https://goodmorningwilton.com/wp-content/uploads/2021/07/ORIGINAL_NEW_YORKER_COVER_77470B84.png
ORGANIZER;CN="Wilton Library":MAILTO:publicity@wiltonlibrary.org
END:VEVENT
BEGIN:VEVENT
DTSTART;TZID=America/New_York:20210804T120000
DTEND;TZID=America/New_York:20210804T133000
DTSTAMP:20260423T230726
CREATED:20210702T204850Z
LAST-MODIFIED:20210715T205418Z
UID:10010807-1628078400-1628083800@goodmorningwilton.com
SUMMARY:New Yorker Shorts: Four Weeks of Short Stories From The New Yorker
DESCRIPTION:New Yorker Shorts: Four Weeks of Short Stories From The New Yorker is back by popular demand for its 7th year. Using Zoom\, professional book discussion leader Susan Boyar will discuss 4 short stories published in The New Yorker magazine over 4 consecutive weeks.  Story titles will be announced one week prior to the discussion. The current issue of The New Yorker is available in the Reading Room for in-library use\, or download it through OverDrive on your computer or the Libby by OverDrive app on your mobile device. Links to the stories on The New Yorker‘s website will also be provided. Online registration required. We will email you an invitation link shortly before the event. You must register for each individual session. Please note that the Zoom link for each week’s session will come by email from kzeibak@wiltonlibrary.org. Email any questions to Karen Zeibak.
URL:https://goodmorningwilton.com/event/new-yorker-shorts-four-weeks-of-short-stories-from-the-new-yorker-2/2021-08-04/
LOCATION:ZOOM
CATEGORIES:Library
ATTACH;FMTTYPE=image/png:https://goodmorningwilton.com/wp-content/uploads/2021/07/ORIGINAL_NEW_YORKER_COVER_77470B84.png
ORGANIZER;CN="Wilton Library":MAILTO:publicity@wiltonlibrary.org
END:VEVENT
BEGIN:VEVENT
DTSTART;TZID=America/New_York:20211208T120000
DTEND;TZID=America/New_York:20211208T133000
DTSTAMP:20260423T230726
CREATED:20211122T163842Z
LAST-MODIFIED:20211124T210117Z
UID:10011037-1638964800-1638970200@goodmorningwilton.com
SUMMARY:Wilton Library Readers: The Depletion Prompts by David Means
DESCRIPTION:Using Zoom\, on Wednesday\, Dec. 8 from 12 pm to 1:30 pm professional book discussion leader Susan Boyar will discuss the short story “The Depletion Prompts” from the November issue of The New Yorker magazine. Space is limited and online registration is required. Registrants must have a Zoom account. A Zoom link will be emailed to all registrants before the meeting. \nThe November 1\, 2021 issue of The New Yorker is available for checkout\, or download through OverDrive on your computer or the Libby by OverDrive app on your mobile device. The story can be found on The New Yorker’s website. A copy of the story will also be available at the reference desk.
URL:https://goodmorningwilton.com/event/wilton-library-readers-the-depletion-prompts-by-david-means/
LOCATION:ZOOM
CATEGORIES:Book Group,discussion,Library,Online,Zoom Call
ATTACH;FMTTYPE=image/jpeg:https://goodmorningwilton.com/wp-content/uploads/2021/11/DepletionPrompts211101_r39257web.jpg
ORGANIZER;CN="Wilton Library":MAILTO:publicity@wiltonlibrary.org
END:VEVENT
END:VCALENDAR