BEGIN:VCALENDAR
VERSION:2.0
PRODID:-//Good Morning Wilton - ECPv6.15.20//NONSGML v1.0//EN
CALSCALE:GREGORIAN
METHOD:PUBLISH
X-WR-CALNAME:Good Morning Wilton
X-ORIGINAL-URL:https://goodmorningwilton.com
X-WR-CALDESC:Events for Good Morning Wilton
REFRESH-INTERVAL;VALUE=DURATION:PT1H
X-Robots-Tag:noindex
X-PUBLISHED-TTL:PT1H
BEGIN:VTIMEZONE
TZID:America/New_York
BEGIN:DAYLIGHT
TZOFFSETFROM:-0500
TZOFFSETTO:-0400
TZNAME:EDT
DTSTART:20230312T070000
END:DAYLIGHT
BEGIN:STANDARD
TZOFFSETFROM:-0400
TZOFFSETTO:-0500
TZNAME:EST
DTSTART:20231105T060000
END:STANDARD
BEGIN:DAYLIGHT
TZOFFSETFROM:-0500
TZOFFSETTO:-0400
TZNAME:EDT
DTSTART:20240310T070000
END:DAYLIGHT
BEGIN:STANDARD
TZOFFSETFROM:-0400
TZOFFSETTO:-0500
TZNAME:EST
DTSTART:20241103T060000
END:STANDARD
BEGIN:DAYLIGHT
TZOFFSETFROM:-0500
TZOFFSETTO:-0400
TZNAME:EDT
DTSTART:20250309T070000
END:DAYLIGHT
BEGIN:STANDARD
TZOFFSETFROM:-0400
TZOFFSETTO:-0500
TZNAME:EST
DTSTART:20251102T060000
END:STANDARD
END:VTIMEZONE
BEGIN:VEVENT
DTSTART;TZID=America/New_York:20240208T163000
DTEND;TZID=America/New_York:20240208T173000
DTSTAMP:20260423T183511
CREATED:20240207T033136Z
LAST-MODIFIED:20240207T033136Z
UID:10015010-1707409800-1707413400@goodmorningwilton.com
SUMMARY:Make Your Own Sugar Lip Scrub for Teens
DESCRIPTION:Join Wilton Libary in making a simple sugar lip scrub to soften up chapped lips. It is chilly out and the perfect time to pamper your lips. Give it to a friend for Valentine’s Day\, or keep it as a treat to yourself! \nRegistration is required as space is limited. This program is for Grades 6-12. Register online.
URL:https://goodmorningwilton.com/event/make-your-own-sugar-lip-scrub-for-teens/
LOCATION:Wilton Library\, 137 Old Ridgefield Rd.\, Wilton\, CT\, 06987
CATEGORIES:craft,Create!,Library,Teens
ATTACH;FMTTYPE=image/jpeg:https://goodmorningwilton.com/wp-content/uploads/2024/02/LIPSCRUB_DD060FC1.jpg
END:VEVENT
BEGIN:VEVENT
DTSTART;TZID=America/New_York:20240307T163000
DTEND;TZID=America/New_York:20240307T173000
DTSTAMP:20260423T183511
CREATED:20240301T180053Z
LAST-MODIFIED:20240301T180053Z
UID:10015653-1709829000-1709832600@goodmorningwilton.com
SUMMARY:St. Patrick's Day Diamond Painting for Teens
DESCRIPTION:Wilton Library hosts Diamond Painting for teens. The luck of the Irish is not necessary to diamond paint a St. Patrick’s Day themed keychain! New to diamond painting? A special tool is used to place “diamonds” on a color-coded image. The results are dazzling! \nRegistration is required as space is limited. This program is for Grades 6-12. Register online.
URL:https://goodmorningwilton.com/event/st-patricks-day-diamond-painting-for-teens/
LOCATION:Wilton Library\, 137 Old Ridgefield Rd.\, Wilton\, CT\, 06987
CATEGORIES:craft,Create!,Library,Teens
ATTACH;FMTTYPE=image/jpeg:https://goodmorningwilton.com/wp-content/uploads/2024/02/GREENDIAMOND_8D6B5337.jpg
END:VEVENT
BEGIN:VEVENT
DTSTART;TZID=America/New_York:20240325T153000
DTEND;TZID=America/New_York:20240325T170000
DTSTAMP:20260423T183511
CREATED:20240307T000648Z
LAST-MODIFIED:20240307T000648Z
UID:10015672-1711380600-1711386000@goodmorningwilton.com
SUMMARY:Zentangle Art Workshop: Zooming with Amy (Zoom)
DESCRIPTION:Join Amy\, Wilton Library’s certified Zentangle teacher (CZT)\, as she guides everyone through a fun and relaxing Zentangle session on Zoom. This meditative art form uses simple steps to teach practitioners how to create beautiful patterns. It’s suitable for anyone who doesn’t believe they can draw\, as well as experienced artists. \nThe program is for adults and teens\, ages 13 and up. \nRegistration is required online and space is limited. The Zoom link will be sent no later than the morning of the program. Visit Wilton Library’s website to see short video tutorials and find suggestions for supplies needed.
URL:https://goodmorningwilton.com/event/zentangle-art-workshop-zooming-with-amy-zoom-6/
LOCATION:ZOOM
CATEGORIES:Arts,craft,Create!,Library,Online,Zoom Call
ATTACH;FMTTYPE=image/jpeg:https://goodmorningwilton.com/wp-content/uploads/2024/03/sentangle.jpg
END:VEVENT
BEGIN:VEVENT
DTSTART;TZID=America/New_York:20240406T173000
DTEND;TZID=America/New_York:20240406T230000
DTSTAMP:20260423T183511
CREATED:20240204T180950Z
LAST-MODIFIED:20240204T180950Z
UID:10014962-1712424600-1712444400@goodmorningwilton.com
SUMMARY:Final Four Watch Party Courtside at Trackside Teen Center
DESCRIPTION:Trackside Teen Center invites UConn Husky Nation and basketball fans everywhere to a Final Four Watch Party on Saturday\, April 6. Watch the Final Four games on Trackside’s 600 square-foot stadium screen and 500 square-foot cafe screen. \nNew this year — bring your own food and drink! Bring your best wings and enter the Wing Competition\, with prizes for winners. \nDoors open at 5:30/6 p.m. until 11 p.m.; game one TBD at 6 p.m.\, game two TBD at 8:30 p.m. \nSuggested donation is $10-$20 per family.
URL:https://goodmorningwilton.com/event/final-four-watch-party-courtside-at-trackside-teen-center/
LOCATION:Trackside Teen Center\, 15 Station Road\, Wilton\, CT\, 06897\, United States
CATEGORIES:Family Event,Food,Game,Sports
ATTACH;FMTTYPE=image/png:https://goodmorningwilton.com/wp-content/uploads/2024/01/IMG_0460.png
END:VEVENT
BEGIN:VEVENT
DTSTART;TZID=America/New_York:20240418T150000
DTEND;TZID=America/New_York:20240418T163000
DTSTAMP:20260423T183511
CREATED:20240407T230956Z
LAST-MODIFIED:20240407T230956Z
UID:10015795-1713452400-1713457800@goodmorningwilton.com
SUMMARY:Take the Stage: An Acting Workshop for Teens
DESCRIPTION:Students participating in this Wilton Library workshop will have the wonderful opportunity to try their hands at some theatre games\, improvisations and acting exercises. \nEveryone will participate in this exciting exploration without feeling put on the spot. The workshop will begin with some fun and inviting warm-up games that gradually build their way to more challenging improvisations. Though disguised as play\, these exercises work on a student’s concentration\, creativity and critical thinking skills. \nIngrid Schaeffer\, workshop leader\, is Chair of the Theatre Department at ACES Educational Center for the Arts. She also is the director of her own private Creative Dramatics program\, InterAct Summer Theatre\, for children ages 7-15. She is a member of Actor’s Equity\, The American Alliance for Theatre in Education and The American Theatre Association. \nRegistration is required. This program is for teens in rising grades 6-12 only.\nTo register\, visit online.
URL:https://goodmorningwilton.com/event/take-the-stage-an-acting-workshop-for-teens-2/
LOCATION:Wilton Library\, 137 Old Ridgefield Rd.\, Wilton\, CT\, 06987
CATEGORIES:Free,Library,Performance,Teens,Theater,Workshop
ATTACH;FMTTYPE=image/jpeg:https://goodmorningwilton.com/wp-content/uploads/2024/04/ActingWorkshopTeens.jpeg
END:VEVENT
BEGIN:VEVENT
DTSTART;TZID=America/New_York:20240424T153000
DTEND;TZID=America/New_York:20240424T163000
DTSTAMP:20260423T183511
CREATED:20240407T234741Z
LAST-MODIFIED:20240407T234741Z
UID:10015803-1713972600-1713976200@goodmorningwilton.com
SUMMARY:Wilton Reads: Book Discussion and Poetry for Teens
DESCRIPTION:For Wilton Reads 2024\, Wilton Library’s teen pick is Silver People by Margarita Engle. Set during the building of the Panama Canal\, this novel in verse follows two main characters and a collection of different fictional and historical voices. Join to discuss the book and create some poetry of your own! \nRegistration is required as space and supplies are limited. Attendees will receive a copy of Silver People to keep. \nThis program is for grades 6-12. To register\, visit online.
URL:https://goodmorningwilton.com/event/wilton-reads-book-discussion-and-poetry-for-teens/
LOCATION:Wilton Library\, 137 Old Ridgefield Rd.\, Wilton\, CT\, 06987
CATEGORIES:Book Group,discussion,Free,Library,Teens
ATTACH;FMTTYPE=image/jpeg:https://goodmorningwilton.com/wp-content/uploads/2024/04/SilverPeoplecover.jpg
END:VEVENT
BEGIN:VEVENT
DTSTART;TZID=America/New_York:20240429T180000
DTEND;TZID=America/New_York:20240429T193000
DTSTAMP:20260423T183511
CREATED:20240408T002120Z
LAST-MODIFIED:20240408T002120Z
UID:10015809-1714413600-1714419000@goodmorningwilton.com
SUMMARY:How to Find the Right College for You (Zoom)
DESCRIPTION:Wilton Library understands that with over 2\,000 four-year colleges in the United States for students to consider\, it is difficult to identify the school at which your teen will be happiest and most successful. Where do you start looking? \nDuring this interactive Zoom workshop\, Priyanka Shingala of Let’s Talk College will share ways for attendees to evaluate the many factors that need to be considered. Following a brief presentation\, Shingala will open the floor to discussion and questions. This event is open to all parents and teens. \nShingala has been working in the test prep industry for 11 years and started her own business Let’s Talk College\, LLC in 2018. Her goal is to help simplify the college applications process in the most painless\, low-stress way possible.
URL:https://goodmorningwilton.com/event/how-to-find-the-right-college-for-you-zoom/
LOCATION:ZOOM
CATEGORIES:discussion,Library,Presentation,Schools,Teens,Workshop,Zoom Call
ATTACH;FMTTYPE=image/jpeg:https://goodmorningwilton.com/wp-content/uploads/2024/04/COLLEGE_7016CA73.jpg
END:VEVENT
BEGIN:VEVENT
DTSTART;TZID=America/New_York:20240508T163000
DTEND;TZID=America/New_York:20240508T173000
DTSTAMP:20260423T183511
CREATED:20240504T021422Z
LAST-MODIFIED:20240504T021422Z
UID:10016749-1715185800-1715189400@goodmorningwilton.com
SUMMARY:Edible Cookie Dough Bites for Teens
DESCRIPTION:Love chocolate chip cookie dough? Don’t want to cook (or eat raw eggs)? Join Wilton Library to make yummy edible cookie dough bites – no oven necessary. \nRegistration is required as space is limited. This program is for Grades 6-12. To register\, visit online.
URL:https://goodmorningwilton.com/event/edible-cookie-dough-bites-for-teens/
LOCATION:Wilton Library\, 137 Old Ridgefield Rd.\, Wilton\, CT\, 06987
CATEGORIES:Cooking Demonstration,Food,Library,Teens
ATTACH;FMTTYPE=image/jpeg:https://goodmorningwilton.com/wp-content/uploads/2024/05/COOKIE_DOUGH_BC3362F0.jpg
END:VEVENT
BEGIN:VEVENT
DTSTART;TZID=America/New_York:20240513T153000
DTEND;TZID=America/New_York:20240513T170000
DTSTAMP:20260423T183511
CREATED:20240510T021817Z
LAST-MODIFIED:20240510T021817Z
UID:10016880-1715614200-1715619600@goodmorningwilton.com
SUMMARY:Zentangle Art Workshop
DESCRIPTION:Join Amy\, Wilton Library’s certified Zentangle instructor\, as she guides participants through a fun and relaxing Zentangle art session at the library. This meditative art form uses simple steps to teach practitioners how to create beautiful patterns. Suitable for anyone who doesn’t believe they can draw\, as well as experienced artists. \nThis program is for adults and teens\, ages 13 and up.\nAll supplies provided. \nSpace is limited; registration is required. To register\, visit online.
URL:https://goodmorningwilton.com/event/zentangle-art-workshop-6/
LOCATION:Wilton Library\, 137 Old Ridgefield Rd.\, Wilton\, CT\, 06987
CATEGORIES:Arts,craft,Create!,Library
ATTACH;FMTTYPE=image/jpeg:https://goodmorningwilton.com/wp-content/uploads/2024/05/TANGLE_4A066D33-1.jpg
END:VEVENT
BEGIN:VEVENT
DTSTART;TZID=America/New_York:20240530T180000
DTEND;TZID=America/New_York:20240530T193000
DTSTAMP:20260423T183511
CREATED:20240514T204531Z
LAST-MODIFIED:20240514T204531Z
UID:10016898-1717092000-1717097400@goodmorningwilton.com
SUMMARY:Rising Seniors: College Application Timeline (Zoom)
DESCRIPTION:Rising seniors have a lot coming up in the next year as they navigate college essays and applications\, in addition to regularly scheduled schoolwork & extracurriculars. \nBut what if there was a way to organize the workload in such a way to dramatically decrease senior stress levels? \nWilton Library\, with Priyanka Shingala\, wants to talk about it. \nIn this session\, led by Shingala of Let’s Talk College\, LLC\, join a discussion about: \n– Essays\, Supplementals\, Interviews: What To Do & When\n– Maximizing Your Summer: What to Complete Before Senior Year\n– Asking for Recommendations: Who to Ask & When\n– The College Application Website & Admissions Cycles (EA\, ED\, Regular\, Rolling Admissions\, etc)\n– Managing Your Stress \nRegistration is required in order to receive the Zoom link. To register\, visit online.
URL:https://goodmorningwilton.com/event/rising-seniors-college-application-timeline-zoom/
LOCATION:ZOOM
CATEGORIES:discussion,Library,Presentation,Schools,Teens,Workshop,Zoom Call
ATTACH;FMTTYPE=image/jpeg:https://goodmorningwilton.com/wp-content/uploads/2024/05/EDUCATION4796952_1280_156B39F0.jpeg
END:VEVENT
BEGIN:VEVENT
DTSTART;TZID=America/New_York:20240608T123000
DTEND;TZID=America/New_York:20240608T143000
DTSTAMP:20260423T183511
CREATED:20240531T005046Z
LAST-MODIFIED:20240531T005046Z
UID:10016936-1717849800-1717857000@goodmorningwilton.com
SUMMARY:Wilton Library's Ice Cream Social
DESCRIPTION:Wilton Library hosts a good old-fashioned Ice Cream Social on Saturday\, June 8\, from 12:30 to 2:30 p.m. in the library parking lot. All members of the Wilton community are invited to attend this special event! \nCollege Creamery will once again be handing out free\, individually-wrapped ice cream\, while supplies last. Enjoy live music by trustee Matt Greene and friends (weather permitting)\, face painting for kids\, and more. \nNew residents are encouraged to sign up for their new library cards.
URL:https://goodmorningwilton.com/event/wilton-librarys-ice-cream-social-2/
LOCATION:Wilton Library\, 137 Old Ridgefield Rd.\, Wilton\, CT\, 06987
CATEGORIES:Community Events,Family Event,Food,Free,Kids,Library,Live Music,Outdoor Event,Teens
ATTACH;FMTTYPE=image/jpeg:https://goodmorningwilton.com/wp-content/uploads/2024/05/IceCreamSocial2023IMG_4089-scaled.jpg
END:VEVENT
BEGIN:VEVENT
DTSTART;TZID=America/New_York:20240612T160000
DTEND;TZID=America/New_York:20240612T180000
DTSTAMP:20260423T183511
CREATED:20240601T000534Z
LAST-MODIFIED:20240601T000534Z
UID:10017019-1718208000-1718215200@goodmorningwilton.com
SUMMARY:Therapy Dog Visit
DESCRIPTION:Finishing the school year can be stressful! Relax by meeting therapy dogs from ROAR in the Teen Room at Wilton Library. The library asks that everyone takes turns so as to make sure the dogs and their humans are comfortable. \nNo registration required\, all are welcome to drop in. This program is intended for teens.
URL:https://goodmorningwilton.com/event/therapy-dog-visit/
LOCATION:Wilton Library\, 137 Old Ridgefield Rd.\, Wilton\, CT\, 06987
CATEGORIES:Animals,Health & Wellness,Library,Schools,Teens
ATTACH;FMTTYPE=image/jpeg:https://goodmorningwilton.com/wp-content/uploads/2024/05/dog-5565234_640.jpg
END:VEVENT
BEGIN:VEVENT
DTSTART;VALUE=DATE:20240614
DTEND;VALUE=DATE:20240826
DTSTAMP:20260423T183511
CREATED:20240601T002243Z
LAST-MODIFIED:20240601T002243Z
UID:10017022-1718323200-1724630399@goodmorningwilton.com
SUMMARY:Wilton Library Teen Summer Reading Club 2024
DESCRIPTION:This summer\, adventure begins at Wilton Library! Join Wilton Library’s Teen Summer Reading Club\, open to rising 6-12 graders. \nStarting on Friday\, June 14\, teens can sign up on the library’s website or download the Beanstack app and choose Wilton Library (CT) to register. Teens will keep track of the time spent reading and then log the number of minutes in Beanstack. Badges will earn them prizes and chances in weekly drawings! All reading counts: books\, magazines\, graphic novels\, audiobooks — anything they want to read. So join Wilton Library this summer and get reading! The program runs through Sunday\, August 25. \nNOTE: Do not use school email addresses — they will not work.
URL:https://goodmorningwilton.com/event/wilton-library-teen-summer-reading-club-2024/
LOCATION:Wilton Library\, 137 Old Ridgefield Rd.\, Wilton\, CT\, 06987
CATEGORIES:Club,Educational,Free,Library,Teens
ATTACH;FMTTYPE=image/jpeg:https://goodmorningwilton.com/wp-content/uploads/2024/05/FB_2024_Children_ENG-1-scaled.jpg
END:VEVENT
BEGIN:VEVENT
DTSTART;TZID=America/New_York:20240614T130000
DTEND;TZID=America/New_York:20240614T180000
DTSTAMP:20260423T183511
CREATED:20240601T002735Z
LAST-MODIFIED:20240601T002735Z
UID:10017023-1718370000-1718388000@goodmorningwilton.com
SUMMARY:Summer Reading Kickoff! for Teens
DESCRIPTION:The Teen Summer Reading Program at Wilton Library kicks off on June 14. \nTweens and Teens in grades 6-12 can visit the Teen Room to decorate a tote bag to hold all their summer essentials! They can sign up for the Summer Reading Program while they are at the library.
URL:https://goodmorningwilton.com/event/summer-reading-kickoff-for-teens/
LOCATION:Wilton Library\, 137 Old Ridgefield Rd.\, Wilton\, CT\, 06987
CATEGORIES:Club,Educational,Free,Library,Teens
ATTACH;FMTTYPE=image/png:https://goodmorningwilton.com/wp-content/uploads/2024/05/kickoff.png
END:VEVENT
BEGIN:VEVENT
DTSTART;TZID=America/New_York:20240620T160000
DTEND;TZID=America/New_York:20240620T170000
DTSTAMP:20260423T183511
CREATED:20240604T011846Z
LAST-MODIFIED:20240604T011846Z
UID:10017399-1718899200-1718902800@goodmorningwilton.com
SUMMARY:STEM with SingulTech: Egg Drop Challenge
DESCRIPTION:Up for a challenge? — The Egg Drop Challenge? Join Wilton Library’s Robotics Team and create a structure to keep an egg safe when it’s dropped. \nRegister online (required). This program is for rising 5-8 graders.
URL:https://goodmorningwilton.com/event/stem-with-singultech-egg-drop-challenge/
LOCATION:Wilton Library\, 137 Old Ridgefield Rd.\, Wilton\, CT\, 06987
CATEGORIES:Educational,Free,Library,STEM,Teens
ATTACH;FMTTYPE=image/jpeg:https://goodmorningwilton.com/wp-content/uploads/2024/06/eggs.jpg
END:VEVENT
BEGIN:VEVENT
DTSTART;TZID=America/New_York:20240626T150000
DTEND;TZID=America/New_York:20240626T170000
DTSTAMP:20260423T183511
CREATED:20240612T234812Z
LAST-MODIFIED:20240612T234812Z
UID:10017421-1719414000-1719421200@goodmorningwilton.com
SUMMARY:Dungeons & Dragons
DESCRIPTION:Join Wilton Library for a run of The Skybreaker Chronicle\, a D&D one-shot adventure for 8th level characters featuring fantastical figurines printed from the Innovation Station’s 3D printer. \nA master artificer has hired the characters to run security for the presentation of her latest invention\, but when an accident sees the characters transported to a strange land\, they will have to work together to make it home. Experienced and beginning players welcome. Dice and miniatures will be provided for player characters\, but feel free to design something with the library’s 3D printer ahead of time! \nFor rising 6-12 graders\, with limited space. This will be a three-week campaign\, each Wednesday from 3-5 p.m. on June 26\, July 3\, and July 10. \nRegister online (required).
URL:https://goodmorningwilton.com/event/dungeons-dragons/2024-06-26/
LOCATION:Wilton Library\, 137 Old Ridgefield Rd.\, Wilton\, CT\, 06987
CATEGORIES:Club,Game,Library,Teens
ATTACH;FMTTYPE=image/jpeg:https://goodmorningwilton.com/wp-content/uploads/2024/06/DungeonsandDragons.jpg
END:VEVENT
BEGIN:VEVENT
DTSTART;TZID=America/New_York:20240703T150000
DTEND;TZID=America/New_York:20240703T170000
DTSTAMP:20260423T183511
CREATED:20240612T234812Z
LAST-MODIFIED:20240612T234812Z
UID:10017422-1720018800-1720026000@goodmorningwilton.com
SUMMARY:Dungeons & Dragons
DESCRIPTION:Join Wilton Library for a run of The Skybreaker Chronicle\, a D&D one-shot adventure for 8th level characters featuring fantastical figurines printed from the Innovation Station’s 3D printer. \nA master artificer has hired the characters to run security for the presentation of her latest invention\, but when an accident sees the characters transported to a strange land\, they will have to work together to make it home. Experienced and beginning players welcome. Dice and miniatures will be provided for player characters\, but feel free to design something with the library’s 3D printer ahead of time! \nFor rising 6-12 graders\, with limited space. This will be a three-week campaign\, each Wednesday from 3-5 p.m. on June 26\, July 3\, and July 10. \nRegister online (required).
URL:https://goodmorningwilton.com/event/dungeons-dragons/2024-07-03/
LOCATION:Wilton Library\, 137 Old Ridgefield Rd.\, Wilton\, CT\, 06987
CATEGORIES:Club,Game,Library,Teens
ATTACH;FMTTYPE=image/jpeg:https://goodmorningwilton.com/wp-content/uploads/2024/06/DungeonsandDragons.jpg
END:VEVENT
BEGIN:VEVENT
DTSTART;TZID=America/New_York:20240710T150000
DTEND;TZID=America/New_York:20240710T170000
DTSTAMP:20260423T183511
CREATED:20240612T234812Z
LAST-MODIFIED:20240612T234812Z
UID:10017423-1720623600-1720630800@goodmorningwilton.com
SUMMARY:Dungeons & Dragons
DESCRIPTION:Join Wilton Library for a run of The Skybreaker Chronicle\, a D&D one-shot adventure for 8th level characters featuring fantastical figurines printed from the Innovation Station’s 3D printer. \nA master artificer has hired the characters to run security for the presentation of her latest invention\, but when an accident sees the characters transported to a strange land\, they will have to work together to make it home. Experienced and beginning players welcome. Dice and miniatures will be provided for player characters\, but feel free to design something with the library’s 3D printer ahead of time! \nFor rising 6-12 graders\, with limited space. This will be a three-week campaign\, each Wednesday from 3-5 p.m. on June 26\, July 3\, and July 10. \nRegister online (required).
URL:https://goodmorningwilton.com/event/dungeons-dragons/2024-07-10/
LOCATION:Wilton Library\, 137 Old Ridgefield Rd.\, Wilton\, CT\, 06987
CATEGORIES:Club,Game,Library,Teens
ATTACH;FMTTYPE=image/jpeg:https://goodmorningwilton.com/wp-content/uploads/2024/06/DungeonsandDragons.jpg
END:VEVENT
END:VCALENDAR