BEGIN:VCALENDAR
VERSION:2.0
PRODID:-//Good Morning Wilton - ECPv6.15.20//NONSGML v1.0//EN
CALSCALE:GREGORIAN
METHOD:PUBLISH
X-ORIGINAL-URL:https://goodmorningwilton.com
X-WR-CALDESC:Events for Good Morning Wilton
REFRESH-INTERVAL;VALUE=DURATION:PT1H
X-Robots-Tag:noindex
X-PUBLISHED-TTL:PT1H
BEGIN:VTIMEZONE
TZID:America/New_York
BEGIN:DAYLIGHT
TZOFFSETFROM:-0500
TZOFFSETTO:-0400
TZNAME:EDT
DTSTART:20220313T070000
END:DAYLIGHT
BEGIN:STANDARD
TZOFFSETFROM:-0400
TZOFFSETTO:-0500
TZNAME:EST
DTSTART:20221106T060000
END:STANDARD
BEGIN:DAYLIGHT
TZOFFSETFROM:-0500
TZOFFSETTO:-0400
TZNAME:EDT
DTSTART:20230312T070000
END:DAYLIGHT
BEGIN:STANDARD
TZOFFSETFROM:-0400
TZOFFSETTO:-0500
TZNAME:EST
DTSTART:20231105T060000
END:STANDARD
BEGIN:DAYLIGHT
TZOFFSETFROM:-0500
TZOFFSETTO:-0400
TZNAME:EDT
DTSTART:20240310T070000
END:DAYLIGHT
BEGIN:STANDARD
TZOFFSETFROM:-0400
TZOFFSETTO:-0500
TZNAME:EST
DTSTART:20241103T060000
END:STANDARD
END:VTIMEZONE
BEGIN:VEVENT
DTSTART;TZID=America/New_York:20230213T193000
DTEND;TZID=America/New_York:20230213T210000
DTSTAMP:20260426T000801
CREATED:20230116T203501Z
LAST-MODIFIED:20230127T184127Z
UID:10011677-1676316600-1676322000@goodmorningwilton.com
SUMMARY:Kevin’s Afterglow: A Real Conversation About Mental Health
DESCRIPTION:Two days after the sudden death of Kevin Kuczo\, a vigil was held outside the family’s Fairfield County home. His parents\, James and Kristen Kuczo\, were asked to speak to the people gathered in support and to honor the memory of the 17-year-old high school junior.  It would be the first of many such talks\, where the thoughts and words never got any easier. They addressed the large\, hushed crowd with honesty and courage. “What happened to Kevin was a tragedy. No parent should ever have to go through this. The only bigger tragedy would be if this happened again\,” the family said. Then\, the Kuczos made a heartfelt appeal to those gathered: \n“If you could try to make someone’s life a little better\, try to be a little kinder\, a little more giving\, then you could make all the difference for someone who really needs it.” \nThe Kuczos didn’t realize it at the time\, but their mission of helping others had begun. They started a new movement\, rooted in kindness and giving\, that would soon influence their community. In the months that followed\, the Kuczos continued to speak at middle school and high school events\, as well as to the local media. They shared their message of kindness and compassion\, while raising awareness for the vital issue of mental health. With each interaction\, the positive impact of Kevin’s Afterglow grows brighter\, illuminating the strengths of human kindness\, respect and compassion. \nThey have created Kevin’s Afterglow to carry out a mission: to teach kids kindness\, empathy\, and the ability to listen to others…\, give to others\, educate parents and children on mental health\, help address the pediatric mental health crisis\, and get people to talk. \nPlease join Trackside Teen Center on Monday\, Feb. 13\, as Kevin Kuzco’s father Jim discusses the pressures facing kids today\, suicide warning signs\, actions to prevent suicide\, and the organization he established in Kevin’s honor. Donations of $10 are encouraged\, and all money raised will go directly to Kevin’s Afterglow. This is recommended for ages 12 years and up. \nThe event is being held by Trackside Teen Center in partnership with Wilton Pride\, the Town of Wilton/Wilton Social Services\, the Wilton Public Schools and Kevin’s Afterglow. \nSome information republished from the Kevin’s Afterglow website. \nIf you or someone you know is experiencing suicidal thoughts or a crisis\, help is available now. Call or text 988\, or chat 988lifeline.org. These services are free and confidential.
URL:https://goodmorningwilton.com/event/kevins-afterglow-a-real-conversation-about-mental-health/
LOCATION:Trackside Teen Center\, 15 Station Road\, Wilton\, CT\, 06897\, United States
CATEGORIES:discussion,Family Event,Health & Wellness,Parenting,Presentation,Teens
ATTACH;FMTTYPE=image/png:https://goodmorningwilton.com/wp-content/uploads/2023/01/IMG_2191.png
END:VEVENT
BEGIN:VEVENT
DTSTART;TZID=America/New_York:20230427T183000
DTEND;TZID=America/New_York:20230427T193000
DTSTAMP:20260426T000801
CREATED:20230414T094324Z
LAST-MODIFIED:20230414T094324Z
UID:10010492-1682620200-1682623800@goodmorningwilton.com
SUMMARY:Wilton Reads: Post-Pandemic Mental Health for Young Adults
DESCRIPTION:Teens and young adults are facing unique challenges after the COVID-19 pandemic. Join Wilton Library for a panel discussion and Q&A featuring local mental health professionals. Gain insight on what tools and resources young people and their families can use for mental wellness. \nPanelists include Kaitlin Comet\, Program Coordinator from The Hub\, Sarah Edwards\, Project Coordinator for Turning Point CT\, William Testani\, Admissions Coordinator\, and Jack Britton\, Vice President of Clinical Services from Turnbridge Treatment Center. \nTeens\, young adults\, and their families are encouraged to attend this discussion and bring questions. Registration is required. Register on Wilton Library’s website.
URL:https://goodmorningwilton.com/event/wilton-reads-post-pandemic-mental-health-for-young-adults/
LOCATION:Wilton Library\, 137 Old Ridgefield Rd.\, Wilton\, CT\, 06987
CATEGORIES:discussion,Educational,Free,Health & Wellness,Library,Not for profit,Parenting,Presentation,Teens
ATTACH;FMTTYPE=image/jpeg:https://goodmorningwilton.com/wp-content/uploads/2023/04/PostPandemicMentalHealthMARIAHKRAFFTG87PTQNLQOEUNSPLASH_519B1500.jpg
END:VEVENT
END:VCALENDAR