BEGIN:VCALENDAR
VERSION:2.0
PRODID:-//Good Morning Wilton - ECPv6.15.20//NONSGML v1.0//EN
CALSCALE:GREGORIAN
METHOD:PUBLISH
X-ORIGINAL-URL:https://goodmorningwilton.com
X-WR-CALDESC:Events for Good Morning Wilton
REFRESH-INTERVAL;VALUE=DURATION:PT1H
X-Robots-Tag:noindex
X-PUBLISHED-TTL:PT1H
BEGIN:VTIMEZONE
TZID:America/New_York
BEGIN:DAYLIGHT
TZOFFSETFROM:-0500
TZOFFSETTO:-0400
TZNAME:EDT
DTSTART:20230312T070000
END:DAYLIGHT
BEGIN:STANDARD
TZOFFSETFROM:-0400
TZOFFSETTO:-0500
TZNAME:EST
DTSTART:20231105T060000
END:STANDARD
BEGIN:DAYLIGHT
TZOFFSETFROM:-0500
TZOFFSETTO:-0400
TZNAME:EDT
DTSTART:20240310T070000
END:DAYLIGHT
BEGIN:STANDARD
TZOFFSETFROM:-0400
TZOFFSETTO:-0500
TZNAME:EST
DTSTART:20241103T060000
END:STANDARD
BEGIN:DAYLIGHT
TZOFFSETFROM:-0500
TZOFFSETTO:-0400
TZNAME:EDT
DTSTART:20250309T070000
END:DAYLIGHT
BEGIN:STANDARD
TZOFFSETFROM:-0400
TZOFFSETTO:-0500
TZNAME:EST
DTSTART:20251102T060000
END:STANDARD
END:VTIMEZONE
BEGIN:VEVENT
DTSTART;TZID=America/New_York:20240314T183000
DTEND;TZID=America/New_York:20240314T200000
DTSTAMP:20260423T180511
CREATED:20240301T182412Z
LAST-MODIFIED:20240301T182412Z
UID:10015657-1710441000-1710446400@goodmorningwilton.com
SUMMARY:The Career and Films of Mel Brooks
DESCRIPTION:Join Wilton Library for a presentation of the Career and Films of Mel Brooks. As a writer\, director\, producer and performer\, few entertainers have had a career as influential as Brooks. From his early days as a Borscht Belt comic and performer to his TV writing on “Your Show Of Shows” and others\, to his well known directing canon with comic classics like Blazing Saddles (1974)\, Young Frankenstein (1974)\, and The Producers (1967)\, his body of work is impressive. What’s even more impressive is that he is still working after all these years. \nA Long Island-based filmmaker\, film historian\, and lecturer\, Greg Blank has over 15 years of experience as a producer\, director\, cinematographer\, and editor. \nRegistration is suggested online or call 203.762.6334.
URL:https://goodmorningwilton.com/event/the-career-and-films-of-mel-brooks/
LOCATION:Wilton Library\, 137 Old Ridgefield Rd.\, Wilton\, CT\, 06987
CATEGORIES:discussion,Film,Library,Presentation
ATTACH;FMTTYPE=image/png:https://goodmorningwilton.com/wp-content/uploads/2024/02/MELBROOKS2_7C22CF5F.png
END:VEVENT
END:VCALENDAR