BEGIN:VCALENDAR
VERSION:2.0
PRODID:-//Good Morning Wilton - ECPv6.15.20//NONSGML v1.0//EN
CALSCALE:GREGORIAN
METHOD:PUBLISH
X-WR-CALNAME:Good Morning Wilton
X-ORIGINAL-URL:https://goodmorningwilton.com
X-WR-CALDESC:Events for Good Morning Wilton
REFRESH-INTERVAL;VALUE=DURATION:PT1H
X-Robots-Tag:noindex
X-PUBLISHED-TTL:PT1H
BEGIN:VTIMEZONE
TZID:America/New_York
BEGIN:DAYLIGHT
TZOFFSETFROM:-0500
TZOFFSETTO:-0400
TZNAME:EDT
DTSTART:20230312T070000
END:DAYLIGHT
BEGIN:STANDARD
TZOFFSETFROM:-0400
TZOFFSETTO:-0500
TZNAME:EST
DTSTART:20231105T060000
END:STANDARD
BEGIN:DAYLIGHT
TZOFFSETFROM:-0500
TZOFFSETTO:-0400
TZNAME:EDT
DTSTART:20240310T070000
END:DAYLIGHT
BEGIN:STANDARD
TZOFFSETFROM:-0400
TZOFFSETTO:-0500
TZNAME:EST
DTSTART:20241103T060000
END:STANDARD
BEGIN:DAYLIGHT
TZOFFSETFROM:-0500
TZOFFSETTO:-0400
TZNAME:EDT
DTSTART:20250309T070000
END:DAYLIGHT
BEGIN:STANDARD
TZOFFSETFROM:-0400
TZOFFSETTO:-0500
TZNAME:EST
DTSTART:20251102T060000
END:STANDARD
END:VTIMEZONE
BEGIN:VEVENT
DTSTART;TZID=America/New_York:20240602T100000
DTEND;TZID=America/New_York:20240602T120000
DTSTAMP:20260419T233948
CREATED:20240430T005252Z
LAST-MODIFIED:20240430T005252Z
UID:10016740-1717322400-1717329600@goodmorningwilton.com
SUMMARY:Turtle Time 2024 A live turtle educational event Co-hosted by TheTurtleRoom and the Wilton Land Trust
DESCRIPTION:The Wilton Land Trust and theTurtleRoom have come together to offer another educational opportunity for kids\, adults\, and families to experience and learn more about turtles and tortoises. \nRain Date — June 9 \nAt this 90 minute event\, participants will have the chance to see rare Turtles and Tortoises and learn more about their conservation and survival. As partners\, these organizations are elevating minds within beautiful landscapes. \nTheTurtleRoom works to learn more about turtles and tortoises\, both in the wild and in captivity\, through research and observation; teaches others about the importance of turtles and tortoises and their unique characteristics; and implements conservation action in the wild and through captive assurance colonies. \nKevin Minto lives in the Northeast with his wife\, two daughters\, and their bale of turtles and tortoises. He is the Video Production Coordinator for TheTurtleRoom. Minto has a passion for teaching people about turtles and tortoises and looks forward to spreading information about how you can help save these amazing animals and be a Turtle Hero. \nJoin the WLT and theTurtleRoom on a crisp and clear spring morning to learn all about the secret lives of Turtles and Tortoises.
URL:https://goodmorningwilton.com/event/turtle-time-2024-a-live-turtle-educational-event-co-hosted-by-theturtleroom-and-the-wilton-land-trust/
LOCATION:183 Ridgefield Rd.\, 183 Ridgefield Rd.\, Wilton\, CT\, 06897\, United States
CATEGORIES:Animals,Community Events,Educational,Environmental,Nature,Outdoor Event
ATTACH;FMTTYPE=image/png:https://goodmorningwilton.com/wp-content/uploads/2024/04/Screenshot-2024-04-29-at-1.37.55 PM.png
END:VEVENT
END:VCALENDAR