BEGIN:VCALENDAR
VERSION:2.0
PRODID:-//Good Morning Wilton - ECPv6.15.20//NONSGML v1.0//EN
CALSCALE:GREGORIAN
METHOD:PUBLISH
X-ORIGINAL-URL:https://goodmorningwilton.com
X-WR-CALDESC:Events for Good Morning Wilton
REFRESH-INTERVAL;VALUE=DURATION:PT1H
X-Robots-Tag:noindex
X-PUBLISHED-TTL:PT1H
BEGIN:VTIMEZONE
TZID:America/New_York
BEGIN:DAYLIGHT
TZOFFSETFROM:-0500
TZOFFSETTO:-0400
TZNAME:EDT
DTSTART:20250309T070000
END:DAYLIGHT
BEGIN:STANDARD
TZOFFSETFROM:-0400
TZOFFSETTO:-0500
TZNAME:EST
DTSTART:20251102T060000
END:STANDARD
BEGIN:DAYLIGHT
TZOFFSETFROM:-0500
TZOFFSETTO:-0400
TZNAME:EDT
DTSTART:20260308T070000
END:DAYLIGHT
BEGIN:STANDARD
TZOFFSETFROM:-0400
TZOFFSETTO:-0500
TZNAME:EST
DTSTART:20261101T060000
END:STANDARD
BEGIN:DAYLIGHT
TZOFFSETFROM:-0500
TZOFFSETTO:-0400
TZNAME:EDT
DTSTART:20270314T070000
END:DAYLIGHT
BEGIN:STANDARD
TZOFFSETFROM:-0400
TZOFFSETTO:-0500
TZNAME:EST
DTSTART:20271107T060000
END:STANDARD
END:VTIMEZONE
BEGIN:VEVENT
DTSTART;TZID=America/New_York:20260218T180000
DTEND;TZID=America/New_York:20260218T203000
DTSTAMP:20260423T144612
CREATED:20260214T233530Z
LAST-MODIFIED:20260214T233530Z
UID:10022038-1771437600-1771446600@goodmorningwilton.com
SUMMARY:The Wilton Land Trust Annual Meeting
DESCRIPTION:The Wilton Land Trust’s Annual Meeting is set for Wednesday\, February 18\, in the Brubeck Room at the Wilton Library. The member meeting is at 6:00 p.m.\, refreshments at 6:30 p.m.\, organizational highlights with Executive Director Whitney Beaman and President Craig Johnson at 7:00 p.m.\, followed by a 7:30 p.m. keynote by entomologist Victor DeMasi on butterflies\, pollinators\, and pesticide impacts—featuring museum-quality specimens. \nRegister on their website to claim your spot!
URL:https://goodmorningwilton.com/event/the-wilton-land-trust-annual-meeting/
LOCATION:Wilton Library Brubeck Room\, 137 Old Ridgefield Rd\, Wilton\, 06897\, United States
CATEGORIES:Educational,Free,Library,Meeting
ATTACH;FMTTYPE=image/jpeg:https://goodmorningwilton.com/wp-content/uploads/2026/02/Annual-Meeting-Graphic.jpg
ORGANIZER;CN="Wilton Land Trust":MAILTO:whitney@wiltonlandtrust.org
END:VEVENT
END:VCALENDAR