BEGIN:VCALENDAR
VERSION:2.0
PRODID:-//Good Morning Wilton - ECPv6.15.20//NONSGML v1.0//EN
CALSCALE:GREGORIAN
METHOD:PUBLISH
X-WR-CALNAME:Good Morning Wilton
X-ORIGINAL-URL:https://goodmorningwilton.com
X-WR-CALDESC:Events for Good Morning Wilton
REFRESH-INTERVAL;VALUE=DURATION:PT1H
X-Robots-Tag:noindex
X-PUBLISHED-TTL:PT1H
BEGIN:VTIMEZONE
TZID:America/New_York
BEGIN:DAYLIGHT
TZOFFSETFROM:-0500
TZOFFSETTO:-0400
TZNAME:EDT
DTSTART:20230312T070000
END:DAYLIGHT
BEGIN:STANDARD
TZOFFSETFROM:-0400
TZOFFSETTO:-0500
TZNAME:EST
DTSTART:20231105T060000
END:STANDARD
BEGIN:DAYLIGHT
TZOFFSETFROM:-0500
TZOFFSETTO:-0400
TZNAME:EDT
DTSTART:20240310T070000
END:DAYLIGHT
BEGIN:STANDARD
TZOFFSETFROM:-0400
TZOFFSETTO:-0500
TZNAME:EST
DTSTART:20241103T060000
END:STANDARD
BEGIN:DAYLIGHT
TZOFFSETFROM:-0500
TZOFFSETTO:-0400
TZNAME:EDT
DTSTART:20250309T070000
END:DAYLIGHT
BEGIN:STANDARD
TZOFFSETFROM:-0400
TZOFFSETTO:-0500
TZNAME:EST
DTSTART:20251102T060000
END:STANDARD
END:VTIMEZONE
BEGIN:VEVENT
DTSTART;TZID=America/New_York:20240323T103000
DTEND;TZID=America/New_York:20240323T150000
DTSTAMP:20260420T084913
CREATED:20240301T195248Z
LAST-MODIFIED:20240301T195728Z
UID:10015664-1711189800-1711206000@goodmorningwilton.com
SUMMARY:AARP Safe Driving Course
DESCRIPTION:Join Wilton Library for this in-person session of the AARP Driver Safety Program\, which is the nation’s first and largest classroom driver safety course designed especially for drivers age 50 and older\, although all ages are welcome. This single session course covers the normal changes in vision\, hearing and reaction time associated with aging and provides practical techniques on how to adjust to these changes along with learning to operate vehicles more safely in today’s increasingly challenging driving environment. There are no written or driving tests. In-person classroom only. \nNY residents: please contact your insurance carrier to confirm they will accept a Connecticut State class certificate. Program cost: $20 for AARP members; $25 for non-members. Bring check (preferred) or cash only to the session. Also bring lunch if desired; there will be a 30 minute break. \nRegistration is required online or call 203.762.6334. Limited to 20 participants. Email for more information.
URL:https://goodmorningwilton.com/event/aarp-safe-driving-course-4/
LOCATION:Wilton Library\, 137 Old Ridgefield Rd.\, Wilton\, CT\, 06987
CATEGORIES:Class,Educational,Library,Presentation,Seniors
ATTACH;FMTTYPE=image/jpeg:https://goodmorningwilton.com/wp-content/uploads/2024/02/AARP-logo-1.jpg
END:VEVENT
END:VCALENDAR