BEGIN:VCALENDAR
VERSION:2.0
PRODID:-//Good Morning Wilton - ECPv6.15.20//NONSGML v1.0//EN
CALSCALE:GREGORIAN
METHOD:PUBLISH
X-WR-CALNAME:Good Morning Wilton
X-ORIGINAL-URL:https://goodmorningwilton.com
X-WR-CALDESC:Events for Good Morning Wilton
REFRESH-INTERVAL;VALUE=DURATION:PT1H
X-Robots-Tag:noindex
X-PUBLISHED-TTL:PT1H
BEGIN:VTIMEZONE
TZID:America/New_York
BEGIN:DAYLIGHT
TZOFFSETFROM:-0500
TZOFFSETTO:-0400
TZNAME:EDT
DTSTART:20200308T070000
END:DAYLIGHT
BEGIN:STANDARD
TZOFFSETFROM:-0400
TZOFFSETTO:-0500
TZNAME:EST
DTSTART:20201101T060000
END:STANDARD
BEGIN:DAYLIGHT
TZOFFSETFROM:-0500
TZOFFSETTO:-0400
TZNAME:EDT
DTSTART:20210314T070000
END:DAYLIGHT
BEGIN:STANDARD
TZOFFSETFROM:-0400
TZOFFSETTO:-0500
TZNAME:EST
DTSTART:20211107T060000
END:STANDARD
BEGIN:DAYLIGHT
TZOFFSETFROM:-0500
TZOFFSETTO:-0400
TZNAME:EDT
DTSTART:20220313T070000
END:DAYLIGHT
BEGIN:STANDARD
TZOFFSETFROM:-0400
TZOFFSETTO:-0500
TZNAME:EST
DTSTART:20221106T060000
END:STANDARD
BEGIN:DAYLIGHT
TZOFFSETFROM:-0500
TZOFFSETTO:-0400
TZNAME:EDT
DTSTART:20230312T070000
END:DAYLIGHT
BEGIN:STANDARD
TZOFFSETFROM:-0400
TZOFFSETTO:-0500
TZNAME:EST
DTSTART:20231105T060000
END:STANDARD
BEGIN:DAYLIGHT
TZOFFSETFROM:-0500
TZOFFSETTO:-0400
TZNAME:EDT
DTSTART:20240310T070000
END:DAYLIGHT
BEGIN:STANDARD
TZOFFSETFROM:-0400
TZOFFSETTO:-0500
TZNAME:EST
DTSTART:20241103T060000
END:STANDARD
BEGIN:DAYLIGHT
TZOFFSETFROM:-0500
TZOFFSETTO:-0400
TZNAME:EDT
DTSTART:20250309T070000
END:DAYLIGHT
BEGIN:STANDARD
TZOFFSETFROM:-0400
TZOFFSETTO:-0500
TZNAME:EST
DTSTART:20251102T060000
END:STANDARD
END:VTIMEZONE
BEGIN:VEVENT
DTSTART;TZID=America/New_York:20211113T090000
DTEND;TZID=America/New_York:20211113T120000
DTSTAMP:20260420T125155
CREATED:20211107T202700Z
LAST-MODIFIED:20211109T010623Z
UID:10011026-1636794000-1636804800@goodmorningwilton.com
SUMMARY:Wilton Police Department Tour
DESCRIPTION:The Wilton Police Department will be offering tours of its facility on Saturday\, Nov. 13\, 2021\, 9 am-12 pm. Members of the community are welcome to stop by anytime during these hours for a tour. Drawings of the proposed new building will also be on display outside. \nThe tours are being offered in conjunction with the work of the Police-Town Hall Building Committee that was charged with studying the deficiencies and needs of the WPD headquarters and subsequently made a recommendation to the BOS for the construction of a new building. The committee encourages residents to take advantage of the tours to learn about the building’s challenges firsthand. You may also do so at your leisure by visiting the project website.
URL:https://goodmorningwilton.com/event/wilton-police-department-tour/
LOCATION:Wilton Police Department\, 240 Danbury Rd.\, Wilton\, CT\, 06897\, United States
CATEGORIES:Open House,Police
ATTACH;FMTTYPE=image/jpeg:https://goodmorningwilton.com/wp-content/uploads/2021/03/3-15-21-Matthew-Collins-and-Kevin-Maloney-sworn-in-as-Wilton-Police-officers-.jpg
END:VEVENT
BEGIN:VEVENT
DTSTART;TZID=America/New_York:20230630T110000
DTEND;TZID=America/New_York:20230630T120000
DTSTAMP:20260420T125155
CREATED:20230613T095355Z
LAST-MODIFIED:20230613T095355Z
UID:10010647-1688122800-1688126400@goodmorningwilton.com
SUMMARY:Exhibits Guided Tour by Director Nick Foster
DESCRIPTION:On Saturday\, June 30\, from 11:00 a.m. to 12:00 p.m.\, the Wilton Historical Society will host a guided tour of its two new exhibitions – The Town Book: E. Boyd Smith’s 20th Century Wilton and Commitment to Community: The Lives of Francis Clerc and Francis Clerc Ogden. The tour\, led by Wilton Historical Society Director Nick Foster\, will offer additional historical details\, behind the scenes information\, and discussions on themes of the exhibitions. How do museums choose objects for an exhibition? Who influenced E. Boyd Smith’s art? What can we learn from working with the deaf community? Visitors can ask questions and share their own connections to the history being explored. \nThe program includes an approximately 35 to 45 minute guided tour of the two exhibitions with additional time for Q&A. \nThe fee is $10 for non-member adults and is free for Wilton Historical Society members and children under 18. Register on the Wilton Historical Society website.
URL:https://goodmorningwilton.com/event/exhibits-guided-tour-by-director-nick-foster/
LOCATION:Wilton Historical Society\, 224 Danbury Road\, Wilton\, CT
CATEGORIES:Art Exhibit,Arts,discussion,Educational,Not for profit
ATTACH;FMTTYPE=image/png:https://goodmorningwilton.com/wp-content/uploads/2023/06/2023-Exhibit-Logos-Combined.png
ORGANIZER;CN="Wilton Historical Society":MAILTO:info@wiltonhistorical.org
GEO:41.188207;-73.424639
X-APPLE-STRUCTURED-LOCATION;VALUE=URI;X-ADDRESS=Wilton Historical Society 224 Danbury Road Wilton CT;X-APPLE-RADIUS=500;X-TITLE=224 Danbury Road:geo:-73.424639,41.188207
END:VEVENT
BEGIN:VEVENT
DTSTART;TZID=America/New_York:20240502T103000
DTEND;TZID=America/New_York:20240502T120000
DTSTAMP:20260420T125155
CREATED:20240409T000904Z
LAST-MODIFIED:20240409T000904Z
UID:10015823-1714645800-1714651200@goodmorningwilton.com
SUMMARY:Tour the Brubeck Collection
DESCRIPTION:Join Stay at Home In Wilton as curator Michael Bellacosa gives a guided tour of Wilton Library’s Brubeck Collection to learn more about Wilton’s hometown legend Dave Brubeck. \nThe Brubeck Collection is one of the preeminent jazz archives in the world and assures the preservation of Brubeck’s legacy. \nThere is a limited capacity. RSVP 203.762.2600 or email.
URL:https://goodmorningwilton.com/event/tour-the-brubeck-collection/
LOCATION:Wilton Library\, 137 Old Ridgefield Rd.\, Wilton\, CT\, 06987
CATEGORIES:Educational,Library,Musical,Presentation
ATTACH;FMTTYPE=image/png:https://goodmorningwilton.com/wp-content/uploads/2024/04/brubeck.png
ORGANIZER;CN="Stay at Home in Wilton":MAILTO:deb@shwil.org
END:VEVENT
END:VCALENDAR