BEGIN:VCALENDAR
VERSION:2.0
PRODID:-//Good Morning Wilton - ECPv6.15.20//NONSGML v1.0//EN
CALSCALE:GREGORIAN
METHOD:PUBLISH
X-ORIGINAL-URL:https://goodmorningwilton.com
X-WR-CALDESC:Events for Good Morning Wilton
REFRESH-INTERVAL;VALUE=DURATION:PT1H
X-Robots-Tag:noindex
X-PUBLISHED-TTL:PT1H
BEGIN:VTIMEZONE
TZID:America/New_York
BEGIN:DAYLIGHT
TZOFFSETFROM:-0500
TZOFFSETTO:-0400
TZNAME:EDT
DTSTART:20200308T070000
END:DAYLIGHT
BEGIN:STANDARD
TZOFFSETFROM:-0400
TZOFFSETTO:-0500
TZNAME:EST
DTSTART:20201101T060000
END:STANDARD
BEGIN:DAYLIGHT
TZOFFSETFROM:-0500
TZOFFSETTO:-0400
TZNAME:EDT
DTSTART:20210314T070000
END:DAYLIGHT
BEGIN:STANDARD
TZOFFSETFROM:-0400
TZOFFSETTO:-0500
TZNAME:EST
DTSTART:20211107T060000
END:STANDARD
BEGIN:DAYLIGHT
TZOFFSETFROM:-0500
TZOFFSETTO:-0400
TZNAME:EDT
DTSTART:20220313T070000
END:DAYLIGHT
BEGIN:STANDARD
TZOFFSETFROM:-0400
TZOFFSETTO:-0500
TZNAME:EST
DTSTART:20221106T060000
END:STANDARD
BEGIN:DAYLIGHT
TZOFFSETFROM:-0500
TZOFFSETTO:-0400
TZNAME:EDT
DTSTART:20230312T070000
END:DAYLIGHT
BEGIN:STANDARD
TZOFFSETFROM:-0400
TZOFFSETTO:-0500
TZNAME:EST
DTSTART:20231105T060000
END:STANDARD
BEGIN:DAYLIGHT
TZOFFSETFROM:-0500
TZOFFSETTO:-0400
TZNAME:EDT
DTSTART:20240310T070000
END:DAYLIGHT
BEGIN:STANDARD
TZOFFSETFROM:-0400
TZOFFSETTO:-0500
TZNAME:EST
DTSTART:20241103T060000
END:STANDARD
BEGIN:DAYLIGHT
TZOFFSETFROM:-0500
TZOFFSETTO:-0400
TZNAME:EDT
DTSTART:20250309T070000
END:DAYLIGHT
BEGIN:STANDARD
TZOFFSETFROM:-0400
TZOFFSETTO:-0500
TZNAME:EST
DTSTART:20251102T060000
END:STANDARD
BEGIN:DAYLIGHT
TZOFFSETFROM:-0500
TZOFFSETTO:-0400
TZNAME:EDT
DTSTART:20260308T070000
END:DAYLIGHT
BEGIN:STANDARD
TZOFFSETFROM:-0400
TZOFFSETTO:-0500
TZNAME:EST
DTSTART:20261101T060000
END:STANDARD
BEGIN:DAYLIGHT
TZOFFSETFROM:-0500
TZOFFSETTO:-0400
TZNAME:EDT
DTSTART:20270314T070000
END:DAYLIGHT
BEGIN:STANDARD
TZOFFSETFROM:-0400
TZOFFSETTO:-0500
TZNAME:EST
DTSTART:20271107T060000
END:STANDARD
END:VTIMEZONE
BEGIN:VEVENT
DTSTART;TZID=America/New_York:20210121T190000
DTEND;TZID=America/New_York:20210121T203000
DTSTAMP:20260425T111733
CREATED:20210119T142354Z
LAST-MODIFIED:20210120T141954Z
UID:10010188-1611255600-1611261000@goodmorningwilton.com
SUMMARY:Freeplay: A Night of Improv Comedy
DESCRIPTION:Wilton High School kicks off 2021 with the return of Freeplay! Brought to you virtually for the safety of all participants\, Freeplay will still provoke the belly laughter of the in-person experience. 45 WHS student actors and crew have been “working from home” for months to ensure the best virtual shenanigans\, foolery\, antic and absurdity. Don’t miss the chance to see Freeplay\, three nights in a row! All performances will be different every night so join us for all of them! Online tickets will provide the links to the live stream of each performance.
URL:https://goodmorningwilton.com/event/freeplay-a-night-of-improv-comedy/2021-01-21/
LOCATION:Online
CATEGORIES:Arts,Online,Performance,Schools,Teens,Theater
ATTACH;FMTTYPE=image/jpeg:https://goodmorningwilton.com/wp-content/uploads/2021/01/IMG_2409.jpg
ORGANIZER;CN="Wilton High School Theater Department":MAILTO:whstix@wiltonps.org
END:VEVENT
BEGIN:VEVENT
DTSTART;TZID=America/New_York:20210122T190000
DTEND;TZID=America/New_York:20210122T203000
DTSTAMP:20260425T111733
CREATED:20210119T142354Z
LAST-MODIFIED:20210120T141954Z
UID:10010189-1611342000-1611347400@goodmorningwilton.com
SUMMARY:Freeplay: A Night of Improv Comedy
DESCRIPTION:Wilton High School kicks off 2021 with the return of Freeplay! Brought to you virtually for the safety of all participants\, Freeplay will still provoke the belly laughter of the in-person experience. 45 WHS student actors and crew have been “working from home” for months to ensure the best virtual shenanigans\, foolery\, antic and absurdity. Don’t miss the chance to see Freeplay\, three nights in a row! All performances will be different every night so join us for all of them! Online tickets will provide the links to the live stream of each performance.
URL:https://goodmorningwilton.com/event/freeplay-a-night-of-improv-comedy/2021-01-22/
LOCATION:Online
CATEGORIES:Arts,Online,Performance,Schools,Teens,Theater
ATTACH;FMTTYPE=image/jpeg:https://goodmorningwilton.com/wp-content/uploads/2021/01/IMG_2409.jpg
ORGANIZER;CN="Wilton High School Theater Department":MAILTO:whstix@wiltonps.org
END:VEVENT
BEGIN:VEVENT
DTSTART;TZID=America/New_York:20210123T190000
DTEND;TZID=America/New_York:20210123T203000
DTSTAMP:20260425T111733
CREATED:20210119T142354Z
LAST-MODIFIED:20210120T141954Z
UID:10010190-1611428400-1611433800@goodmorningwilton.com
SUMMARY:Freeplay: A Night of Improv Comedy
DESCRIPTION:Wilton High School kicks off 2021 with the return of Freeplay! Brought to you virtually for the safety of all participants\, Freeplay will still provoke the belly laughter of the in-person experience. 45 WHS student actors and crew have been “working from home” for months to ensure the best virtual shenanigans\, foolery\, antic and absurdity. Don’t miss the chance to see Freeplay\, three nights in a row! All performances will be different every night so join us for all of them! Online tickets will provide the links to the live stream of each performance.
URL:https://goodmorningwilton.com/event/freeplay-a-night-of-improv-comedy/2021-01-23/
LOCATION:Online
CATEGORIES:Arts,Online,Performance,Schools,Teens,Theater
ATTACH;FMTTYPE=image/jpeg:https://goodmorningwilton.com/wp-content/uploads/2021/01/IMG_2409.jpg
ORGANIZER;CN="Wilton High School Theater Department":MAILTO:whstix@wiltonps.org
END:VEVENT
BEGIN:VEVENT
DTSTART;TZID=America/New_York:20251107T190000
DTEND;TZID=America/New_York:20251107T213000
DTSTAMP:20260425T111733
CREATED:20251028T154409Z
LAST-MODIFIED:20251028T154409Z
UID:10020024-1762542000-1762551000@goodmorningwilton.com
SUMMARY:"Shakespeare in Love"
DESCRIPTION:Wilton High School Theatre kicks off the season with Shakespeare in Love\, the romantic comedy based on the 1998 film of the same title. A young Shakespeare is out of cash and ideas\, when he meets his ideal woman and she inspires him to write one of the most famous stories of all time. Shakespeare in Love is a delightful imagining of Shakespeare’s possible world and the calamity of Elizabethan theatre.
URL:https://goodmorningwilton.com/event/shakespeare-in-love/2025-11-07/
LOCATION:The Little Theater at Wilton High School\, 395 Danbury Road\, Wilton\, CT\, 06897\, United States
CATEGORIES:Performance,Schools,Teens,Theater
ATTACH;FMTTYPE=image/png:https://goodmorningwilton.com/wp-content/uploads/2025/10/Screenshot-2025-09-02-at-2.20.44-PM.png
ORGANIZER;CN="WHS Theater":MAILTO:luckstonek@wiltonps.org
END:VEVENT
BEGIN:VEVENT
DTSTART;TZID=America/New_York:20251108T130000
DTEND;TZID=America/New_York:20251108T143000
DTSTAMP:20260425T111733
CREATED:20251028T154409Z
LAST-MODIFIED:20251028T154409Z
UID:10020025-1762606800-1762612200@goodmorningwilton.com
SUMMARY:"Shakespeare in Love"
DESCRIPTION:Wilton High School Theatre kicks off the season with Shakespeare in Love\, the romantic comedy based on the 1998 film of the same title. A young Shakespeare is out of cash and ideas\, when he meets his ideal woman and she inspires him to write one of the most famous stories of all time. Shakespeare in Love is a delightful imagining of Shakespeare’s possible world and the calamity of Elizabethan theatre.
URL:https://goodmorningwilton.com/event/shakespeare-in-love/2025-11-08/1/
LOCATION:The Little Theater at Wilton High School\, 395 Danbury Road\, Wilton\, CT\, 06897\, United States
CATEGORIES:Performance,Schools,Teens,Theater
ATTACH;FMTTYPE=image/png:https://goodmorningwilton.com/wp-content/uploads/2025/10/Screenshot-2025-09-02-at-2.20.44-PM.png
ORGANIZER;CN="WHS Theater":MAILTO:luckstonek@wiltonps.org
END:VEVENT
BEGIN:VEVENT
DTSTART;TZID=America/New_York:20251108T190000
DTEND;TZID=America/New_York:20251108T213000
DTSTAMP:20260425T111733
CREATED:20251028T154409Z
LAST-MODIFIED:20251028T154409Z
UID:10020026-1762628400-1762637400@goodmorningwilton.com
SUMMARY:"Shakespeare in Love"
DESCRIPTION:Wilton High School Theatre kicks off the season with Shakespeare in Love\, the romantic comedy based on the 1998 film of the same title. A young Shakespeare is out of cash and ideas\, when he meets his ideal woman and she inspires him to write one of the most famous stories of all time. Shakespeare in Love is a delightful imagining of Shakespeare’s possible world and the calamity of Elizabethan theatre.
URL:https://goodmorningwilton.com/event/shakespeare-in-love/2025-11-08/2/
LOCATION:The Little Theater at Wilton High School\, 395 Danbury Road\, Wilton\, CT\, 06897\, United States
CATEGORIES:Performance,Schools,Teens,Theater
ATTACH;FMTTYPE=image/png:https://goodmorningwilton.com/wp-content/uploads/2025/10/Screenshot-2025-09-02-at-2.20.44-PM.png
ORGANIZER;CN="WHS Theater":MAILTO:luckstonek@wiltonps.org
END:VEVENT
BEGIN:VEVENT
DTSTART;TZID=America/New_York:20251109T130000
DTEND;TZID=America/New_York:20251109T143000
DTSTAMP:20260425T111733
CREATED:20251028T154409Z
LAST-MODIFIED:20251028T154409Z
UID:10020027-1762693200-1762698600@goodmorningwilton.com
SUMMARY:"Shakespeare in Love"
DESCRIPTION:Wilton High School Theatre kicks off the season with Shakespeare in Love\, the romantic comedy based on the 1998 film of the same title. A young Shakespeare is out of cash and ideas\, when he meets his ideal woman and she inspires him to write one of the most famous stories of all time. Shakespeare in Love is a delightful imagining of Shakespeare’s possible world and the calamity of Elizabethan theatre.
URL:https://goodmorningwilton.com/event/shakespeare-in-love/2025-11-09/
LOCATION:The Little Theater at Wilton High School\, 395 Danbury Road\, Wilton\, CT\, 06897\, United States
CATEGORIES:Performance,Schools,Teens,Theater
ATTACH;FMTTYPE=image/png:https://goodmorningwilton.com/wp-content/uploads/2025/10/Screenshot-2025-09-02-at-2.20.44-PM.png
ORGANIZER;CN="WHS Theater":MAILTO:luckstonek@wiltonps.org
END:VEVENT
BEGIN:VEVENT
DTSTART;TZID=America/New_York:20260108T190000
DTEND;TZID=America/New_York:20260108T210000
DTSTAMP:20260425T111733
CREATED:20251229T131607Z
LAST-MODIFIED:20251229T131607Z
UID:10021497-1767898800-1767906000@goodmorningwilton.com
SUMMARY:Wilton High School Improv Comedy Presents ComedySportz
DESCRIPTION:Wilton High School Theatre kicks off the new year again with our students sporting their most ridiculous jokes with three nights of improv comedy. Brave the cold and warm up with the laughter and cheering for the funniest team!
URL:https://goodmorningwilton.com/event/wilton-high-school-improv-comedy-presents-comedysportz/2026-01-08/
LOCATION:The Little Theater at Wilton High School\, 395 Danbury Road\, Wilton\, CT\, 06897\, United States
CATEGORIES:Arts,Comedy,Performance,Schools,Teens,Theater
ATTACH;FMTTYPE=image/jpeg:https://goodmorningwilton.com/wp-content/uploads/2025/12/comedy-sportz-logo.jpeg
ORGANIZER;CN="WHS Theater":MAILTO:luckstonek@wiltonps.org
END:VEVENT
BEGIN:VEVENT
DTSTART;TZID=America/New_York:20260109T190000
DTEND;TZID=America/New_York:20260109T210000
DTSTAMP:20260425T111733
CREATED:20251229T131607Z
LAST-MODIFIED:20251229T131607Z
UID:10021498-1767985200-1767992400@goodmorningwilton.com
SUMMARY:Wilton High School Improv Comedy Presents ComedySportz
DESCRIPTION:Wilton High School Theatre kicks off the new year again with our students sporting their most ridiculous jokes with three nights of improv comedy. Brave the cold and warm up with the laughter and cheering for the funniest team!
URL:https://goodmorningwilton.com/event/wilton-high-school-improv-comedy-presents-comedysportz/2026-01-09/
LOCATION:The Little Theater at Wilton High School\, 395 Danbury Road\, Wilton\, CT\, 06897\, United States
CATEGORIES:Arts,Comedy,Performance,Schools,Teens,Theater
ATTACH;FMTTYPE=image/jpeg:https://goodmorningwilton.com/wp-content/uploads/2025/12/comedy-sportz-logo.jpeg
ORGANIZER;CN="WHS Theater":MAILTO:luckstonek@wiltonps.org
END:VEVENT
BEGIN:VEVENT
DTSTART;TZID=America/New_York:20260110T190000
DTEND;TZID=America/New_York:20260110T210000
DTSTAMP:20260425T111733
CREATED:20251229T131607Z
LAST-MODIFIED:20251229T131607Z
UID:10021499-1768071600-1768078800@goodmorningwilton.com
SUMMARY:Wilton High School Improv Comedy Presents ComedySportz
DESCRIPTION:Wilton High School Theatre kicks off the new year again with our students sporting their most ridiculous jokes with three nights of improv comedy. Brave the cold and warm up with the laughter and cheering for the funniest team!
URL:https://goodmorningwilton.com/event/wilton-high-school-improv-comedy-presents-comedysportz/2026-01-10/
LOCATION:The Little Theater at Wilton High School\, 395 Danbury Road\, Wilton\, CT\, 06897\, United States
CATEGORIES:Arts,Comedy,Performance,Schools,Teens,Theater
ATTACH;FMTTYPE=image/jpeg:https://goodmorningwilton.com/wp-content/uploads/2025/12/comedy-sportz-logo.jpeg
ORGANIZER;CN="WHS Theater":MAILTO:luckstonek@wiltonps.org
END:VEVENT
END:VCALENDAR