BEGIN:VCALENDAR
VERSION:2.0
PRODID:-//Good Morning Wilton - ECPv6.15.20//NONSGML v1.0//EN
CALSCALE:GREGORIAN
METHOD:PUBLISH
X-WR-CALNAME:Good Morning Wilton
X-ORIGINAL-URL:https://goodmorningwilton.com
X-WR-CALDESC:Events for Good Morning Wilton
REFRESH-INTERVAL;VALUE=DURATION:PT1H
X-Robots-Tag:noindex
X-PUBLISHED-TTL:PT1H
BEGIN:VTIMEZONE
TZID:America/New_York
BEGIN:DAYLIGHT
TZOFFSETFROM:-0500
TZOFFSETTO:-0400
TZNAME:EDT
DTSTART:20220313T070000
END:DAYLIGHT
BEGIN:STANDARD
TZOFFSETFROM:-0400
TZOFFSETTO:-0500
TZNAME:EST
DTSTART:20221106T060000
END:STANDARD
BEGIN:DAYLIGHT
TZOFFSETFROM:-0500
TZOFFSETTO:-0400
TZNAME:EDT
DTSTART:20230312T070000
END:DAYLIGHT
BEGIN:STANDARD
TZOFFSETFROM:-0400
TZOFFSETTO:-0500
TZNAME:EST
DTSTART:20231105T060000
END:STANDARD
BEGIN:DAYLIGHT
TZOFFSETFROM:-0500
TZOFFSETTO:-0400
TZNAME:EDT
DTSTART:20240310T070000
END:DAYLIGHT
BEGIN:STANDARD
TZOFFSETFROM:-0400
TZOFFSETTO:-0500
TZNAME:EST
DTSTART:20241103T060000
END:STANDARD
BEGIN:DAYLIGHT
TZOFFSETFROM:-0500
TZOFFSETTO:-0400
TZNAME:EDT
DTSTART:20250309T070000
END:DAYLIGHT
BEGIN:STANDARD
TZOFFSETFROM:-0400
TZOFFSETTO:-0500
TZNAME:EST
DTSTART:20251102T060000
END:STANDARD
BEGIN:DAYLIGHT
TZOFFSETFROM:-0500
TZOFFSETTO:-0400
TZNAME:EDT
DTSTART:20260308T070000
END:DAYLIGHT
BEGIN:STANDARD
TZOFFSETFROM:-0400
TZOFFSETTO:-0500
TZNAME:EST
DTSTART:20261101T060000
END:STANDARD
BEGIN:DAYLIGHT
TZOFFSETFROM:-0500
TZOFFSETTO:-0400
TZNAME:EDT
DTSTART:20270314T070000
END:DAYLIGHT
BEGIN:STANDARD
TZOFFSETFROM:-0400
TZOFFSETTO:-0500
TZNAME:EST
DTSTART:20271107T060000
END:STANDARD
END:VTIMEZONE
BEGIN:VEVENT
DTSTART;TZID=America/New_York:20231026T190000
DTEND;TZID=America/New_York:20231026T210000
DTSTAMP:20260420T024556
CREATED:20231017T203653Z
LAST-MODIFIED:20231017T204320Z
UID:10013333-1698346800-1698354000@goodmorningwilton.com
SUMMARY:2023 League of Women Voters Candidate Forum: Board of Selectmen and Board of Finance
DESCRIPTION:The Wilton League of Women Voters\, Wilton Library\, and GOOD Morning Wilton will cosponsor two events at which voters can hear from candidates running for positions on the Board of Selectmen\, the Board of Education\, and the Board of Finance. Both events will follow a Cumulative Time Format and both will be moderated by a League of Women Voters-certified\, out-of-town moderator who will present questions submitted by the public in written form. The sessions will take place in Wilton Library’s Brubeck Room and will be live-streamed on GOOD Morning Wilton‘s website. In addition\, the sessions will be recorded for later viewing on GOOD Morning Wilton and the Wilton Library website . \nThe Tuesday\, Oct. 24 forum will feature the candidates running for the Board of Education. The Thursday\, Oct. 26 forum will feature the candidates running for the Board of Selectmen and the Board of Finance. Both events will start at 7 p.m. The sessions will provide community members an opportunity to hear from the candidates who seek to serve and make critical decisions facing the town in the coming years; and to pose questions to them that will highlight their goals and priorities. \nQuestions for the candidates may be submitted in advance through the Wilton League of Women Voters via email or live from the audience in the Brubeck Room. Here are some important guidelines for submitting questions: anonymous emails will not be accepted; only one question can be submitted per email; all questions must be applicable to all candidates and pertinent to local issues; questions targeted at one specific candidate will not be accepted. All questions will be screened for legibility\, duplication\, and may be combined or condensed. All audience questions must be submitted in writing. \nThe LWV is a nonpartisan organization that encourages informed and active participation in government\, works to increase understanding of major public policy issues\, and influences public policy through education and advocacy. \nRegistration required. To register and see more details\, visit the Wilton Library online or call 203.762.6334. For more information\, email the Wilton League of Women Voters.
URL:https://goodmorningwilton.com/event/2023-league-of-women-voters-candidate-forum-board-of-selectmen-and-board-of-finance/
LOCATION:Wilton Library\, 137 Old Ridgefield Rd.\, Wilton\, CT\, 06987
CATEGORIES:Civic,Community Events,Government,Online,Politics
ATTACH;FMTTYPE=image/jpeg:https://goodmorningwilton.com/wp-content/uploads/2023/10/Vote-Button-1.jpg
END:VEVENT
BEGIN:VEVENT
DTSTART;TZID=America/New_York:20231108T190000
DTEND;TZID=America/New_York:20231108T203000
DTSTAMP:20260420T024556
CREATED:20231101T114538Z
LAST-MODIFIED:20231101T114538Z
UID:10013361-1699470000-1699475400@goodmorningwilton.com
SUMMARY:How Wilton Works: Meet Our Incoming First Selectman
DESCRIPTION:Although Wilton voters will not head to the polls until the first Tuesday in November\, we already know who will be serving as our next First Selectman as that race is uncontested. If you haven’t already met Toni Boucher\, please join Wilton Library and the Wilton League of Women Voters to meet her on Wednesday\, November 8 (the day after the election) in the Brubeck Room at 7:00 p.m. And even if you’ve known her for years\, please join us to learn what’s in store for Wilton in this community program where “The Incoming” can discuss major Issues facing Wilton in the coming year. \nAntoinetta “Toni” Boucher was born in Italy and came to the United States at age five. She has previously served Wilton constituents in a number of roles\, including both the Board of Education and the Board of Selectmen. Thereafter from 1996 to 2008 she served as state representative for the 143rd District\, and then as the 26th District’s state senator from 2008 to 2018. She has also worked extensively in the non-profit sector\, including as a former director at Commonfund\, one of the nation’s leading nonprofit asset management companies. \nBoucher will return to serving the Town of Wilton as First Selectman this December and hope you can join what is sure to be a good discussion. Coffee and light refreshments will be served. \nRegister on the Wilton Library website. \nThe program is free and open to the public. Co-sponsored by Wilton Library and the Wilton League of Women Voters.
URL:https://goodmorningwilton.com/event/how-wilton-works-meet-our-incoming-first-selectman/
LOCATION:Wilton Library\, 137 Old Ridgefield Rd.\, Wilton\, CT\, 06987
CATEGORIES:Civic,Community Events,Government,Politics
ATTACH;FMTTYPE=image/jpeg:https://goodmorningwilton.com/wp-content/uploads/2023/10/TONI_HEAD_SHOT_60A7CEAE.jpg
END:VEVENT
BEGIN:VEVENT
DTSTART;TZID=America/New_York:20250707T190000
DTEND;TZID=America/New_York:20250707T210000
DTSTAMP:20260420T024556
CREATED:20250819T085309Z
LAST-MODIFIED:20250819T085309Z
UID:10019494-1751914800-1751922000@goodmorningwilton.com
SUMMARY:Board of Selectmen Meeting
DESCRIPTION:The Board of Selectmen meet to discuss carrying out town government policies and administrative and budgetary matters. The public can attend these open meetings in person or via Zoom.
URL:https://goodmorningwilton.com/event/board-of-selectmen-meeting-3/2025-07-07/
LOCATION:Comstock Community Center
CATEGORIES:Civic,Government,Meeting,Online,Town/Government Meeting,Zoom Call
ATTACH;FMTTYPE=image/jpeg:https://goodmorningwilton.com/wp-content/uploads/2022/04/Town-Hall-3.jpeg
END:VEVENT
BEGIN:VEVENT
DTSTART;TZID=America/New_York:20250804T190000
DTEND;TZID=America/New_York:20250804T210000
DTSTAMP:20260420T024556
CREATED:20250819T085309Z
LAST-MODIFIED:20250819T085309Z
UID:10019495-1754334000-1754341200@goodmorningwilton.com
SUMMARY:Board of Selectmen Meeting
DESCRIPTION:The Board of Selectmen meet to discuss carrying out town government policies and administrative and budgetary matters. The public can attend these open meetings in person or via Zoom.
URL:https://goodmorningwilton.com/event/board-of-selectmen-meeting-3/2025-08-04/
LOCATION:Comstock Community Center
CATEGORIES:Civic,Government,Meeting,Online,Town/Government Meeting,Zoom Call
ATTACH;FMTTYPE=image/jpeg:https://goodmorningwilton.com/wp-content/uploads/2022/04/Town-Hall-3.jpeg
END:VEVENT
BEGIN:VEVENT
DTSTART;TZID=America/New_York:20250819T190000
DTEND;TZID=America/New_York:20250819T210000
DTSTAMP:20260420T024556
CREATED:20250819T094331Z
LAST-MODIFIED:20250819T094331Z
UID:10019508-1755630000-1755637200@goodmorningwilton.com
SUMMARY:Board of Selectmen Meeting
DESCRIPTION:The Board of Selectmen meet to discuss carrying out town government policies and administrative and budgetary matters. The public can attend these open meetings in person or via Zoom.
URL:https://goodmorningwilton.com/event/board-of-selectmen-meeting-4/2025-08-19/
LOCATION:Comstock Community Center
CATEGORIES:Civic,discussion,Free,Government,In Person,Meeting,Online,Town/Government Meeting,Zoom Call
ATTACH;FMTTYPE=image/jpeg:https://goodmorningwilton.com/wp-content/uploads/2022/04/Town-Hall-3.jpeg
END:VEVENT
BEGIN:VEVENT
DTSTART;TZID=America/New_York:20250902T190000
DTEND;TZID=America/New_York:20250902T210000
DTSTAMP:20260420T024556
CREATED:20250819T094715Z
LAST-MODIFIED:20250819T094715Z
UID:10019493-1756839600-1756846800@goodmorningwilton.com
SUMMARY:Board of Selectmen Meeting
DESCRIPTION:The Board of Selectmen meets to discuss carrying out town government policies and administrative and budgetary matters. The public can attend these open meetings in person or via Zoom.
URL:https://goodmorningwilton.com/event/board-of-selectmen-meeting-5/
LOCATION:Comstock Community Center
CATEGORIES:Civic,discussion,Free,Government,In Person,Meeting,Town/Government Meeting,Zoom Call
ATTACH;FMTTYPE=image/jpeg:https://goodmorningwilton.com/wp-content/uploads/2022/04/Town-Hall-3.jpeg
END:VEVENT
BEGIN:VEVENT
DTSTART;TZID=America/New_York:20250916T190000
DTEND;TZID=America/New_York:20250916T210000
DTSTAMP:20260420T024556
CREATED:20250819T094331Z
LAST-MODIFIED:20250819T094331Z
UID:10019509-1758049200-1758056400@goodmorningwilton.com
SUMMARY:Board of Selectmen Meeting
DESCRIPTION:The Board of Selectmen meet to discuss carrying out town government policies and administrative and budgetary matters. The public can attend these open meetings in person or via Zoom.
URL:https://goodmorningwilton.com/event/board-of-selectmen-meeting-4/2025-09-16/
LOCATION:Comstock Community Center
CATEGORIES:Civic,discussion,Free,Government,In Person,Meeting,Online,Town/Government Meeting,Zoom Call
ATTACH;FMTTYPE=image/jpeg:https://goodmorningwilton.com/wp-content/uploads/2022/04/Town-Hall-3.jpeg
END:VEVENT
BEGIN:VEVENT
DTSTART;TZID=America/New_York:20251006T190000
DTEND;TZID=America/New_York:20251006T210000
DTSTAMP:20260420T024556
CREATED:20250819T085309Z
LAST-MODIFIED:20250819T085309Z
UID:10019496-1759777200-1759784400@goodmorningwilton.com
SUMMARY:Board of Selectmen Meeting
DESCRIPTION:The Board of Selectmen meet to discuss carrying out town government policies and administrative and budgetary matters. The public can attend these open meetings in person or via Zoom.
URL:https://goodmorningwilton.com/event/board-of-selectmen-meeting-3/2025-10-06/
LOCATION:Comstock Community Center
CATEGORIES:Civic,Government,Meeting,Online,Town/Government Meeting,Zoom Call
ATTACH;FMTTYPE=image/jpeg:https://goodmorningwilton.com/wp-content/uploads/2022/04/Town-Hall-3.jpeg
END:VEVENT
BEGIN:VEVENT
DTSTART;TZID=America/New_York:20251021T190000
DTEND;TZID=America/New_York:20251021T210000
DTSTAMP:20260420T024556
CREATED:20250819T094331Z
LAST-MODIFIED:20250819T094331Z
UID:10019510-1761073200-1761080400@goodmorningwilton.com
SUMMARY:Board of Selectmen Meeting
DESCRIPTION:The Board of Selectmen meet to discuss carrying out town government policies and administrative and budgetary matters. The public can attend these open meetings in person or via Zoom.
URL:https://goodmorningwilton.com/event/board-of-selectmen-meeting-4/2025-10-21/
LOCATION:Comstock Community Center
CATEGORIES:Civic,discussion,Free,Government,In Person,Meeting,Online,Town/Government Meeting,Zoom Call
ATTACH;FMTTYPE=image/jpeg:https://goodmorningwilton.com/wp-content/uploads/2022/04/Town-Hall-3.jpeg
END:VEVENT
BEGIN:VEVENT
DTSTART;TZID=America/New_York:20251103T190000
DTEND;TZID=America/New_York:20251103T210000
DTSTAMP:20260420T024556
CREATED:20250819T085309Z
LAST-MODIFIED:20250819T085309Z
UID:10019497-1762196400-1762203600@goodmorningwilton.com
SUMMARY:Board of Selectmen Meeting
DESCRIPTION:The Board of Selectmen meet to discuss carrying out town government policies and administrative and budgetary matters. The public can attend these open meetings in person or via Zoom.
URL:https://goodmorningwilton.com/event/board-of-selectmen-meeting-3/2025-11-03/
LOCATION:Comstock Community Center
CATEGORIES:Civic,Government,Meeting,Online,Town/Government Meeting,Zoom Call
ATTACH;FMTTYPE=image/jpeg:https://goodmorningwilton.com/wp-content/uploads/2022/04/Town-Hall-3.jpeg
END:VEVENT
BEGIN:VEVENT
DTSTART;TZID=America/New_York:20251118T190000
DTEND;TZID=America/New_York:20251118T210000
DTSTAMP:20260420T024556
CREATED:20250819T094331Z
LAST-MODIFIED:20250819T094331Z
UID:10019511-1763492400-1763499600@goodmorningwilton.com
SUMMARY:Board of Selectmen Meeting
DESCRIPTION:The Board of Selectmen meet to discuss carrying out town government policies and administrative and budgetary matters. The public can attend these open meetings in person or via Zoom.
URL:https://goodmorningwilton.com/event/board-of-selectmen-meeting-4/2025-11-18/
LOCATION:Comstock Community Center
CATEGORIES:Civic,discussion,Free,Government,In Person,Meeting,Online,Town/Government Meeting,Zoom Call
ATTACH;FMTTYPE=image/jpeg:https://goodmorningwilton.com/wp-content/uploads/2022/04/Town-Hall-3.jpeg
END:VEVENT
BEGIN:VEVENT
DTSTART;TZID=America/New_York:20251201T190000
DTEND;TZID=America/New_York:20251201T210000
DTSTAMP:20260420T024556
CREATED:20250819T085309Z
LAST-MODIFIED:20250819T085309Z
UID:10019498-1764615600-1764622800@goodmorningwilton.com
SUMMARY:Board of Selectmen Meeting
DESCRIPTION:The Board of Selectmen meet to discuss carrying out town government policies and administrative and budgetary matters. The public can attend these open meetings in person or via Zoom.
URL:https://goodmorningwilton.com/event/board-of-selectmen-meeting-3/2025-12-01/
LOCATION:Comstock Community Center
CATEGORIES:Civic,Government,Meeting,Online,Town/Government Meeting,Zoom Call
ATTACH;FMTTYPE=image/jpeg:https://goodmorningwilton.com/wp-content/uploads/2022/04/Town-Hall-3.jpeg
END:VEVENT
BEGIN:VEVENT
DTSTART;TZID=America/New_York:20251216T190000
DTEND;TZID=America/New_York:20251216T210000
DTSTAMP:20260420T024556
CREATED:20250819T094331Z
LAST-MODIFIED:20250819T094331Z
UID:10019512-1765911600-1765918800@goodmorningwilton.com
SUMMARY:Board of Selectmen Meeting
DESCRIPTION:The Board of Selectmen meet to discuss carrying out town government policies and administrative and budgetary matters. The public can attend these open meetings in person or via Zoom.
URL:https://goodmorningwilton.com/event/board-of-selectmen-meeting-4/2025-12-16/
LOCATION:Comstock Community Center
CATEGORIES:Civic,discussion,Free,Government,In Person,Meeting,Online,Town/Government Meeting,Zoom Call
ATTACH;FMTTYPE=image/jpeg:https://goodmorningwilton.com/wp-content/uploads/2022/04/Town-Hall-3.jpeg
END:VEVENT
BEGIN:VEVENT
DTSTART;TZID=America/New_York:20260105T190000
DTEND;TZID=America/New_York:20260105T210000
DTSTAMP:20260420T024556
CREATED:20250819T085309Z
LAST-MODIFIED:20250819T085309Z
UID:10019499-1767639600-1767646800@goodmorningwilton.com
SUMMARY:Board of Selectmen Meeting
DESCRIPTION:The Board of Selectmen meet to discuss carrying out town government policies and administrative and budgetary matters. The public can attend these open meetings in person or via Zoom.
URL:https://goodmorningwilton.com/event/board-of-selectmen-meeting-3/2026-01-05/
LOCATION:Comstock Community Center
CATEGORIES:Civic,Government,Meeting,Online,Town/Government Meeting,Zoom Call
ATTACH;FMTTYPE=image/jpeg:https://goodmorningwilton.com/wp-content/uploads/2022/04/Town-Hall-3.jpeg
END:VEVENT
BEGIN:VEVENT
DTSTART;TZID=America/New_York:20260120T190000
DTEND;TZID=America/New_York:20260120T210000
DTSTAMP:20260420T024556
CREATED:20250819T094331Z
LAST-MODIFIED:20250819T094331Z
UID:10019513-1768935600-1768942800@goodmorningwilton.com
SUMMARY:Board of Selectmen Meeting
DESCRIPTION:The Board of Selectmen meet to discuss carrying out town government policies and administrative and budgetary matters. The public can attend these open meetings in person or via Zoom.
URL:https://goodmorningwilton.com/event/board-of-selectmen-meeting-4/2026-01-20/
LOCATION:Comstock Community Center
CATEGORIES:Civic,discussion,Free,Government,In Person,Meeting,Online,Town/Government Meeting,Zoom Call
ATTACH;FMTTYPE=image/jpeg:https://goodmorningwilton.com/wp-content/uploads/2022/04/Town-Hall-3.jpeg
END:VEVENT
BEGIN:VEVENT
DTSTART;TZID=America/New_York:20260202T190000
DTEND;TZID=America/New_York:20260202T210000
DTSTAMP:20260420T024556
CREATED:20250819T085309Z
LAST-MODIFIED:20250819T085309Z
UID:10019500-1770058800-1770066000@goodmorningwilton.com
SUMMARY:Board of Selectmen Meeting
DESCRIPTION:The Board of Selectmen meet to discuss carrying out town government policies and administrative and budgetary matters. The public can attend these open meetings in person or via Zoom.
URL:https://goodmorningwilton.com/event/board-of-selectmen-meeting-3/2026-02-02/
LOCATION:Comstock Community Center
CATEGORIES:Civic,Government,Meeting,Online,Town/Government Meeting,Zoom Call
ATTACH;FMTTYPE=image/jpeg:https://goodmorningwilton.com/wp-content/uploads/2022/04/Town-Hall-3.jpeg
END:VEVENT
BEGIN:VEVENT
DTSTART;TZID=America/New_York:20260217T190000
DTEND;TZID=America/New_York:20260217T210000
DTSTAMP:20260420T024556
CREATED:20250819T094331Z
LAST-MODIFIED:20250819T094331Z
UID:10019514-1771354800-1771362000@goodmorningwilton.com
SUMMARY:Board of Selectmen Meeting
DESCRIPTION:The Board of Selectmen meet to discuss carrying out town government policies and administrative and budgetary matters. The public can attend these open meetings in person or via Zoom.
URL:https://goodmorningwilton.com/event/board-of-selectmen-meeting-4/2026-02-17/
LOCATION:Comstock Community Center
CATEGORIES:Civic,discussion,Free,Government,In Person,Meeting,Online,Town/Government Meeting,Zoom Call
ATTACH;FMTTYPE=image/jpeg:https://goodmorningwilton.com/wp-content/uploads/2022/04/Town-Hall-3.jpeg
END:VEVENT
BEGIN:VEVENT
DTSTART;TZID=America/New_York:20260302T190000
DTEND;TZID=America/New_York:20260302T210000
DTSTAMP:20260420T024556
CREATED:20250819T085309Z
LAST-MODIFIED:20250819T085309Z
UID:10019501-1772478000-1772485200@goodmorningwilton.com
SUMMARY:Board of Selectmen Meeting
DESCRIPTION:The Board of Selectmen meet to discuss carrying out town government policies and administrative and budgetary matters. The public can attend these open meetings in person or via Zoom.
URL:https://goodmorningwilton.com/event/board-of-selectmen-meeting-3/2026-03-02/
LOCATION:Comstock Community Center
CATEGORIES:Civic,Government,Meeting,Online,Town/Government Meeting,Zoom Call
ATTACH;FMTTYPE=image/jpeg:https://goodmorningwilton.com/wp-content/uploads/2022/04/Town-Hall-3.jpeg
END:VEVENT
BEGIN:VEVENT
DTSTART;TZID=America/New_York:20260317T190000
DTEND;TZID=America/New_York:20260317T210000
DTSTAMP:20260420T024556
CREATED:20250819T094331Z
LAST-MODIFIED:20250819T094331Z
UID:10019515-1773774000-1773781200@goodmorningwilton.com
SUMMARY:Board of Selectmen Meeting
DESCRIPTION:The Board of Selectmen meet to discuss carrying out town government policies and administrative and budgetary matters. The public can attend these open meetings in person or via Zoom.
URL:https://goodmorningwilton.com/event/board-of-selectmen-meeting-4/2026-03-17/
LOCATION:Comstock Community Center
CATEGORIES:Civic,discussion,Free,Government,In Person,Meeting,Online,Town/Government Meeting,Zoom Call
ATTACH;FMTTYPE=image/jpeg:https://goodmorningwilton.com/wp-content/uploads/2022/04/Town-Hall-3.jpeg
END:VEVENT
BEGIN:VEVENT
DTSTART;TZID=America/New_York:20260406T190000
DTEND;TZID=America/New_York:20260406T210000
DTSTAMP:20260420T024556
CREATED:20250819T085309Z
LAST-MODIFIED:20250819T085309Z
UID:10019502-1775502000-1775509200@goodmorningwilton.com
SUMMARY:Board of Selectmen Meeting
DESCRIPTION:The Board of Selectmen meet to discuss carrying out town government policies and administrative and budgetary matters. The public can attend these open meetings in person or via Zoom.
URL:https://goodmorningwilton.com/event/board-of-selectmen-meeting-3/2026-04-06/
LOCATION:Comstock Community Center
CATEGORIES:Civic,Government,Meeting,Online,Town/Government Meeting,Zoom Call
ATTACH;FMTTYPE=image/jpeg:https://goodmorningwilton.com/wp-content/uploads/2022/04/Town-Hall-3.jpeg
END:VEVENT
END:VCALENDAR