BEGIN:VCALENDAR
VERSION:2.0
PRODID:-//Good Morning Wilton - ECPv6.15.20//NONSGML v1.0//EN
CALSCALE:GREGORIAN
METHOD:PUBLISH
X-ORIGINAL-URL:https://goodmorningwilton.com
X-WR-CALDESC:Events for Good Morning Wilton
REFRESH-INTERVAL;VALUE=DURATION:PT1H
X-Robots-Tag:noindex
X-PUBLISHED-TTL:PT1H
BEGIN:VTIMEZONE
TZID:America/New_York
BEGIN:DAYLIGHT
TZOFFSETFROM:-0500
TZOFFSETTO:-0400
TZNAME:EDT
DTSTART:20230312T070000
END:DAYLIGHT
BEGIN:STANDARD
TZOFFSETFROM:-0400
TZOFFSETTO:-0500
TZNAME:EST
DTSTART:20231105T060000
END:STANDARD
BEGIN:DAYLIGHT
TZOFFSETFROM:-0500
TZOFFSETTO:-0400
TZNAME:EDT
DTSTART:20240310T070000
END:DAYLIGHT
BEGIN:STANDARD
TZOFFSETFROM:-0400
TZOFFSETTO:-0500
TZNAME:EST
DTSTART:20241103T060000
END:STANDARD
BEGIN:DAYLIGHT
TZOFFSETFROM:-0500
TZOFFSETTO:-0400
TZNAME:EDT
DTSTART:20250309T070000
END:DAYLIGHT
BEGIN:STANDARD
TZOFFSETFROM:-0400
TZOFFSETTO:-0500
TZNAME:EST
DTSTART:20251102T060000
END:STANDARD
BEGIN:DAYLIGHT
TZOFFSETFROM:-0500
TZOFFSETTO:-0400
TZNAME:EDT
DTSTART:20260308T070000
END:DAYLIGHT
BEGIN:STANDARD
TZOFFSETFROM:-0400
TZOFFSETTO:-0500
TZNAME:EST
DTSTART:20261101T060000
END:STANDARD
END:VTIMEZONE
BEGIN:VEVENT
DTSTART;TZID=America/New_York:20240425T110000
DTEND;TZID=America/New_York:20240425T133000
DTSTAMP:20260423T010737
CREATED:20240311T210114Z
LAST-MODIFIED:20240311T210114Z
UID:10015683-1714042800-1714051800@goodmorningwilton.com
SUMMARY:The Wilton Woman's Club 15th Annual Fashion Show Fundraiser
DESCRIPTION:The Wilton Woman’s Club hosts their 15th annual Luncheon and Fashion Show featuring spring styles from Nordstrom modeled by WWC members. This event benefits the Caregiver Respite Program of Waveny Visiting Nurse & Hospice.
URL:https://goodmorningwilton.com/event/the-wilton-womans-club-15th-annual-fashion-show-fundraiser/
LOCATION:Rolling Hills Country Club\, 333 Hurlbutt Street\, Wilton\, CT\, 06897\, United States
CATEGORIES:Club,Fashion Show,Fundraiser
ATTACH;FMTTYPE=image/jpeg:https://goodmorningwilton.com/wp-content/uploads/2024/03/WWC-Invite-2024-FINAL-scaled.jpg
END:VEVENT
BEGIN:VEVENT
DTSTART;TZID=America/New_York:20240511T130000
DTEND;TZID=America/New_York:20240511T150000
DTSTAMP:20260423T010737
CREATED:20240407T225311Z
LAST-MODIFIED:20240407T225341Z
UID:10015794-1715432400-1715439600@goodmorningwilton.com
SUMMARY:Wilton Historical Society Victorian Tea Service
DESCRIPTION:Join the Wilton Historical Society for an afternoon filled with delicious teas\, delectable bites\, gorgeous flowers and memories created with loved ones! \nThe classic Afternoon Tea is a tradition born around 1840 when members of the British aristocracy felt the need to fill the long gap between the lunch and dinner menus. Consequently\, afternoon tea accompanied by a delicate snack became a staple and symbol of both the Victorian period and the wealth of the British Empire. As the popularity of the service grew\, certain utensils\, menus\, and etiquette developed along with it. \nThe Wilton Historical Society is excited to present their very own Victorian Tea Service on May 11 from 1 – 3 p.m.. Guests will enjoy a beautifully decorated tent in the courtyard of the Society’s campus. Also find all of the classically magnificent details expected from a 19th century tea service. A Dash of Salt will provide delicious teas and bites alongside a presentation on the History of Tea with an expert from Bigelow Tea. \nWildbloom Skincare and Bigelow Tea generously sponsor this event. \nWild Roses and Blooms generously provide the flowers and arrangements. \nTickets are $60 per person for Wilton Historical Society Members; $75 per person for Non-Members. Registration is required. \nVisit online or email to reserve a spot today! \nTake Note: This event is seated\, if you would like to sit with another party\, specify in the notes section upon registration.
URL:https://goodmorningwilton.com/event/victorian-tea-service/
LOCATION:Wilton Historical Society\, 224 Danbury Road\, Wilton\, CT
CATEGORIES:Community Events,Historic,Not for profit
ATTACH;FMTTYPE=image/png:https://goodmorningwilton.com/wp-content/uploads/2024/04/Victorian-Tea-Logo.png
ORGANIZER;CN="Wilton Historical Society":MAILTO:info@wiltonhistorical.org
GEO:41.188207;-73.424639
X-APPLE-STRUCTURED-LOCATION;VALUE=URI;X-ADDRESS=Wilton Historical Society 224 Danbury Road Wilton CT;X-APPLE-RADIUS=500;X-TITLE=224 Danbury Road:geo:-73.424639,41.188207
END:VEVENT
BEGIN:VEVENT
DTSTART;TZID=America/New_York:20250606T100000
DTEND;TZID=America/New_York:20250606T150000
DTSTAMP:20260423T010737
CREATED:20250321T201651Z
LAST-MODIFIED:20250321T201651Z
UID:10018845-1749204000-1749222000@goodmorningwilton.com
SUMMARY:A Better Chance of Wilton House Tour
DESCRIPTION:Join A Better Chance of Wilton on Friday\, June 6\, from 10 a.m.-3 p.m. for “Opening Our Hearts and Homes for ABC\,” a special Wilton house tour featuring five distinctive and stunning properties. This unique event offers a glimpse into some of Wilton’s most beautiful homes while supporting A Better Chance of Wilton and its mission. \nFor over 25 years\, A Better Chance of Wilton has provided educational opportunities to highly motivated high school students of color from across the United States. With 55 past scholars and five current students\, the program creates a supportive environment that fosters academic excellence and prepares students for college and beyond. Fully funded by private donations\, ABC Wilton continues to make a meaningful difference in the lives of its Scholars. \nThis year’s event is held in loving memory of George Andrew Davala III\, a former board member and dedicated supporter of A Better Chance of Wilton. His commitment to the program helped shape the opportunities available to our scholars\, and his legacy continues to inspire our work. \nFor more information about sponsoring the House Tour or to purchase tickets\, visit the ABC Wilton website.
URL:https://goodmorningwilton.com/event/a-better-chance-of-wilton-house-tour/
LOCATION:wilton\, Wilton\, CT\, 06897\, United States
CATEGORIES:Fundraiser,House Tour,Not for profit
ATTACH;FMTTYPE=image/png:https://goodmorningwilton.com/wp-content/uploads/2025/02/Version-1.png
END:VEVENT
END:VCALENDAR