BEGIN:VCALENDAR
VERSION:2.0
PRODID:-//Good Morning Wilton - ECPv6.15.20//NONSGML v1.0//EN
CALSCALE:GREGORIAN
METHOD:PUBLISH
X-WR-CALNAME:Good Morning Wilton
X-ORIGINAL-URL:https://goodmorningwilton.com
X-WR-CALDESC:Events for Good Morning Wilton
REFRESH-INTERVAL;VALUE=DURATION:PT1H
X-Robots-Tag:noindex
X-PUBLISHED-TTL:PT1H
BEGIN:VTIMEZONE
TZID:America/New_York
BEGIN:DAYLIGHT
TZOFFSETFROM:-0500
TZOFFSETTO:-0400
TZNAME:EDT
DTSTART:20230312T070000
END:DAYLIGHT
BEGIN:STANDARD
TZOFFSETFROM:-0400
TZOFFSETTO:-0500
TZNAME:EST
DTSTART:20231105T060000
END:STANDARD
BEGIN:DAYLIGHT
TZOFFSETFROM:-0500
TZOFFSETTO:-0400
TZNAME:EDT
DTSTART:20240310T070000
END:DAYLIGHT
BEGIN:STANDARD
TZOFFSETFROM:-0400
TZOFFSETTO:-0500
TZNAME:EST
DTSTART:20241103T060000
END:STANDARD
BEGIN:DAYLIGHT
TZOFFSETFROM:-0500
TZOFFSETTO:-0400
TZNAME:EDT
DTSTART:20250309T070000
END:DAYLIGHT
BEGIN:STANDARD
TZOFFSETFROM:-0400
TZOFFSETTO:-0500
TZNAME:EST
DTSTART:20251102T060000
END:STANDARD
END:VTIMEZONE
BEGIN:VEVENT
DTSTART;TZID=America/New_York:20240314T150000
DTEND;TZID=America/New_York:20240314T200000
DTSTAMP:20260423T195829
CREATED:20240306T231529Z
LAST-MODIFIED:20240306T231529Z
UID:10015668-1710428400-1710446400@goodmorningwilton.com
SUMMARY:WHS Theater Arts Association Project Prom Fundraiser
DESCRIPTION:Nearly 150 gently used dresses as well as some tuxedos\, shoes and accessories are available to take home thanks to Wiltonians’ and other area residents’ generous donations. They are available in return for a donation to the Theater Arts Association (TAA). The TAA is a non-profit booster group that supports the performing arts at Wilton High School and hopes to meet a fundraising goal of $44\,000 this year ahead of the school’s spring production of the musical The Addams Family. \nThe event is open to all and will have a fun atmosphere including lighting\, music\, and a photo booth. \nFor more information or to shop the online gallery of dresses\, please visit the TAA’s website.
URL:https://goodmorningwilton.com/event/whs-theater-arts-association-project-prom-fundraiser/2024-03-14/
LOCATION:Zellner Gallery\, WHS\, 395 Danbury Road\, Wilton\, CT\, 06897\, United States
CATEGORIES:Fundraiser,Schools,Teens,Theater
ATTACH;FMTTYPE=image/png:https://goodmorningwilton.com/wp-content/uploads/2024/03/projectprom2024-03.png
ORGANIZER;CN="WHS Theater Arts Association":MAILTO:wiltonhstheaterarts@gmail.com
END:VEVENT
BEGIN:VEVENT
DTSTART;TZID=America/New_York:20240315T150000
DTEND;TZID=America/New_York:20240315T200000
DTSTAMP:20260423T195829
CREATED:20240306T231529Z
LAST-MODIFIED:20240306T231529Z
UID:10015669-1710514800-1710532800@goodmorningwilton.com
SUMMARY:WHS Theater Arts Association Project Prom Fundraiser
DESCRIPTION:Nearly 150 gently used dresses as well as some tuxedos\, shoes and accessories are available to take home thanks to Wiltonians’ and other area residents’ generous donations. They are available in return for a donation to the Theater Arts Association (TAA). The TAA is a non-profit booster group that supports the performing arts at Wilton High School and hopes to meet a fundraising goal of $44\,000 this year ahead of the school’s spring production of the musical The Addams Family. \nThe event is open to all and will have a fun atmosphere including lighting\, music\, and a photo booth. \nFor more information or to shop the online gallery of dresses\, please visit the TAA’s website.
URL:https://goodmorningwilton.com/event/whs-theater-arts-association-project-prom-fundraiser/2024-03-15/
LOCATION:Zellner Gallery\, WHS\, 395 Danbury Road\, Wilton\, CT\, 06897\, United States
CATEGORIES:Fundraiser,Schools,Teens,Theater
ATTACH;FMTTYPE=image/png:https://goodmorningwilton.com/wp-content/uploads/2024/03/projectprom2024-03.png
ORGANIZER;CN="WHS Theater Arts Association":MAILTO:wiltonhstheaterarts@gmail.com
END:VEVENT
BEGIN:VEVENT
DTSTART;TZID=America/New_York:20240705T173000
DTEND;TZID=America/New_York:20240705T203000
DTSTAMP:20260423T195829
CREATED:20240624T144723Z
LAST-MODIFIED:20240624T144723Z
UID:10017494-1720200600-1720211400@goodmorningwilton.com
SUMMARY:Annual Wilton Classic and Custom Car Show
DESCRIPTION:The Wilton Kiwanis Club presents their 23rd Annual Classic and Custom Car Show at the Piersall Building. All cool cars\, trucks and motorcycles are invited\, and there’s no charge to display your pride and joy! \nCheck out the coolest cars and trucks in the area with your friends and neighbors. Fun for all ages\, and as always the Kiwanis Club will be selling grilled hot dogs\, hamburgers\, and bottled water. The event will run from 5:30 to 8:30 p.m. on Friday\, July 5 at the Piersall Building parking lot in the Wilton Center. \nGo online for weather-related cancellation updates.
URL:https://goodmorningwilton.com/event/annual-wilton-classic-and-custom-car-show/
LOCATION:Piersall Building parking lot Wilton CT\, 44 Old Ridgefield Rd.\, Wilton\, CT\, 06897
CATEGORIES:Club,Family Event,Free,Outdoor Event
ATTACH;FMTTYPE=image/jpeg:https://goodmorningwilton.com/wp-content/uploads/2023/07/Kiwanis-Club-2023-Car-Cruise-Show-791-scaled.jpg
END:VEVENT
BEGIN:VEVENT
DTSTART;TZID=America/New_York:20241211T193000
DTEND;TZID=America/New_York:20241211T210000
DTSTAMP:20260423T195829
CREATED:20241015T195604Z
LAST-MODIFIED:20241015T195604Z
UID:10018131-1733945400-1733950800@goodmorningwilton.com
SUMMARY:WHS Winter Concert
DESCRIPTION:Join Wilton High School for their Winter Concert\, featuring the WHS Bands\, Orchestras\, and Choirs!
URL:https://goodmorningwilton.com/event/whs-winter-concert/
LOCATION:Wilton High School Clune Center\, 395 Danbury Road\, Wilton\, CT\, 06897\, United States
CATEGORIES:Live Music
ATTACH;FMTTYPE=image/png:https://goodmorningwilton.com/wp-content/uploads/2024/10/winter.png
GEO:41.2106364;-73.4327956
X-APPLE-STRUCTURED-LOCATION;VALUE=URI;X-ADDRESS=Wilton High School Clune Center 395 Danbury Road Wilton CT 06897 United States;X-APPLE-RADIUS=500;X-TITLE=395 Danbury Road:geo:-73.4327956,41.2106364
END:VEVENT
END:VCALENDAR