BEGIN:VCALENDAR
VERSION:2.0
PRODID:-//Good Morning Wilton - ECPv6.15.20//NONSGML v1.0//EN
CALSCALE:GREGORIAN
METHOD:PUBLISH
X-WR-CALNAME:Good Morning Wilton
X-ORIGINAL-URL:https://goodmorningwilton.com
X-WR-CALDESC:Events for Good Morning Wilton
REFRESH-INTERVAL;VALUE=DURATION:PT1H
X-Robots-Tag:noindex
X-PUBLISHED-TTL:PT1H
BEGIN:VTIMEZONE
TZID:America/New_York
BEGIN:DAYLIGHT
TZOFFSETFROM:-0500
TZOFFSETTO:-0400
TZNAME:EDT
DTSTART:20170312T070000
END:DAYLIGHT
BEGIN:STANDARD
TZOFFSETFROM:-0400
TZOFFSETTO:-0500
TZNAME:EST
DTSTART:20171105T060000
END:STANDARD
BEGIN:DAYLIGHT
TZOFFSETFROM:-0500
TZOFFSETTO:-0400
TZNAME:EDT
DTSTART:20180311T070000
END:DAYLIGHT
BEGIN:STANDARD
TZOFFSETFROM:-0400
TZOFFSETTO:-0500
TZNAME:EST
DTSTART:20181104T060000
END:STANDARD
BEGIN:DAYLIGHT
TZOFFSETFROM:-0500
TZOFFSETTO:-0400
TZNAME:EDT
DTSTART:20190310T070000
END:DAYLIGHT
BEGIN:STANDARD
TZOFFSETFROM:-0400
TZOFFSETTO:-0500
TZNAME:EST
DTSTART:20191103T060000
END:STANDARD
BEGIN:DAYLIGHT
TZOFFSETFROM:-0500
TZOFFSETTO:-0400
TZNAME:EDT
DTSTART:20200308T070000
END:DAYLIGHT
BEGIN:STANDARD
TZOFFSETFROM:-0400
TZOFFSETTO:-0500
TZNAME:EST
DTSTART:20201101T060000
END:STANDARD
BEGIN:DAYLIGHT
TZOFFSETFROM:-0500
TZOFFSETTO:-0400
TZNAME:EDT
DTSTART:20210314T070000
END:DAYLIGHT
BEGIN:STANDARD
TZOFFSETFROM:-0400
TZOFFSETTO:-0500
TZNAME:EST
DTSTART:20211107T060000
END:STANDARD
BEGIN:DAYLIGHT
TZOFFSETFROM:-0500
TZOFFSETTO:-0400
TZNAME:EDT
DTSTART:20220313T070000
END:DAYLIGHT
BEGIN:STANDARD
TZOFFSETFROM:-0400
TZOFFSETTO:-0500
TZNAME:EST
DTSTART:20221106T060000
END:STANDARD
BEGIN:DAYLIGHT
TZOFFSETFROM:-0500
TZOFFSETTO:-0400
TZNAME:EDT
DTSTART:20230312T070000
END:DAYLIGHT
BEGIN:STANDARD
TZOFFSETFROM:-0400
TZOFFSETTO:-0500
TZNAME:EST
DTSTART:20231105T060000
END:STANDARD
BEGIN:DAYLIGHT
TZOFFSETFROM:-0500
TZOFFSETTO:-0400
TZNAME:EDT
DTSTART:20240310T070000
END:DAYLIGHT
BEGIN:STANDARD
TZOFFSETFROM:-0400
TZOFFSETTO:-0500
TZNAME:EST
DTSTART:20241103T060000
END:STANDARD
BEGIN:DAYLIGHT
TZOFFSETFROM:-0500
TZOFFSETTO:-0400
TZNAME:EDT
DTSTART:20250309T070000
END:DAYLIGHT
BEGIN:STANDARD
TZOFFSETFROM:-0400
TZOFFSETTO:-0500
TZNAME:EST
DTSTART:20251102T060000
END:STANDARD
BEGIN:DAYLIGHT
TZOFFSETFROM:-0500
TZOFFSETTO:-0400
TZNAME:EDT
DTSTART:20260308T070000
END:DAYLIGHT
BEGIN:STANDARD
TZOFFSETFROM:-0400
TZOFFSETTO:-0500
TZNAME:EST
DTSTART:20261101T060000
END:STANDARD
BEGIN:DAYLIGHT
TZOFFSETFROM:-0500
TZOFFSETTO:-0400
TZNAME:EDT
DTSTART:20270314T070000
END:DAYLIGHT
BEGIN:STANDARD
TZOFFSETFROM:-0400
TZOFFSETTO:-0500
TZNAME:EST
DTSTART:20271107T060000
END:STANDARD
END:VTIMEZONE
BEGIN:VEVENT
DTSTART;VALUE=DATE:20181015
DTEND;VALUE=DATE:20181111
DTSTAMP:20260425T185442
CREATED:20180905T175142Z
LAST-MODIFIED:20180905T175142Z
UID:10008101-1539561600-1541894399@goodmorningwilton.com
SUMMARY:Wilton CERT Disaster Preparedness Training
DESCRIPTION:Wilton’s volunteer Community Emergency Response Team (CERT)\, in conjunction with the Wilton Department of Emergency Management\, has announced their annual disaster preparedness training program. Citizens are invited to become trained to help family\, friends and neighbors in the event of an emergency or disaster. CERT instructors\, certified by the Connecticut Division of Emergency Management and Homeland Security along with other instructors from Police\, Fire and EMS\, will assist in the training. \nThe class is open to all members of the community\, ages 16 or older that have an interest in learning more about Disaster Preparedness to help their own families\, friends and/or community\, in the event of a disaster. \nThe initial training is conducted over 20 hours via six sessions starting on Monday\, Oct. 15 and will continue through Saturday\, Nov. 10. Training will cover the following areas in a combination of classroom and field practical exercises: \n\nDisaster Preparedness\nDisaster Medical Operations\nCERT Organization\nFire Safety; Search and Rescue (SAR)\nDisaster Psychology: Terrorism & CERT\n\nAll classes will be held in Wilton at a combination of different venues as follows: \n\nMonday\, Oct. 15\, 7 p.m.-10 p.m. at either Comstock Community Center or Wilton Fire HQ (TBD)\nMonday\, Oct. 22\, 7 p.m.-10 p.m. at either Comstock Community Center or Wilton Fire HQ (TBD)\nSaturday\, Oct. 27\, 8 a.m.-12 p.m. at Wilton Fire HQ & Town Hall Annex\, 238 Danbury Rd.\nMonday\, Oct. 29\, 7 p.m.-10 p.m. at either Comstock Community Center or Wilton Fire HQ (TBD)\nMonday\, Nov. 5\, 7 p.m.-10 p.m. at either Comstock Community Center or Wilton Fire HQ (TBD)\nSaturday\, Nov. 10\, 8 a.m.-12 p.m. at Wilton Fire HQ & Town Hall Annex\, 238 Danbury Rd.\n\nManuals will be provided to all participants and there is no charge for this class. \nUpon successful completion of the course\, participants 18 or older have the opportunity to volunteer as members of Wilton CERT. Members of Wilton CERT are provided with a backpack with basic disaster gear and a Town Identification Card. \nWilton CERT\, as part of the Federal Emergency Management Agency (FEMA)\, regularly provides assistance to first responders at large emergency incidents or public events. Wilton CERT has performed a broad range of deployment activities\, including missing persons searches\, traffic and crowd control duties and staffing Wilton’s emergency shelter and distributing emergency food and water. \nAll participants must be registered in advance as FEMA strictly limits class sizes. Interested participants may register by email to John Stewart or via the Wilton CERT website (click on Calendar of Events at top left).
URL:https://goodmorningwilton.com/event/wilton-cert-disaster-preparedness-training/
LOCATION:Comstock Community Center
CATEGORIES:Class,Community Events,Free,Volunteer Opportunity
ATTACH;FMTTYPE=image/jpeg:https://goodmorningwilton.com/wp-content/uploads/2018/09/wilton-cert-search-and-rescue-1.jpg
ORGANIZER;CN="Wilton CERT":MAILTO:BriMcD10@yahoo.com
END:VEVENT
BEGIN:VEVENT
DTSTART;TZID=America/New_York:20181208T090000
DTEND;TZID=America/New_York:20181208T150000
DTSTAMP:20260425T185442
CREATED:20181203T194119Z
LAST-MODIFIED:20181208T071521Z
UID:10008391-1544259600-1544281200@goodmorningwilton.com
SUMMARY:Toys for Tots Stuff a Cruiser with Wilton Police & Fire
DESCRIPTION:Stuff a cruiser for Toys for Tots! \nPresented by the Wilton Police and Fire Departments. \nHelp kids in need celebrate the holidays by bringing new\, unwrapped gifts on Saturday\, Dec. 8\, from 9 a.m.-3 p.m. in front of the Wilton Police Department HQ. Kids can tour a fire truck and police car too!
URL:https://goodmorningwilton.com/event/toys-for-tots-stuff-a-cruiser-with-wilton-police-fire/
LOCATION:Town Hall\, 238 Danbury Rd.\, Wilton\, CT\, 06897\, United States
CATEGORIES:Donation/Collection,Kids,Not for profit,Police
ATTACH;FMTTYPE=image/jpeg:https://goodmorningwilton.com/wp-content/uploads/2018/12/stuff-a-cruiser.jpg
END:VEVENT
BEGIN:VEVENT
DTSTART;TZID=America/New_York:20190911T100000
DTEND;TZID=America/New_York:20190911T113000
DTSTAMP:20260425T185442
CREATED:20190820T165423Z
LAST-MODIFIED:20190820T165423Z
UID:10008486-1568196000-1568201400@goodmorningwilton.com
SUMMARY:Wilton Fire Department 9/11 Memorial Ceremony
DESCRIPTION:Every year the Wilton Fire Department commemorates the five Wilton residents\, first responders and thousands who perished on Sept. 11\, 2001. The public is invited to attend the ceremony held at Wilton Fire Department headquarters on Wednesday\, Sept. 11 beginning at 10 a.m..
URL:https://goodmorningwilton.com/event/wilton-fire-department-9-11-memorial-ceremony/
LOCATION:Wilton Fire Department\, 236 Danbury Rd.\, Wilton\, CT\, 06897\, United States
CATEGORIES:Community Events,Free,Government,Not for profit,Outdoor Event
ATTACH;FMTTYPE=image/jpeg:https://goodmorningwilton.com/wp-content/uploads/2018/09/wilton-sept.-11-ceremony-2018_7161.jpg
END:VEVENT
BEGIN:VEVENT
DTSTART;TZID=America/New_York:20191214T110000
DTEND;TZID=America/New_York:20191214T130000
DTSTAMP:20260425T185442
CREATED:20191213T020344Z
LAST-MODIFIED:20191213T020344Z
UID:10009234-1576321200-1576328400@goodmorningwilton.com
SUMMARY:Help Wilton Police & Fire Departments "Stuff a Cruiser"
DESCRIPTION:Help the Wilton Police and Wilton Fire Departments stuff a cruiser to collect toy donations for the Toys for Tots effort. Officers and firefighters will be at Town Center Toys this Saturday\, Dec. 14 from 11 a.m. to 1 p.m. and hope that Wilton residents will help make the holidays brighter for children in need. \nTown Center Toys will give 10% off any purchases to customers who give a toy to Toys for Tots. Bring a new unwrapped toy or gift card for donation\, and help spread the magic of the holidays.
URL:https://goodmorningwilton.com/event/help-wilton-police-fire-departments-stuff-a-cruiser/
LOCATION:Town Center Toys\, 5 River Rd.\, Wilton\, CT\, 06897\, United States
CATEGORIES:Donation/Collection,Police
ATTACH;FMTTYPE=image/jpeg:https://goodmorningwilton.com/wp-content/uploads/2017/12/stuff-a-cruiser-2017-toys-for-tots.jpg
END:VEVENT
BEGIN:VEVENT
DTSTART;TZID=America/New_York:20200417T100000
DTEND;TZID=America/New_York:20200417T103000
DTSTAMP:20260425T185442
CREATED:20200416T221146Z
LAST-MODIFIED:20200416T224917Z
UID:10008810-1587117600-1587119400@goodmorningwilton.com
SUMMARY:Fire Fighter Story Time Live
DESCRIPTION:Children ages 4 and up are invited to join Wilton Firefighters for an interactive Wilton Library storytime on Zoom. Participants must have an account with Zoom. Registration for this program is required\, and the library will send a link to the meeting via email. Email questions\, and register online.
URL:https://goodmorningwilton.com/event/fire-fighter-story-time-live/2020-04-17/
LOCATION:Online
CATEGORIES:Family Event,Firefighters,Free,Kids,Webinar
ATTACH;FMTTYPE=image/jpeg:https://goodmorningwilton.com/wp-content/uploads/2019/09/wilton-fire-truck.jpg
ORGANIZER;CN="Wilton Library":MAILTO:publicity@wiltonlibrary.org
END:VEVENT
BEGIN:VEVENT
DTSTART;TZID=America/New_York:20200424T100000
DTEND;TZID=America/New_York:20200424T103000
DTSTAMP:20260425T185442
CREATED:20200416T221146Z
LAST-MODIFIED:20200416T224917Z
UID:10008811-1587722400-1587724200@goodmorningwilton.com
SUMMARY:Fire Fighter Story Time Live
DESCRIPTION:Children ages 4 and up are invited to join Wilton Firefighters for an interactive Wilton Library storytime on Zoom. Participants must have an account with Zoom. Registration for this program is required\, and the library will send a link to the meeting via email. Email questions\, and register online.
URL:https://goodmorningwilton.com/event/fire-fighter-story-time-live/2020-04-24/
LOCATION:Online
CATEGORIES:Family Event,Firefighters,Free,Kids,Webinar
ATTACH;FMTTYPE=image/jpeg:https://goodmorningwilton.com/wp-content/uploads/2019/09/wilton-fire-truck.jpg
ORGANIZER;CN="Wilton Library":MAILTO:publicity@wiltonlibrary.org
END:VEVENT
BEGIN:VEVENT
DTSTART;TZID=America/New_York:20200501T100000
DTEND;TZID=America/New_York:20200501T103000
DTSTAMP:20260425T185442
CREATED:20200416T221146Z
LAST-MODIFIED:20200416T224917Z
UID:10008812-1588327200-1588329000@goodmorningwilton.com
SUMMARY:Fire Fighter Story Time Live
DESCRIPTION:Children ages 4 and up are invited to join Wilton Firefighters for an interactive Wilton Library storytime on Zoom. Participants must have an account with Zoom. Registration for this program is required\, and the library will send a link to the meeting via email. Email questions\, and register online.
URL:https://goodmorningwilton.com/event/fire-fighter-story-time-live/2020-05-01/
LOCATION:Online
CATEGORIES:Family Event,Firefighters,Free,Kids,Webinar
ATTACH;FMTTYPE=image/jpeg:https://goodmorningwilton.com/wp-content/uploads/2019/09/wilton-fire-truck.jpg
ORGANIZER;CN="Wilton Library":MAILTO:publicity@wiltonlibrary.org
END:VEVENT
BEGIN:VEVENT
DTSTART;TZID=America/New_York:20200508T100000
DTEND;TZID=America/New_York:20200508T103000
DTSTAMP:20260425T185442
CREATED:20200416T221146Z
LAST-MODIFIED:20200416T224917Z
UID:10008813-1588932000-1588933800@goodmorningwilton.com
SUMMARY:Fire Fighter Story Time Live
DESCRIPTION:Children ages 4 and up are invited to join Wilton Firefighters for an interactive Wilton Library storytime on Zoom. Participants must have an account with Zoom. Registration for this program is required\, and the library will send a link to the meeting via email. Email questions\, and register online.
URL:https://goodmorningwilton.com/event/fire-fighter-story-time-live/2020-05-08/
LOCATION:Online
CATEGORIES:Family Event,Firefighters,Free,Kids,Webinar
ATTACH;FMTTYPE=image/jpeg:https://goodmorningwilton.com/wp-content/uploads/2019/09/wilton-fire-truck.jpg
ORGANIZER;CN="Wilton Library":MAILTO:publicity@wiltonlibrary.org
END:VEVENT
BEGIN:VEVENT
DTSTART;TZID=America/New_York:20200728T100000
DTEND;TZID=America/New_York:20200728T103000
DTSTAMP:20260425T185442
CREATED:20200701T213626Z
LAST-MODIFIED:20200702T120728Z
UID:10009788-1595930400-1595932200@goodmorningwilton.com
SUMMARY:Fire Fighter Story Time Live
DESCRIPTION:Children ages 4 and up are invited to join Wilton Fire Fighters for an interactive story time on Zoom on Tuesday\, July 28 from 10:00 a.m. to 10:30 a.m.. \nYou must have an account with Zoom. Registration for this program is required\, and we will send you a link to the meeting via email. \nFor questions email Andrea Szabo. To register\, visit the library’s website.
URL:https://goodmorningwilton.com/event/fire-fighter-story-time-live-3/
LOCATION:Virtual
CATEGORIES:Community Events,Firefighters,Free,Kids,Zoom Call
ATTACH;FMTTYPE=image/png:https://goodmorningwilton.com/wp-content/uploads/2020/07/FIREFIGHT03_EECE7CA.png
ORGANIZER;CN="Wilton Library":MAILTO:publicity@wiltonlibrary.org
END:VEVENT
BEGIN:VEVENT
DTSTART;TZID=America/New_York:20200917T170000
DTEND;TZID=America/New_York:20200917T180000
DTSTAMP:20260425T185442
CREATED:20200909T164836Z
LAST-MODIFIED:20200914T173153Z
UID:10009910-1600362000-1600365600@goodmorningwilton.com
SUMMARY:Disaster Preparedness:  Plan Ahead
DESCRIPTION:Wilton Library and Wilton’s Police and Fire Departments present a special online program on disaster preparedness and what you need to think about and do before the next major weather event. \nIn the aftermath of Tropical Storm Isaias\, it’s essential for people to think through how to prepare for future storms. The presenters\, Police Chief John Lynch and Fire Chief Geoffrey Herold\, will give the audience their experience-based advice as well as provide a checklist of important steps to take in advance of a major storm. They will also explain how best to cope with different kinds of weather events while they are happening and how to stay safe in a storm’s aftermath. \nOnline registration is required in order to receive the Zoom invitation link. Questions may be emailed in advance to Michael Bellacosa. The audience also will be able to submit questions using Zoom’s chat function at the end of the presentation. Visit the Wilton Library website to register.
URL:https://goodmorningwilton.com/event/disaster-preparedness-plan-ahead/
LOCATION:ZOOM
CATEGORIES:Civic,Firefighters,Free,Not for profit,Online,Police,Presentation,Zoom Call
ATTACH;FMTTYPE=image/jpeg:https://goodmorningwilton.com/wp-content/uploads/2020/09/STORMDAMAGE090820.jpg
ORGANIZER;CN="Wilton Library":MAILTO:publicity@wiltonlibrary.org
END:VEVENT
BEGIN:VEVENT
DTSTART;TZID=America/New_York:20201117T100000
DTEND;TZID=America/New_York:20201117T103000
DTSTAMP:20260425T185442
CREATED:20201102T220731Z
LAST-MODIFIED:20201116T120121Z
UID:10010006-1605607200-1605609000@goodmorningwilton.com
SUMMARY:Firefighter Story Time Live
DESCRIPTION:Children ages 4 and up are invited to join Wilton Firefighters for an interactive Wilton Library storytime on Zoom. You must have an account with Zoom. Registration for this program is required\, and we will send you a link to the meeting via email. Email any questions. To register\, visit the Wilton Library website.
URL:https://goodmorningwilton.com/event/firefighter-story-time-live-2/
LOCATION:ZOOM
CATEGORIES:Family Event,Firefighters,Kids,Not for profit,Online,Zoom Call
ATTACH;FMTTYPE=image/png:https://goodmorningwilton.com/wp-content/uploads/2020/11/FIREFIGHT03_EECE7CA.png
ORGANIZER;CN="Wilton Library":MAILTO:publicity@wiltonlibrary.org
END:VEVENT
BEGIN:VEVENT
DTSTART;TZID=America/New_York:20211029T170000
DTEND;TZID=America/New_York:20211029T190000
DTSTAMP:20260425T185442
CREATED:20211019T152621Z
LAST-MODIFIED:20211020T154657Z
UID:10010951-1635526800-1635534000@goodmorningwilton.com
SUMMARY:Wilton SEPTA: Touch a Truck and Treat Halloween Event
DESCRIPTION:Wilton SEPTA (Special Education PTA) is pleased to announce a Sensory Friendly “Touch a Truck” Event\, complete with Halloween Treat Bags and the opportunity to meet some real Wilton first responders! Tour a police car\, an ambulance\, and a fire truck! This exciting and unique event is open to all Wilton families with children that have a 504 Plan or an IEP\, and will be held at the Town Hall Complex on Friday\, Oct. 29 from 5-7 p.m. Brought to you by Wilton SEPTA\, the Wilton Police Department\, Wilton EMS/WVAC and the Wilton Fire Department. Siblings are welcome but please register them so organizers can get a correct count. Please register in advance online.
URL:https://goodmorningwilton.com/event/wilton-septa-touch-a-truck-and-treat-halloween-event/
LOCATION:Town Hall\, 238 Danbury Rd.\, Wilton\, CT\, 06897\, United States
CATEGORIES:Community Events,Family Event,Firefighters,Free,Kids,Outdoor Event,Police
ATTACH;FMTTYPE=image/png:https://goodmorningwilton.com/wp-content/uploads/2021/10/B8C1A5F5-2983-4BD7-85EF-9A2479AE0B23.png
ORGANIZER;CN="Wilton SEPTA":MAILTO:wiltonsepta@gmail.com
END:VEVENT
BEGIN:VEVENT
DTSTART;TZID=America/New_York:20240911T100000
DTEND;TZID=America/New_York:20240911T120000
DTSTAMP:20260425T185442
CREATED:20240831T173842Z
LAST-MODIFIED:20240831T173842Z
UID:10018042-1726048800-1726056000@goodmorningwilton.com
SUMMARY:Wilton Fire Fighters and Fire Department Annual September 11 Memorial Service
DESCRIPTION:The Wilton Fire Fighters Local 2233 and Wilton Fire Department cordially invite the Wilton community to their annual September 11 Memorial Service. The event takes place at Wilton Fire Headquarters\, Wednesday September 11\, 2024 at 10 a.m. \nThis year marks the twenty-third anniversary of the tragic and heroic events of September 11\, 2001. On that day\, 2\,974 lives were lost at the World Trade Center\, the Pentagon and the Flight 93 crash. As of mid-2024\, 4\,343 survivor’s and first responders have lost their lives due to the toxic exposure encountered after the attacks. \nWilton Fire Fighters are dedicated to “Never Forget” the loss and sacrifice of so many fellow Americans. \nJoin them for refreshments and reflections following the Ceremony.
URL:https://goodmorningwilton.com/event/wilton-fire-fighters-and-fire-department-annual-september-11-memorial-service/
LOCATION:Wilton Fire Headquarters\, 236 Danbury Road\, Wilton\, CT\, 06897
CATEGORIES:Reception
ATTACH;FMTTYPE=image/jpeg:https://goodmorningwilton.com/wp-content/uploads/2021/09/september-11-2021-1883.jpeg
END:VEVENT
BEGIN:VEVENT
DTSTART;TZID=America/New_York:20250702T170000
DTEND;TZID=America/New_York:20250702T190000
DTSTAMP:20260425T185442
CREATED:20250819T085049Z
LAST-MODIFIED:20250819T085049Z
UID:10019589-1751475600-1751482800@goodmorningwilton.com
SUMMARY:Fire Commission Meeting
DESCRIPTION:The Wilton Fire Commission meets to discuss matters related to the Town of Wilton’s fire department. The public can attend these open meetings in person or via Zoom.
URL:https://goodmorningwilton.com/event/fire-commission-meeting/2025-07-02/
LOCATION:Comstock Community Center
CATEGORIES:Civic,Firefighters,Free,Government,In Person,Meeting,Online,Town/Government Meeting,Zoom Call
ATTACH;FMTTYPE=image/jpeg:https://goodmorningwilton.com/wp-content/uploads/2022/04/Town-Hall-3.jpeg
END:VEVENT
BEGIN:VEVENT
DTSTART;TZID=America/New_York:20250806T170000
DTEND;TZID=America/New_York:20250806T190000
DTSTAMP:20260425T185442
CREATED:20250819T085049Z
LAST-MODIFIED:20250819T085049Z
UID:10019590-1754499600-1754506800@goodmorningwilton.com
SUMMARY:Fire Commission Meeting
DESCRIPTION:The Wilton Fire Commission meets to discuss matters related to the Town of Wilton’s fire department. The public can attend these open meetings in person or via Zoom.
URL:https://goodmorningwilton.com/event/fire-commission-meeting/2025-08-06/
LOCATION:Comstock Community Center
CATEGORIES:Civic,Firefighters,Free,Government,In Person,Meeting,Online,Town/Government Meeting,Zoom Call
ATTACH;FMTTYPE=image/jpeg:https://goodmorningwilton.com/wp-content/uploads/2022/04/Town-Hall-3.jpeg
END:VEVENT
BEGIN:VEVENT
DTSTART;TZID=America/New_York:20250903T170000
DTEND;TZID=America/New_York:20250903T190000
DTSTAMP:20260425T185442
CREATED:20250819T085049Z
LAST-MODIFIED:20250819T085049Z
UID:10019591-1756918800-1756926000@goodmorningwilton.com
SUMMARY:Fire Commission Meeting
DESCRIPTION:The Wilton Fire Commission meets to discuss matters related to the Town of Wilton’s fire department. The public can attend these open meetings in person or via Zoom.
URL:https://goodmorningwilton.com/event/fire-commission-meeting/2025-09-03/
LOCATION:Comstock Community Center
CATEGORIES:Civic,Firefighters,Free,Government,In Person,Meeting,Online,Town/Government Meeting,Zoom Call
ATTACH;FMTTYPE=image/jpeg:https://goodmorningwilton.com/wp-content/uploads/2022/04/Town-Hall-3.jpeg
END:VEVENT
BEGIN:VEVENT
DTSTART;TZID=America/New_York:20251001T170000
DTEND;TZID=America/New_York:20251001T190000
DTSTAMP:20260425T185442
CREATED:20250819T085049Z
LAST-MODIFIED:20250819T085049Z
UID:10019592-1759338000-1759345200@goodmorningwilton.com
SUMMARY:Fire Commission Meeting
DESCRIPTION:The Wilton Fire Commission meets to discuss matters related to the Town of Wilton’s fire department. The public can attend these open meetings in person or via Zoom.
URL:https://goodmorningwilton.com/event/fire-commission-meeting/2025-10-01/
LOCATION:Comstock Community Center
CATEGORIES:Civic,Firefighters,Free,Government,In Person,Meeting,Online,Town/Government Meeting,Zoom Call
ATTACH;FMTTYPE=image/jpeg:https://goodmorningwilton.com/wp-content/uploads/2022/04/Town-Hall-3.jpeg
END:VEVENT
BEGIN:VEVENT
DTSTART;TZID=America/New_York:20251105T170000
DTEND;TZID=America/New_York:20251105T190000
DTSTAMP:20260425T185442
CREATED:20250819T085049Z
LAST-MODIFIED:20250819T085049Z
UID:10019593-1762362000-1762369200@goodmorningwilton.com
SUMMARY:Fire Commission Meeting
DESCRIPTION:The Wilton Fire Commission meets to discuss matters related to the Town of Wilton’s fire department. The public can attend these open meetings in person or via Zoom.
URL:https://goodmorningwilton.com/event/fire-commission-meeting/2025-11-05/
LOCATION:Comstock Community Center
CATEGORIES:Civic,Firefighters,Free,Government,In Person,Meeting,Online,Town/Government Meeting,Zoom Call
ATTACH;FMTTYPE=image/jpeg:https://goodmorningwilton.com/wp-content/uploads/2022/04/Town-Hall-3.jpeg
END:VEVENT
BEGIN:VEVENT
DTSTART;TZID=America/New_York:20251203T170000
DTEND;TZID=America/New_York:20251203T190000
DTSTAMP:20260425T185442
CREATED:20250819T085049Z
LAST-MODIFIED:20250819T085049Z
UID:10019594-1764781200-1764788400@goodmorningwilton.com
SUMMARY:Fire Commission Meeting
DESCRIPTION:The Wilton Fire Commission meets to discuss matters related to the Town of Wilton’s fire department. The public can attend these open meetings in person or via Zoom.
URL:https://goodmorningwilton.com/event/fire-commission-meeting/2025-12-03/
LOCATION:Comstock Community Center
CATEGORIES:Civic,Firefighters,Free,Government,In Person,Meeting,Online,Town/Government Meeting,Zoom Call
ATTACH;FMTTYPE=image/jpeg:https://goodmorningwilton.com/wp-content/uploads/2022/04/Town-Hall-3.jpeg
END:VEVENT
BEGIN:VEVENT
DTSTART;TZID=America/New_York:20260107T170000
DTEND;TZID=America/New_York:20260107T190000
DTSTAMP:20260425T185442
CREATED:20250819T085049Z
LAST-MODIFIED:20250819T085049Z
UID:10019595-1767805200-1767812400@goodmorningwilton.com
SUMMARY:Fire Commission Meeting
DESCRIPTION:The Wilton Fire Commission meets to discuss matters related to the Town of Wilton’s fire department. The public can attend these open meetings in person or via Zoom.
URL:https://goodmorningwilton.com/event/fire-commission-meeting/2026-01-07/
LOCATION:Comstock Community Center
CATEGORIES:Civic,Firefighters,Free,Government,In Person,Meeting,Online,Town/Government Meeting,Zoom Call
ATTACH;FMTTYPE=image/jpeg:https://goodmorningwilton.com/wp-content/uploads/2022/04/Town-Hall-3.jpeg
END:VEVENT
BEGIN:VEVENT
DTSTART;TZID=America/New_York:20260204T170000
DTEND;TZID=America/New_York:20260204T190000
DTSTAMP:20260425T185442
CREATED:20250819T085049Z
LAST-MODIFIED:20250819T085049Z
UID:10019596-1770224400-1770231600@goodmorningwilton.com
SUMMARY:Fire Commission Meeting
DESCRIPTION:The Wilton Fire Commission meets to discuss matters related to the Town of Wilton’s fire department. The public can attend these open meetings in person or via Zoom.
URL:https://goodmorningwilton.com/event/fire-commission-meeting/2026-02-04/
LOCATION:Comstock Community Center
CATEGORIES:Civic,Firefighters,Free,Government,In Person,Meeting,Online,Town/Government Meeting,Zoom Call
ATTACH;FMTTYPE=image/jpeg:https://goodmorningwilton.com/wp-content/uploads/2022/04/Town-Hall-3.jpeg
END:VEVENT
BEGIN:VEVENT
DTSTART;TZID=America/New_York:20260304T170000
DTEND;TZID=America/New_York:20260304T190000
DTSTAMP:20260425T185442
CREATED:20250819T085049Z
LAST-MODIFIED:20250819T085049Z
UID:10019597-1772643600-1772650800@goodmorningwilton.com
SUMMARY:Fire Commission Meeting
DESCRIPTION:The Wilton Fire Commission meets to discuss matters related to the Town of Wilton’s fire department. The public can attend these open meetings in person or via Zoom.
URL:https://goodmorningwilton.com/event/fire-commission-meeting/2026-03-04/
LOCATION:Comstock Community Center
CATEGORIES:Civic,Firefighters,Free,Government,In Person,Meeting,Online,Town/Government Meeting,Zoom Call
ATTACH;FMTTYPE=image/jpeg:https://goodmorningwilton.com/wp-content/uploads/2022/04/Town-Hall-3.jpeg
END:VEVENT
BEGIN:VEVENT
DTSTART;TZID=America/New_York:20260401T170000
DTEND;TZID=America/New_York:20260401T190000
DTSTAMP:20260425T185442
CREATED:20250819T085049Z
LAST-MODIFIED:20250819T085049Z
UID:10019598-1775062800-1775070000@goodmorningwilton.com
SUMMARY:Fire Commission Meeting
DESCRIPTION:The Wilton Fire Commission meets to discuss matters related to the Town of Wilton’s fire department. The public can attend these open meetings in person or via Zoom.
URL:https://goodmorningwilton.com/event/fire-commission-meeting/2026-04-01/
LOCATION:Comstock Community Center
CATEGORIES:Civic,Firefighters,Free,Government,In Person,Meeting,Online,Town/Government Meeting,Zoom Call
ATTACH;FMTTYPE=image/jpeg:https://goodmorningwilton.com/wp-content/uploads/2022/04/Town-Hall-3.jpeg
END:VEVENT
END:VCALENDAR