BEGIN:VCALENDAR
VERSION:2.0
PRODID:-//Good Morning Wilton - ECPv6.15.20//NONSGML v1.0//EN
CALSCALE:GREGORIAN
METHOD:PUBLISH
X-ORIGINAL-URL:https://goodmorningwilton.com
X-WR-CALDESC:Events for Good Morning Wilton
REFRESH-INTERVAL;VALUE=DURATION:PT1H
X-Robots-Tag:noindex
X-PUBLISHED-TTL:PT1H
BEGIN:VTIMEZONE
TZID:America/New_York
BEGIN:DAYLIGHT
TZOFFSETFROM:-0500
TZOFFSETTO:-0400
TZNAME:EDT
DTSTART:20190310T070000
END:DAYLIGHT
BEGIN:STANDARD
TZOFFSETFROM:-0400
TZOFFSETTO:-0500
TZNAME:EST
DTSTART:20191103T060000
END:STANDARD
BEGIN:DAYLIGHT
TZOFFSETFROM:-0500
TZOFFSETTO:-0400
TZNAME:EDT
DTSTART:20200308T070000
END:DAYLIGHT
BEGIN:STANDARD
TZOFFSETFROM:-0400
TZOFFSETTO:-0500
TZNAME:EST
DTSTART:20201101T060000
END:STANDARD
BEGIN:DAYLIGHT
TZOFFSETFROM:-0500
TZOFFSETTO:-0400
TZNAME:EDT
DTSTART:20210314T070000
END:DAYLIGHT
BEGIN:STANDARD
TZOFFSETFROM:-0400
TZOFFSETTO:-0500
TZNAME:EST
DTSTART:20211107T060000
END:STANDARD
BEGIN:DAYLIGHT
TZOFFSETFROM:-0500
TZOFFSETTO:-0400
TZNAME:EDT
DTSTART:20220313T070000
END:DAYLIGHT
BEGIN:STANDARD
TZOFFSETFROM:-0400
TZOFFSETTO:-0500
TZNAME:EST
DTSTART:20221106T060000
END:STANDARD
BEGIN:DAYLIGHT
TZOFFSETFROM:-0500
TZOFFSETTO:-0400
TZNAME:EDT
DTSTART:20230312T070000
END:DAYLIGHT
BEGIN:STANDARD
TZOFFSETFROM:-0400
TZOFFSETTO:-0500
TZNAME:EST
DTSTART:20231105T060000
END:STANDARD
END:VTIMEZONE
BEGIN:VEVENT
DTSTART;TZID=America/New_York:20200501T100000
DTEND;TZID=America/New_York:20200501T103000
DTSTAMP:20260420T094417
CREATED:20200430T202151Z
LAST-MODIFIED:20200504T190347Z
UID:10009651-1588327200-1588329000@goodmorningwilton.com
SUMMARY:Fire Fighter Story Time Live
DESCRIPTION:Children ages 4 and up are invited to join Wilton Fire Fighters for an interactive story time on Zoom. You must have an account with Zoom. Registration for this program is required\, and we will send you a link to the meeting via email. For questions email Andrea Szabo. To register\, visit the Wilton Library website.
URL:https://goodmorningwilton.com/event/fire-fighter-story-time-live-2/2020-05-01/
LOCATION:VIRTUAL\, 137 Old Ridgefield Road\, Wilton\, CT\, 06897
CATEGORIES:Kids
ATTACH;FMTTYPE=image/png:https://goodmorningwilton.com/wp-content/uploads/2020/04/FIREFIGHT03_EECE7CA-1.png
ORGANIZER;CN="Wilton Library":MAILTO:publicity@wiltonlibrary.org
END:VEVENT
BEGIN:VEVENT
DTSTART;TZID=America/New_York:20200508T100000
DTEND;TZID=America/New_York:20200508T103000
DTSTAMP:20260420T094417
CREATED:20200430T202151Z
LAST-MODIFIED:20200504T190347Z
UID:10009652-1588932000-1588933800@goodmorningwilton.com
SUMMARY:Fire Fighter Story Time Live
DESCRIPTION:Children ages 4 and up are invited to join Wilton Fire Fighters for an interactive story time on Zoom. You must have an account with Zoom. Registration for this program is required\, and we will send you a link to the meeting via email. For questions email Andrea Szabo. To register\, visit the Wilton Library website.
URL:https://goodmorningwilton.com/event/fire-fighter-story-time-live-2/2020-05-08/
LOCATION:VIRTUAL\, 137 Old Ridgefield Road\, Wilton\, CT\, 06897
CATEGORIES:Kids
ATTACH;FMTTYPE=image/png:https://goodmorningwilton.com/wp-content/uploads/2020/04/FIREFIGHT03_EECE7CA-1.png
ORGANIZER;CN="Wilton Library":MAILTO:publicity@wiltonlibrary.org
END:VEVENT
BEGIN:VEVENT
DTSTART;TZID=America/New_York:20200515T100000
DTEND;TZID=America/New_York:20200515T103000
DTSTAMP:20260420T094417
CREATED:20200430T202151Z
LAST-MODIFIED:20200504T190347Z
UID:10009653-1589536800-1589538600@goodmorningwilton.com
SUMMARY:Fire Fighter Story Time Live
DESCRIPTION:Children ages 4 and up are invited to join Wilton Fire Fighters for an interactive story time on Zoom. You must have an account with Zoom. Registration for this program is required\, and we will send you a link to the meeting via email. For questions email Andrea Szabo. To register\, visit the Wilton Library website.
URL:https://goodmorningwilton.com/event/fire-fighter-story-time-live-2/2020-05-15/
LOCATION:VIRTUAL\, 137 Old Ridgefield Road\, Wilton\, CT\, 06897
CATEGORIES:Kids
ATTACH;FMTTYPE=image/png:https://goodmorningwilton.com/wp-content/uploads/2020/04/FIREFIGHT03_EECE7CA-1.png
ORGANIZER;CN="Wilton Library":MAILTO:publicity@wiltonlibrary.org
END:VEVENT
BEGIN:VEVENT
DTSTART;TZID=America/New_York:20200522T100000
DTEND;TZID=America/New_York:20200522T103000
DTSTAMP:20260420T094417
CREATED:20200430T202151Z
LAST-MODIFIED:20200504T190347Z
UID:10009654-1590141600-1590143400@goodmorningwilton.com
SUMMARY:Fire Fighter Story Time Live
DESCRIPTION:Children ages 4 and up are invited to join Wilton Fire Fighters for an interactive story time on Zoom. You must have an account with Zoom. Registration for this program is required\, and we will send you a link to the meeting via email. For questions email Andrea Szabo. To register\, visit the Wilton Library website.
URL:https://goodmorningwilton.com/event/fire-fighter-story-time-live-2/2020-05-22/
LOCATION:VIRTUAL\, 137 Old Ridgefield Road\, Wilton\, CT\, 06897
CATEGORIES:Kids
ATTACH;FMTTYPE=image/png:https://goodmorningwilton.com/wp-content/uploads/2020/04/FIREFIGHT03_EECE7CA-1.png
ORGANIZER;CN="Wilton Library":MAILTO:publicity@wiltonlibrary.org
END:VEVENT
BEGIN:VEVENT
DTSTART;TZID=America/New_York:20200529T100000
DTEND;TZID=America/New_York:20200529T103000
DTSTAMP:20260420T094417
CREATED:20200430T202151Z
LAST-MODIFIED:20200504T190347Z
UID:10009655-1590746400-1590748200@goodmorningwilton.com
SUMMARY:Fire Fighter Story Time Live
DESCRIPTION:Children ages 4 and up are invited to join Wilton Fire Fighters for an interactive story time on Zoom. You must have an account with Zoom. Registration for this program is required\, and we will send you a link to the meeting via email. For questions email Andrea Szabo. To register\, visit the Wilton Library website.
URL:https://goodmorningwilton.com/event/fire-fighter-story-time-live-2/2020-05-29/
LOCATION:VIRTUAL\, 137 Old Ridgefield Road\, Wilton\, CT\, 06897
CATEGORIES:Kids
ATTACH;FMTTYPE=image/png:https://goodmorningwilton.com/wp-content/uploads/2020/04/FIREFIGHT03_EECE7CA-1.png
ORGANIZER;CN="Wilton Library":MAILTO:publicity@wiltonlibrary.org
END:VEVENT
BEGIN:VEVENT
DTSTART;TZID=America/New_York:20201024T100000
DTEND;TZID=America/New_York:20201024T103000
DTSTAMP:20260420T094417
CREATED:20201001T153429Z
LAST-MODIFIED:20201021T010537Z
UID:10010030-1603533600-1603535400@goodmorningwilton.com
SUMMARY:Firefighter Story Time Live
DESCRIPTION:The Wilton Library invites children ages 4-years-old and up are invited to join Wilton Firefighters for an interactive story time on Zoom. Participants must have an account with Zoom. Registration for this program is required\, and a link to the meeting will be sent via email. Email any questions. To register\, visit the Wilton Library website.
URL:https://goodmorningwilton.com/event/firefighter-story-time-live/
LOCATION:ZOOM
CATEGORIES:Firefighters,Free,Kids,Online,Zoom Call
ATTACH;FMTTYPE=image/png:https://goodmorningwilton.com/wp-content/uploads/2020/10/FIREFIGHT03_EECE7CA.png
ORGANIZER;CN="Wilton Library":MAILTO:publicity@wiltonlibrary.org
END:VEVENT
BEGIN:VEVENT
DTSTART;TZID=America/New_York:20201117T100000
DTEND;TZID=America/New_York:20201117T103000
DTSTAMP:20260420T094417
CREATED:20201102T220731Z
LAST-MODIFIED:20201116T120121Z
UID:10010006-1605607200-1605609000@goodmorningwilton.com
SUMMARY:Firefighter Story Time Live
DESCRIPTION:Children ages 4 and up are invited to join Wilton Firefighters for an interactive Wilton Library storytime on Zoom. You must have an account with Zoom. Registration for this program is required\, and we will send you a link to the meeting via email. Email any questions. To register\, visit the Wilton Library website.
URL:https://goodmorningwilton.com/event/firefighter-story-time-live-2/
LOCATION:ZOOM
CATEGORIES:Family Event,Firefighters,Kids,Not for profit,Online,Zoom Call
ATTACH;FMTTYPE=image/png:https://goodmorningwilton.com/wp-content/uploads/2020/11/FIREFIGHT03_EECE7CA.png
ORGANIZER;CN="Wilton Library":MAILTO:publicity@wiltonlibrary.org
END:VEVENT
BEGIN:VEVENT
DTSTART;TZID=America/New_York:20201215T100000
DTEND;TZID=America/New_York:20201215T103000
DTSTAMP:20260420T094417
CREATED:20201119T221923Z
LAST-MODIFIED:20201214T163841Z
UID:10009092-1608026400-1608028200@goodmorningwilton.com
SUMMARY:Firefighter Story Time Live!
DESCRIPTION:Children ages 2 and up are invited to join Wilton Firefighters and Wilton Library for an interactive storytime on Zoom. You must have an account with Zoom. Registration for this program is required\, and we will send you a link to the meeting via email. Email any questions. To register\, visit Wilton Library online.
URL:https://goodmorningwilton.com/event/firefighter-story-time-live-3/
LOCATION:ZOOM
CATEGORIES:Book Group,Firefighters,Kids,Library,Zoom Call
ATTACH;FMTTYPE=image/png:https://goodmorningwilton.com/wp-content/uploads/2020/11/FIREFIGHT03_EECE7CA-1.png
ORGANIZER;CN="Wilton Library":MAILTO:publicity@wiltonlibrary.org
END:VEVENT
BEGIN:VEVENT
DTSTART;TZID=America/New_York:20210126T100000
DTEND;TZID=America/New_York:20210126T103000
DTSTAMP:20260420T094417
CREATED:20210103T202933Z
LAST-MODIFIED:20210104T001339Z
UID:10009120-1611655200-1611657000@goodmorningwilton.com
SUMMARY:Firefighter Story Time Live
DESCRIPTION:Children ages 2 and up are invited to join Wilton Firefighters for an interactive story time on Zoom. \nYou must have an account with Zoom. Registration for this program is required\, and we will send you a link to the meeting via email. \nEmail with questions. To register\, visit the Wilton Library website.
URL:https://goodmorningwilton.com/event/firefighter-story-time-live-4/
LOCATION:ZOOM
CATEGORIES:Firefighters,Free,Kids,Library,Not for profit,Online,Zoom Call
ATTACH;FMTTYPE=image/png:https://goodmorningwilton.com/wp-content/uploads/2021/01/FIREFIGHT03_EECE7CA.png
ORGANIZER;CN="Wilton Library":MAILTO:publicity@wiltonlibrary.org
END:VEVENT
BEGIN:VEVENT
DTSTART;TZID=America/New_York:20210223T100000
DTEND;TZID=America/New_York:20210223T103000
DTSTAMP:20260420T094417
CREATED:20210127T213254Z
LAST-MODIFIED:20210129T214759Z
UID:10009161-1614074400-1614076200@goodmorningwilton.com
SUMMARY:Zoom Wilton Firefighters Storytime
DESCRIPTION:Children ages 2 and up are invited to join Wilton Firefighters for an interactive storytime on Zoom with the Wilton Library. You must have an account with Zoom. Registration for this program is required\, and we will send you a link to the meeting via email. Email any questions. To register\, visit the Wilton Library website
URL:https://goodmorningwilton.com/event/wilton-firefighters-story-time/
LOCATION:ZOOM
CATEGORIES:Firefighters,Kids,Library,Zoom Call
ATTACH;FMTTYPE=image/png:https://goodmorningwilton.com/wp-content/uploads/2021/01/FIREFIGHT03_EECE7CA-1.png
ORGANIZER;CN="Wilton Library":MAILTO:publicity@wiltonlibrary.org
END:VEVENT
BEGIN:VEVENT
DTSTART;TZID=America/New_York:20210427T100000
DTEND;TZID=America/New_York:20210427T103000
DTSTAMP:20260420T094417
CREATED:20210329T180147Z
LAST-MODIFIED:20210329T221753Z
UID:10010633-1619517600-1619519400@goodmorningwilton.com
SUMMARY:Wilton Firefighter Story Time on Zoom
DESCRIPTION:Children ages 2 and up are invited to join Wilton Firefighters for an interactive storytime on Zoom with the Wilton Library. You must have an account with Zoom. Registration for this program is required\, and a zoom link will be sent via email. Email any questions. To register\, visit the Wilton Library website.
URL:https://goodmorningwilton.com/event/wilton-firefighter-story-time-on-zoom/
LOCATION:ZOOM
CATEGORIES:Kids,Library,Zoom Call
ATTACH;FMTTYPE=image/png:https://goodmorningwilton.com/wp-content/uploads/2021/03/FIREFIGHT03_EECE7CA.png
ORGANIZER;CN="Wilton Library":MAILTO:publicity@wiltonlibrary.org
END:VEVENT
BEGIN:VEVENT
DTSTART;TZID=America/New_York:20210617T100000
DTEND;TZID=America/New_York:20210617T103000
DTSTAMP:20260420T094417
CREATED:20210524T210936Z
LAST-MODIFIED:20210525T000609Z
UID:10009312-1623924000-1623925800@goodmorningwilton.com
SUMMARY:Courtyard Firefighter Story TIme
DESCRIPTION:Children ages 2 and up with caregivers are invited to join Wilton Fire Fighters for an interactive story time in our courtyard. Masks MUST be worn at all times. Children will listen to stories and have a chance to ask the firefighters questions. Space is limited for social distancing. Registration is required. Email any questions. Register here. 
URL:https://goodmorningwilton.com/event/courtyard-firefighter-story-time/
LOCATION:Wilton Library
CATEGORIES:Firefighters,Library,Zoom Call
ATTACH;FMTTYPE=image/png:https://goodmorningwilton.com/wp-content/uploads/2021/05/FIREFIGHT03_EECE7CA.png
ORGANIZER;CN="Wilton Library":MAILTO:publicity@wiltonlibrary.org
END:VEVENT
BEGIN:VEVENT
DTSTART;TZID=America/New_York:20210812T101500
DTEND;TZID=America/New_York:20210812T104500
DTSTAMP:20260420T094417
CREATED:20210715T211305Z
LAST-MODIFIED:20210715T212025Z
UID:10010793-1628763300-1628765100@goodmorningwilton.com
SUMMARY:Wilton Library: Story Time at the Fire Station
DESCRIPTION:Children ages 3 and up with caregivers are invited to join Wilton Firefighters for an interactive storytime at the Wilton Fire Department Headquarters (236 Danbury Road). Masks must be worn at all times. Children will listen to stories and have a chance to ask the firefighters questions. Bring a blanket to reserve your space. Space is limited for social distancing. Online registration is required. Email any questions.
URL:https://goodmorningwilton.com/event/wilton-library-story-time-at-the-fire-station/
LOCATION:Wilton Fire Department\, 236 Danbury Rd.\, Wilton\, CT\, 06897\, United States
CATEGORIES:Firefighters,Kids,Library
ATTACH;FMTTYPE=image/png:https://goodmorningwilton.com/wp-content/uploads/2021/04/FIREFIGHT03_EECE7CA.png
ORGANIZER;CN="Wilton Library":MAILTO:publicity@wiltonlibrary.org
END:VEVENT
BEGIN:VEVENT
DTSTART;TZID=America/New_York:20220419T103000
DTEND;TZID=America/New_York:20220419T110000
DTSTAMP:20260420T094417
CREATED:20220331T152446Z
LAST-MODIFIED:20220412T212641Z
UID:10009815-1650364200-1650366000@goodmorningwilton.com
SUMMARY:Wilton Library: Firefighter Story Time (In-Person)
DESCRIPTION:Children ages 3 and up are invited to join Wilton Firefighters for an interactive\, in-person storytime. Firefighters will read stories and children will have the opportunity to ask questions and see the firetruck! \nMasks are recommended for all participants. Registration is required. To register\, visit the Wilton Library website.
URL:https://goodmorningwilton.com/event/wilton-library-firefighter-story-time-in-person/
LOCATION:Wilton Library
CATEGORIES:Firefighters,Kids,Library
ATTACH;FMTTYPE=image/png:https://goodmorningwilton.com/wp-content/uploads/2022/03/FIREFIGHT03_EECE7CA.png
ORGANIZER;CN="Wilton Library":MAILTO:publicity@wiltonlibrary.org
END:VEVENT
BEGIN:VEVENT
DTSTART;TZID=America/New_York:20220719T103000
DTEND;TZID=America/New_York:20220719T110000
DTSTAMP:20260420T094417
CREATED:20220711T185759Z
LAST-MODIFIED:20220711T193501Z
UID:10011378-1658226600-1658228400@goodmorningwilton.com
SUMMARY:Firefighter Story Time
DESCRIPTION:Children ages 2 and up are invited to join Wilton Firefighters for an interactive\, in-person story time! Firefighters will read stories and children will have the opportunity to ask questions. They will also see the fire truck! \nRegistration required. Masks recommended for all participants. To register\, visit the Wilton Library website.
URL:https://goodmorningwilton.com/event/firefighter-story-time/
LOCATION:Wilton Library
CATEGORIES:Firefighters,Kids,Library
ATTACH;FMTTYPE=image/png:https://goodmorningwilton.com/wp-content/uploads/2022/07/FIREFIGHT03_EECE7CA.png
ORGANIZER;CN="Wilton Library":MAILTO:publicity@wiltonlibrary.org
END:VEVENT
END:VCALENDAR