BEGIN:VCALENDAR
VERSION:2.0
PRODID:-//Good Morning Wilton - ECPv6.15.20//NONSGML v1.0//EN
CALSCALE:GREGORIAN
METHOD:PUBLISH
X-ORIGINAL-URL:https://goodmorningwilton.com
X-WR-CALDESC:Events for Good Morning Wilton
REFRESH-INTERVAL;VALUE=DURATION:PT1H
X-Robots-Tag:noindex
X-PUBLISHED-TTL:PT1H
BEGIN:VTIMEZONE
TZID:America/New_York
BEGIN:DAYLIGHT
TZOFFSETFROM:-0500
TZOFFSETTO:-0400
TZNAME:EDT
DTSTART:20240310T070000
END:DAYLIGHT
BEGIN:STANDARD
TZOFFSETFROM:-0400
TZOFFSETTO:-0500
TZNAME:EST
DTSTART:20241103T060000
END:STANDARD
BEGIN:DAYLIGHT
TZOFFSETFROM:-0500
TZOFFSETTO:-0400
TZNAME:EDT
DTSTART:20250309T070000
END:DAYLIGHT
BEGIN:STANDARD
TZOFFSETFROM:-0400
TZOFFSETTO:-0500
TZNAME:EST
DTSTART:20251102T060000
END:STANDARD
BEGIN:DAYLIGHT
TZOFFSETFROM:-0500
TZOFFSETTO:-0400
TZNAME:EDT
DTSTART:20260308T070000
END:DAYLIGHT
BEGIN:STANDARD
TZOFFSETFROM:-0400
TZOFFSETTO:-0500
TZNAME:EST
DTSTART:20261101T060000
END:STANDARD
END:VTIMEZONE
BEGIN:VEVENT
DTSTART;TZID=America/New_York:20251001T120000
DTEND;TZID=America/New_York:20251001T170000
DTSTAMP:20260424T162157
CREATED:20250909T053953Z
LAST-MODIFIED:20250909T053953Z
UID:10019936-1759320000-1759338000@goodmorningwilton.com
SUMMARY:Halloween Costume Exchange
DESCRIPTION:Join Wilton Go Green for this annual event and grab a free Halloween Costume for ages 0-100! \n11 a.m.-Noon: Reserved for those who donated costumes\nNoon-1 p.m.: Open to anyone even if you didn’t donate \nCollection Days\nDrop off clean\, complete costumes for ages 0-100 on the follow days: \n\nMonday\, Sept. 22 from 4:30-6:30 p.m. at Cannondale Train Station\nWednesday\, Sept. 24 from 12-5 p.m. at Wilton Farmers Market\nSaturday\, Sept. 27 from 9-11 a.m. at Cannondale Train Station\nWednesday\, Oct. 1 from 12-5 p.m. at Wilton Farmers Market
URL:https://goodmorningwilton.com/event/halloween-costume-exchange-2/2025-10-01/
LOCATION:Cannon Grange Hall\, 25 Cannon Road\, Wilton\, CT\, 06897
CATEGORIES:Donation/Collection,Environmental,Family Event,Free,Kids
ATTACH;FMTTYPE=image/png:https://goodmorningwilton.com/wp-content/uploads/2025/09/2025-flyer-Costume-Exchange-Instagram-Post.png
ORGANIZER;CN="Wilton Go Green":MAILTO:info@wiltongogreen.org
END:VEVENT
BEGIN:VEVENT
DTSTART;TZID=America/New_York:20251004T110000
DTEND;TZID=America/New_York:20251004T130000
DTSTAMP:20260424T162157
CREATED:20250909T053953Z
LAST-MODIFIED:20250909T053953Z
UID:10019873-1759575600-1759582800@goodmorningwilton.com
SUMMARY:Halloween Costume Exchange
DESCRIPTION:Join Wilton Go Green for this annual event and grab a free Halloween Costume for ages 0-100! \n11 a.m.-Noon: Reserved for those who donated costumes\nNoon-1 p.m.: Open to anyone even if you didn’t donate \nCollection Days\nDrop off clean\, complete costumes for ages 0-100 on the follow days: \n\nMonday\, Sept. 22 from 4:30-6:30 p.m. at Cannondale Train Station\nWednesday\, Sept. 24 from 12-5 p.m. at Wilton Farmers Market\nSaturday\, Sept. 27 from 9-11 a.m. at Cannondale Train Station\nWednesday\, Oct. 1 from 12-5 p.m. at Wilton Farmers Market
URL:https://goodmorningwilton.com/event/halloween-costume-exchange-2/2025-10-04/
LOCATION:Cannon Grange Hall\, 25 Cannon Road\, Wilton\, CT\, 06897
CATEGORIES:Donation/Collection,Environmental,Family Event,Free,Kids
ATTACH;FMTTYPE=image/png:https://goodmorningwilton.com/wp-content/uploads/2025/09/2025-flyer-Costume-Exchange-Instagram-Post.png
ORGANIZER;CN="Wilton Go Green":MAILTO:info@wiltongogreen.org
END:VEVENT
BEGIN:VEVENT
DTSTART;TZID=America/New_York:20251019T100000
DTEND;TZID=America/New_York:20251019T110000
DTSTAMP:20260424T162157
CREATED:20250913T212055Z
LAST-MODIFIED:20250913T212055Z
UID:10019874-1760868000-1760871600@goodmorningwilton.com
SUMMARY:Books & A Blanket: Halloween Edition
DESCRIPTION:Join the Wilton Land Trust\, Wilton Library and Wilton Go Green for a unique and immersive book-reading experience.   Come dressed in your costumes and be ready to Trick or Treat!  A member of the Wilton Children’s Library staff will read hand-curated books and sing interactive songs. A member of Wilton Go Green\, will guide us through an upcycled craft. A member of the Wilton Land Trust will lead a short and sweet\, guided nature walk. \nRegistration is required as there is a capacity limit if we have to move indoors. Learn more and register online.
URL:https://goodmorningwilton.com/event/books-a-blanket-halloween-edition/
LOCATION:Chestnut Meadows Preserve\, 183 Ridgefield Rd.\, Wilton\, CT\, 06897\, United States
CATEGORIES:craft,Environmental,Family Event,Free,Kids,Nature,Outdoor Event
ATTACH;FMTTYPE=image/png:https://goodmorningwilton.com/wp-content/uploads/2025/09/Books-A-Blanket-3.png
ORGANIZER;CN="Wilton Go Green":MAILTO:info@wiltongogreen.org
END:VEVENT
BEGIN:VEVENT
DTSTART;TZID=America/New_York:20251025T090000
DTEND;TZID=America/New_York:20251025T130000
DTSTAMP:20260424T162157
CREATED:20250913T211714Z
LAST-MODIFIED:20250913T211714Z
UID:10019875-1761382800-1761397200@goodmorningwilton.com
SUMMARY:Community Shred Day
DESCRIPTION:Brought to you by and in support of Wilton Go Green and Wilton Kiwanis. \n9 a.m.-1 p.m.  (unless the truck is full earlier) at Wilton Historical Society. \n$20 suggested donation per bag or box in support of the two organizations.
URL:https://goodmorningwilton.com/event/community-shred-day-5/
LOCATION:Wilton Historical Society\, 224 Danbury Road\, Wilton\, CT
CATEGORIES:Environmental,Not for profit
ATTACH;FMTTYPE=image/png:https://goodmorningwilton.com/wp-content/uploads/2025/09/FALL-Social-Shred-Day-1.png
ORGANIZER;CN="Wilton Go Green":MAILTO:info@wiltongogreen.org
GEO:41.188207;-73.424639
X-APPLE-STRUCTURED-LOCATION;VALUE=URI;X-ADDRESS=Wilton Historical Society 224 Danbury Road Wilton CT;X-APPLE-RADIUS=500;X-TITLE=224 Danbury Road:geo:-73.424639,41.188207
END:VEVENT
END:VCALENDAR