BEGIN:VCALENDAR
VERSION:2.0
PRODID:-//Good Morning Wilton - ECPv6.15.20//NONSGML v1.0//EN
CALSCALE:GREGORIAN
METHOD:PUBLISH
X-WR-CALNAME:Good Morning Wilton
X-ORIGINAL-URL:https://goodmorningwilton.com
X-WR-CALDESC:Events for Good Morning Wilton
REFRESH-INTERVAL;VALUE=DURATION:PT1H
X-Robots-Tag:noindex
X-PUBLISHED-TTL:PT1H
BEGIN:VTIMEZONE
TZID:America/New_York
BEGIN:DAYLIGHT
TZOFFSETFROM:-0500
TZOFFSETTO:-0400
TZNAME:EDT
DTSTART:20250309T070000
END:DAYLIGHT
BEGIN:STANDARD
TZOFFSETFROM:-0400
TZOFFSETTO:-0500
TZNAME:EST
DTSTART:20251102T060000
END:STANDARD
BEGIN:DAYLIGHT
TZOFFSETFROM:-0500
TZOFFSETTO:-0400
TZNAME:EDT
DTSTART:20260308T070000
END:DAYLIGHT
BEGIN:STANDARD
TZOFFSETFROM:-0400
TZOFFSETTO:-0500
TZNAME:EST
DTSTART:20261101T060000
END:STANDARD
BEGIN:DAYLIGHT
TZOFFSETFROM:-0500
TZOFFSETTO:-0400
TZNAME:EDT
DTSTART:20270314T070000
END:DAYLIGHT
BEGIN:STANDARD
TZOFFSETFROM:-0400
TZOFFSETTO:-0500
TZNAME:EST
DTSTART:20271107T060000
END:STANDARD
END:VTIMEZONE
BEGIN:VEVENT
DTSTART;TZID=America/New_York:20260507T190000
DTEND;TZID=America/New_York:20260507T210000
DTSTAMP:20260422T085613
CREATED:20260120T225709Z
LAST-MODIFIED:20260120T225709Z
UID:10021980-1778180400-1778187600@goodmorningwilton.com
SUMMARY:Weaving Workshop for Adults at the Wilton Historical Society
DESCRIPTION:Be a part of New England’s rich textiles history and learn how to weave on a small loom at the Wilton Historical Society. Participants will be weaving their very own unique and beautiful scarf or table runner. Instructor Ellen Goldman is an experienced weaver\, textile enthusiast\, and active member of the Handweavers’ Guild of Connecticut. \nThis four-part series will take place on Thursday evenings: February 12th\, February 19th\, March 5th\, and March 12th\, from 7:00-9:00 p.m.\, at the Wilton Historical Society. \nWilton Historical Society Members $60; Non-members $80. The fee is for all four classes and includes all materials.\nSpace is very limited. Registration is required. Register at wiltonhistorical.org
URL:https://goodmorningwilton.com/event/weaving-workshop-for-adults-at-the-wilton-historical-society/2026-05-07/
LOCATION:Wilton Historical Society\, 224 Danbury Road\, Wilton\, CT
CATEGORIES:Class,craft,Historic
ATTACH;FMTTYPE=image/jpeg:https://goodmorningwilton.com/wp-content/uploads/2026/01/20240710_155518-450x450-1.jpg
ORGANIZER;CN="Wilton Historical Society":MAILTO:info@wiltonhistorical.org
GEO:41.188207;-73.424639
X-APPLE-STRUCTURED-LOCATION;VALUE=URI;X-ADDRESS=Wilton Historical Society 224 Danbury Road Wilton CT;X-APPLE-RADIUS=500;X-TITLE=224 Danbury Road:geo:-73.424639,41.188207
END:VEVENT
BEGIN:VEVENT
DTSTART;TZID=America/New_York:20260509T090000
DTEND;TZID=America/New_York:20260509T130000
DTSTAMP:20260422T085613
CREATED:20260322T184152Z
LAST-MODIFIED:20260322T184152Z
UID:10023870-1778317200-1778331600@goodmorningwilton.com
SUMMARY:Community Shred Day at The Wilton Historical Society
DESCRIPTION:Wilton Go Green and the Wilton Kiwanis Club are co-hosting a Community Shred Day at the Wilton Historical Society on Saturday\, May 9\, 9 a.m. – 1 p.m. (or until the truck is full). Residents can bring up to 5 boxes of paper.  A secure shred truck will be on site for the event. Attendees will park and bring their items over to the shred truck. Volunteers will be on hand for anyone who needs assistance.\n\n\n\n\nSuggested donation of $20 per bag/box to support the work of the Wilton Kiwanis Club and Wilton Go Green\n\n\n\n 
URL:https://goodmorningwilton.com/event/community-shred-day-at-the-wilton-historical-society/
LOCATION:Wilton Historical Society\, 224 Danbury Road\, Wilton\, CT
CATEGORIES:Community Events,Environmental
ATTACH;FMTTYPE=image/png:https://goodmorningwilton.com/wp-content/uploads/2026/02/Spring-2026-Shred-Day-1.png
ORGANIZER;CN="Wilton Go Green":MAILTO:info@wiltongogreen.org
GEO:41.188207;-73.424639
X-APPLE-STRUCTURED-LOCATION;VALUE=URI;X-ADDRESS=Wilton Historical Society 224 Danbury Road Wilton CT;X-APPLE-RADIUS=500;X-TITLE=224 Danbury Road:geo:-73.424639,41.188207
END:VEVENT
BEGIN:VEVENT
DTSTART;TZID=America/New_York:20260514T190000
DTEND;TZID=America/New_York:20260514T210000
DTSTAMP:20260422T085613
CREATED:20260120T225709Z
LAST-MODIFIED:20260120T225709Z
UID:10021981-1778785200-1778792400@goodmorningwilton.com
SUMMARY:Weaving Workshop for Adults at the Wilton Historical Society
DESCRIPTION:Be a part of New England’s rich textiles history and learn how to weave on a small loom at the Wilton Historical Society. Participants will be weaving their very own unique and beautiful scarf or table runner. Instructor Ellen Goldman is an experienced weaver\, textile enthusiast\, and active member of the Handweavers’ Guild of Connecticut. \nThis four-part series will take place on Thursday evenings: February 12th\, February 19th\, March 5th\, and March 12th\, from 7:00-9:00 p.m.\, at the Wilton Historical Society. \nWilton Historical Society Members $60; Non-members $80. The fee is for all four classes and includes all materials.\nSpace is very limited. Registration is required. Register at wiltonhistorical.org
URL:https://goodmorningwilton.com/event/weaving-workshop-for-adults-at-the-wilton-historical-society/2026-05-14/
LOCATION:Wilton Historical Society\, 224 Danbury Road\, Wilton\, CT
CATEGORIES:Class,craft,Historic
ATTACH;FMTTYPE=image/jpeg:https://goodmorningwilton.com/wp-content/uploads/2026/01/20240710_155518-450x450-1.jpg
ORGANIZER;CN="Wilton Historical Society":MAILTO:info@wiltonhistorical.org
GEO:41.188207;-73.424639
X-APPLE-STRUCTURED-LOCATION;VALUE=URI;X-ADDRESS=Wilton Historical Society 224 Danbury Road Wilton CT;X-APPLE-RADIUS=500;X-TITLE=224 Danbury Road:geo:-73.424639,41.188207
END:VEVENT
BEGIN:VEVENT
DTSTART;TZID=America/New_York:20260521T190000
DTEND;TZID=America/New_York:20260521T210000
DTSTAMP:20260422T085613
CREATED:20260120T225709Z
LAST-MODIFIED:20260120T225709Z
UID:10021982-1779390000-1779397200@goodmorningwilton.com
SUMMARY:Weaving Workshop for Adults at the Wilton Historical Society
DESCRIPTION:Be a part of New England’s rich textiles history and learn how to weave on a small loom at the Wilton Historical Society. Participants will be weaving their very own unique and beautiful scarf or table runner. Instructor Ellen Goldman is an experienced weaver\, textile enthusiast\, and active member of the Handweavers’ Guild of Connecticut. \nThis four-part series will take place on Thursday evenings: February 12th\, February 19th\, March 5th\, and March 12th\, from 7:00-9:00 p.m.\, at the Wilton Historical Society. \nWilton Historical Society Members $60; Non-members $80. The fee is for all four classes and includes all materials.\nSpace is very limited. Registration is required. Register at wiltonhistorical.org
URL:https://goodmorningwilton.com/event/weaving-workshop-for-adults-at-the-wilton-historical-society/2026-05-21/
LOCATION:Wilton Historical Society\, 224 Danbury Road\, Wilton\, CT
CATEGORIES:Class,craft,Historic
ATTACH;FMTTYPE=image/jpeg:https://goodmorningwilton.com/wp-content/uploads/2026/01/20240710_155518-450x450-1.jpg
ORGANIZER;CN="Wilton Historical Society":MAILTO:info@wiltonhistorical.org
GEO:41.188207;-73.424639
X-APPLE-STRUCTURED-LOCATION;VALUE=URI;X-ADDRESS=Wilton Historical Society 224 Danbury Road Wilton CT;X-APPLE-RADIUS=500;X-TITLE=224 Danbury Road:geo:-73.424639,41.188207
END:VEVENT
BEGIN:VEVENT
DTSTART;TZID=America/New_York:20260528T190000
DTEND;TZID=America/New_York:20260528T210000
DTSTAMP:20260422T085613
CREATED:20260120T225709Z
LAST-MODIFIED:20260120T225709Z
UID:10021983-1779994800-1780002000@goodmorningwilton.com
SUMMARY:Weaving Workshop for Adults at the Wilton Historical Society
DESCRIPTION:Be a part of New England’s rich textiles history and learn how to weave on a small loom at the Wilton Historical Society. Participants will be weaving their very own unique and beautiful scarf or table runner. Instructor Ellen Goldman is an experienced weaver\, textile enthusiast\, and active member of the Handweavers’ Guild of Connecticut. \nThis four-part series will take place on Thursday evenings: February 12th\, February 19th\, March 5th\, and March 12th\, from 7:00-9:00 p.m.\, at the Wilton Historical Society. \nWilton Historical Society Members $60; Non-members $80. The fee is for all four classes and includes all materials.\nSpace is very limited. Registration is required. Register at wiltonhistorical.org
URL:https://goodmorningwilton.com/event/weaving-workshop-for-adults-at-the-wilton-historical-society/2026-05-28/
LOCATION:Wilton Historical Society\, 224 Danbury Road\, Wilton\, CT
CATEGORIES:Class,craft,Historic
ATTACH;FMTTYPE=image/jpeg:https://goodmorningwilton.com/wp-content/uploads/2026/01/20240710_155518-450x450-1.jpg
ORGANIZER;CN="Wilton Historical Society":MAILTO:info@wiltonhistorical.org
GEO:41.188207;-73.424639
X-APPLE-STRUCTURED-LOCATION;VALUE=URI;X-ADDRESS=Wilton Historical Society 224 Danbury Road Wilton CT;X-APPLE-RADIUS=500;X-TITLE=224 Danbury Road:geo:-73.424639,41.188207
END:VEVENT
END:VCALENDAR