BEGIN:VCALENDAR
VERSION:2.0
PRODID:-//Good Morning Wilton - ECPv6.15.20//NONSGML v1.0//EN
CALSCALE:GREGORIAN
METHOD:PUBLISH
X-ORIGINAL-URL:https://goodmorningwilton.com
X-WR-CALDESC:Events for Good Morning Wilton
REFRESH-INTERVAL;VALUE=DURATION:PT1H
X-Robots-Tag:noindex
X-PUBLISHED-TTL:PT1H
BEGIN:VTIMEZONE
TZID:America/New_York
BEGIN:DAYLIGHT
TZOFFSETFROM:-0500
TZOFFSETTO:-0400
TZNAME:EDT
DTSTART:20190310T070000
END:DAYLIGHT
BEGIN:STANDARD
TZOFFSETFROM:-0400
TZOFFSETTO:-0500
TZNAME:EST
DTSTART:20191103T060000
END:STANDARD
BEGIN:DAYLIGHT
TZOFFSETFROM:-0500
TZOFFSETTO:-0400
TZNAME:EDT
DTSTART:20200308T070000
END:DAYLIGHT
BEGIN:STANDARD
TZOFFSETFROM:-0400
TZOFFSETTO:-0500
TZNAME:EST
DTSTART:20201101T060000
END:STANDARD
BEGIN:DAYLIGHT
TZOFFSETFROM:-0500
TZOFFSETTO:-0400
TZNAME:EDT
DTSTART:20210314T070000
END:DAYLIGHT
BEGIN:STANDARD
TZOFFSETFROM:-0400
TZOFFSETTO:-0500
TZNAME:EST
DTSTART:20211107T060000
END:STANDARD
END:VTIMEZONE
BEGIN:VEVENT
DTSTART;TZID=America/New_York:20200222T100000
DTEND;TZID=America/New_York:20200222T163000
DTSTAMP:20260425T100726
CREATED:20200120T163235Z
LAST-MODIFIED:20200120T163235Z
UID:10009468-1582365600-1582389000@goodmorningwilton.com
SUMMARY:Why Children Love Wilton Library
DESCRIPTION:In honor of Wilton Library’s 125th anniversary\, children can participate in a very special event. Children are invited to the Children’s Library and write up a small composition on why they love Wilton Library. Materials will be provided and assistance and suggestions given. If smaller children and their parents wish to participate\, parents can do the writing for the child. The contributions will be collected and bound into a special book\, which will become part of the Wilton Children’s Library Forever Collection. \nDrop in\, no registration required.
URL:https://goodmorningwilton.com/event/why-children-love-wilton-library/
LOCATION:Wilton Library
CATEGORIES:Arts,Community Celebration,Create!,Family Event,Free,Kids
ATTACH;FMTTYPE=image/png:https://goodmorningwilton.com/wp-content/uploads/2020/01/wilton-library-125th-anniversary-logo-1.png
ORGANIZER;CN="Wilton Library":MAILTO:publicity@wiltonlibrary.org
END:VEVENT
END:VCALENDAR