BEGIN:VCALENDAR
VERSION:2.0
PRODID:-//Good Morning Wilton - ECPv6.15.20//NONSGML v1.0//EN
CALSCALE:GREGORIAN
METHOD:PUBLISH
X-ORIGINAL-URL:https://goodmorningwilton.com
X-WR-CALDESC:Events for Good Morning Wilton
REFRESH-INTERVAL;VALUE=DURATION:PT1H
X-Robots-Tag:noindex
X-PUBLISHED-TTL:PT1H
BEGIN:VTIMEZONE
TZID:America/New_York
BEGIN:DAYLIGHT
TZOFFSETFROM:-0500
TZOFFSETTO:-0400
TZNAME:EDT
DTSTART:20210314T070000
END:DAYLIGHT
BEGIN:STANDARD
TZOFFSETFROM:-0400
TZOFFSETTO:-0500
TZNAME:EST
DTSTART:20211107T060000
END:STANDARD
BEGIN:DAYLIGHT
TZOFFSETFROM:-0500
TZOFFSETTO:-0400
TZNAME:EDT
DTSTART:20220313T070000
END:DAYLIGHT
BEGIN:STANDARD
TZOFFSETFROM:-0400
TZOFFSETTO:-0500
TZNAME:EST
DTSTART:20221106T060000
END:STANDARD
BEGIN:DAYLIGHT
TZOFFSETFROM:-0500
TZOFFSETTO:-0400
TZNAME:EDT
DTSTART:20230312T070000
END:DAYLIGHT
BEGIN:STANDARD
TZOFFSETFROM:-0400
TZOFFSETTO:-0500
TZNAME:EST
DTSTART:20231105T060000
END:STANDARD
BEGIN:DAYLIGHT
TZOFFSETFROM:-0500
TZOFFSETTO:-0400
TZNAME:EDT
DTSTART:20240310T070000
END:DAYLIGHT
BEGIN:STANDARD
TZOFFSETFROM:-0400
TZOFFSETTO:-0500
TZNAME:EST
DTSTART:20241103T060000
END:STANDARD
BEGIN:DAYLIGHT
TZOFFSETFROM:-0500
TZOFFSETTO:-0400
TZNAME:EDT
DTSTART:20250309T070000
END:DAYLIGHT
BEGIN:STANDARD
TZOFFSETFROM:-0400
TZOFFSETTO:-0500
TZNAME:EST
DTSTART:20251102T060000
END:STANDARD
END:VTIMEZONE
BEGIN:VEVENT
DTSTART;TZID=America/New_York:20220918T160000
DTEND;TZID=America/New_York:20220918T173000
DTSTAMP:20260423T144250
CREATED:20220804T143235Z
LAST-MODIFIED:20220814T203439Z
UID:10011406-1663516800-1663522200@goodmorningwilton.com
SUMMARY:Hot & Cool Jazz: The Jerry Bergonzi Quartet
DESCRIPTION:Please join Wilton Library in the Brubeck Room for the Jerry Bergonzi Quartet featuring Jerry Bergonzi on tenor sax\, Harvie S on acoustic bass\, Bruce Barth on piano\, and Jason Tiemann on drums. \nHot & Cool Jazz is brought to you by the generosity of the Estate of James (Tom) and Alice Brown. \nAdvance registration is strongly recommended. Register online or call 203.762.6334. The suggested donation is $10. Each registration is for one name only; register each member of a party separately. Pre-registrants should arrive by 3:50 p.m. to be guaranteed seating; wait-listed and walk-in registrants will be admitted after 3:50 p.m. if space is available. There will be a reception following the concert with CDs available for sale and signing. \nBergonzi is a tenor saxophonist\, composer\, author and educator who was introduced to the world of jazz by one its legends — Dave Brubeck. In the 1970s\, he toured with the Two Generations of Brubeck band that featured Dave and the three Brubeck sons: Darius\, Chris\, and Dan. Later in that decade\, he also held the sax chair in the Dave Brubeck Quartet. On the faculty of the New England Conservatory for the last 20 years\, Bergonzi teaches improvisation in ensemble settings as well as one-on-one. He still plays two weekly gigs in the Boston area and tours 130 days a year playing his own music. \nHarvie S is back in the Brubeck Room for his seventh performance — most recently in 2019 with Alan Broadbent. Harvie is an award-winning bassist\, educator\, composer\, arranger\, and producer. He has played with many of the biggest names in jazz [the list is too long to spell out] and has performed in a wide variety of jazz festivals around the globe as well as in such venues as The Blue Note\, The Iridium\, and the Kennedy Center. \nTiemann is a New York City-based jazz drummer who maintains a busy schedule as a freelance performer and educator. Admittedly drawing influence from the greats Philly Joe Jones\, Tony Williams\, Elvin Jones\, and Billy Higgins\, Tiemann is quickly forging his musical voice on the New York scene by fusing his depth of historical foundation with crisp technique and propulsive\, intuitive swing. \nJazz pianist and composer Barth has been sharing his music with listeners the world over for more than two decades. He has performed on over 100 recordings and movie soundtracks. He is equally at home playing solo piano\, leading an all-star septet and composing for a variety of ensembles. He has performed with James Moody\, Art Farmer\, Phil Woods\, Tony Bennett\, Branford Marsalis\, and Wynton Marsalis among many others.
URL:https://goodmorningwilton.com/event/hot-cool-jazz-the-jerry-bergonzi-quartet/
LOCATION:Wilton Library
ATTACH;FMTTYPE=:
ORGANIZER;CN="Wilton Library":MAILTO:publicity@wiltonlibrary.org
END:VEVENT
BEGIN:VEVENT
DTSTART;TZID=America/New_York:20221120T160000
DTEND;TZID=America/New_York:20221120T173000
DTSTAMP:20260423T144250
CREATED:20221108T143100Z
LAST-MODIFIED:20221115T132532Z
UID:10011535-1668960000-1668965400@goodmorningwilton.com
SUMMARY:Hot & Cool Jazz: The Mark Zaleski Band\, Featuring Glenn Zaleski — Re-Imagining Dave Brubeck
DESCRIPTION:Join Wilton Library for the Mark Zaleski Band featuring Mark Zaleski on alto and soprano sax and his brother Glenn Zaleski on piano in a sextet that will re-imagine the music of Dave Brubeck. Zaleski’s recent album\, Our Time: Reimagining Dave Brubeck (2021)\, celebrates Brubeck’s legacy and classic compositions with decidedly modern arrangements that reflect Zaleski’s singular\, nuanced approach. Illuminating these selections is a seasoned ensemble with seamless interplay no doubt informed by the deep-rooted history between Zaleski and his musical compatriots. \nHot & Cool Jazz is brought to you by the generosity of the Estate of James (Tom) and Alice Brown. \nInternationally touring musician Mark Zaleski has distinguished himself as a uniquely dynamic soloist\, multi-instrumentalist\, and band leader. He has performed with a diverse group of notable artists including Ian Anderson\, Dave Brubeck\, Christian McBride\, Lake Street Dive\, the Louis Cole Big Band\, the Grammy-winning 8-Bit Big Band\, and Antonio Sanchez. Glenn Zaleski is one of the most in-demand pianists on the New York City jazz scene and he has made a name for himself playing with the likes of Ravi Coltrane\, Cécile McLorin Salvant\, the Vanguard Big Band\, Yotam Silberstein\, Ken Peplowski\, Lage Lund\, Ari Hoenig\, and many more. \nAdvance registration is strongly recommended. Register online or call 203.762.6334. The suggested donation is $10. Each registration is for one name only; remember to separately register each member of a party. Pre-registrants should arrive by 3:50 p.m. to be guaranteed seating; wait-listed and walk-in registrants will be admitted after 3:50 p.m. if space is available. \nThere will be a reception following the concert with CDs available for sale and signing. \nTo register and see more details\, visit the Wilton Library online.
URL:https://goodmorningwilton.com/event/hot-cool-jazz-the-mark-zaleski-band-featuring-glenn-zaleski-re-imagining-dave-brubeck/
LOCATION:Wilton Library
ATTACH;FMTTYPE=:
ORGANIZER;CN="Wilton Library":MAILTO:publicity@wiltonlibrary.org
END:VEVENT
BEGIN:VEVENT
DTSTART;TZID=America/New_York:20230304T160000
DTEND;TZID=America/New_York:20230304T173000
DTSTAMP:20260423T144250
CREATED:20230223T172511Z
LAST-MODIFIED:20230226T134927Z
UID:10011751-1677945600-1677951000@goodmorningwilton.com
SUMMARY:Hot & Cool Jazz: The Tamir Hendelman Trio
DESCRIPTION:The Tamir Hendelman Trio returns to Wilton Library for a special musical homecoming\, as Hendelman explores music from his childhood in Israel\, originals\, and Great American Songbook gems. Please join Wilton Library on Saturday\, March 4 from 4 p.m. – 5:30 p.m. for this Hot & Cool Jazz concert featuring the Tamir Hendelman Trio including Marco Panascia on bass and Matt Wilson on drums. \nHot & Cool Jazz is brought to you by the generosity of the Estate of James (Tom) and Alice Brown. \nBorn in Tel Aviv\, pianist\, composer and arranger Tamir Hendelman has resided in California for many years\, but it’s fair to say the world is his home. His trio will debut freshly arranged melodies with both modern and ancient inspirations\, classics of the Israeli Songbook\, lyrical originals\, and reimagined jazz classics. \nHenelman is visiting Wilton fresh off of tours of New York\, California and the Caribbean.  A long-time member of the Clayton-Hamilton Jazz Orchestra\, he has recorded with Barbra Streisand and Natalie Cole\, performed with Benny Golson and Terell Stafford and has been a guest artist of the Pittsburgh Symphony Orchestra and Winston-Salem Symphony. \nAdvance registration is strongly recommended. Register online or call 203.762.6334. The suggested donation is $10. Each registration is for one name only; register each member of a party separately. Pre-registrants should arrive by 3:50 p.m. to be guaranteed seating; wait-listed and walk-in registrants will be admitted after 3:50 p.m. if space is available. There will be a reception following the concert with CDs available for sale and signing. \n 
URL:https://goodmorningwilton.com/event/hot-cool-jazz-the-tamir-hendelman-trio/
LOCATION:Wilton Library\, 137 Old Ridgefield Rd.\, Wilton\, CT\, 06987
CATEGORIES:Concert,Free,Library,Live Music,Performance
ATTACH;FMTTYPE=image/jpeg:https://goodmorningwilton.com/wp-content/uploads/2023/02/TAMIR_HENDELMAN_2022_PHOTO1_9A940748-1.jpeg
END:VEVENT
BEGIN:VEVENT
DTSTART;TZID=America/New_York:20230416T160000
DTEND;TZID=America/New_York:20230416T170000
DTSTAMP:20260423T144250
CREATED:20230412T190138Z
LAST-MODIFIED:20230412T190138Z
UID:10011797-1681660800-1681664400@goodmorningwilton.com
SUMMARY:CT's Own Concert: Madera Winds - Name That Tune!
DESCRIPTION:The Madera Winds Quintet is thrilled to return to the Brubeck Room at Wilton Library to present a program entitled “Name That Tune” which will honor one of the wind quintet’s favorite music arrangers\, Wilford (“Bill”) Holcomb (1924-2010). Please join Wilton Library and “name the tunes” from Singin’ in the Rain\, the Wizard of Oz\, Porgy and Bess\, and Fiddler on the Roof. \nThe members of Madera Winds include: Kerry Walker\, WCSU Professor of Flute; Ralph Kirmser\, Oboist and founding member of Madera; Janet Atherton\, also a founding member of Madera Winds; Rosemary Dellinger\, Principal Bassoonist with La Orquesta Sinfonica de Maracaibo\, Venezuela; Marjorie Seymour Callaghan\, WCSU Professor of Horn. \nRegistration is strongly suggested. Pre-registrants should arrive by 3:50 p.m. to be guaranteed seating; wait-listed and walk-in registrants will be admitted after 3:50 p.m. if space is available. To register\, visit the Wilton Library’s website or call 203.762.6334. For information\, email Andrea Sato.
URL:https://goodmorningwilton.com/event/cts-own-concert-madera-winds-name-that-tune/
LOCATION:Wilton Library\, 137 Old Ridgefield Rd.\, Wilton\, CT\, 06987
CATEGORIES:Concert,Free,Library,Live Music,Not for profit,Performance
ATTACH;FMTTYPE=image/jpeg:https://goodmorningwilton.com/wp-content/uploads/2023/04/MaderaWindsIMG_5319_5A4B26A8resize.jpg
END:VEVENT
BEGIN:VEVENT
DTSTART;TZID=America/New_York:20230604T160000
DTEND;TZID=America/New_York:20230604T170000
DTSTAMP:20260423T144250
CREATED:20230529T110047Z
LAST-MODIFIED:20230529T110047Z
UID:10011955-1685894400-1685898000@goodmorningwilton.com
SUMMARY:Connecticut's Own: Music for Spring with Oboe and Piano
DESCRIPTION:Please join Wilton Library for a Sunday afternoon of chamber music in the Connecticut’s Own series. Wilton residents Ralph Kirmser (oboe) and Kyong Hee Cho (piano) will perform Romances for Oboe and Piano by Robert and Clara Schumann as well as solo piano works by Franz Schubert and Frederick Chopin. \nDr. Kirmser has been oboist for the Madera Winds Quintet for five years. Prior to that\, he was oboist for the Prevailing Winds of Connecticut and Morningside Wind Quintet of New York City. Dr. Kirmser is a cardiologist and practices in Norwalk. He is a resident of Wilton and has lived there with his wife and their three children for over 40 years. \nCho began her piano career in Korea at the age of four. She gave her first concert piano performance with the Seoul Symphony at the age of eleven. She attended the Manhattan School of Music as a merit scholar where she earned a BA and MA degree in piano performance. Cho has performed numerous solo concerts to benefit international medical and disaster relief. She teaches piano at her studio in Wilton. \nThere is no charge for this event\, but registration strongly suggested. Pre-registrants should arrive no later than 3:50 p.m. to be guaranteed seating; waitlisted and walk-in registrants will be admitted after 3:50 p.m. if space is available. Register on the Wilton Library’s website or call 203.762.6334.  For more information\, email Andrea Sato.
URL:https://goodmorningwilton.com/event/connecticuts-own-music-for-spring-with-oboe-and-piano/
LOCATION:Wilton Library\, 137 Old Ridgefield Rd.\, Wilton\, CT\, 06987
CATEGORIES:Concert,Free,Library,Live Music,Not for profit,Performance
ATTACH;FMTTYPE=image/jpeg:https://goodmorningwilton.com/wp-content/uploads/2023/05/IMG_5735_E38F9334-rotated.jpg
END:VEVENT
BEGIN:VEVENT
DTSTART;TZID=America/New_York:20230618T160000
DTEND;TZID=America/New_York:20230618T173000
DTSTAMP:20260423T144250
CREATED:20230608T142727Z
LAST-MODIFIED:20230608T142727Z
UID:10011941-1687104000-1687109400@goodmorningwilton.com
SUMMARY:Hot & Cool Jazz: Venus & Mars featuring Roxy Coss and Lucas Pino
DESCRIPTION:Please join Wilton Library as husband-and-wife tenor-sax power-couple Lucas Pino and Roxy Coss make their debut as co-band leaders. The duo first met at a jam session in New York City in 2012\, joined as spouses in 2014\, became parents in 2021\, and now come together for the first time publicly in 2023 to present a set of music representing that journey. Venus & Mars is a modern jazz project and a counter-response to the old trope that “Men are from Mars\, Women are from Venus.” How do two woodwind players live together\, let alone perform together? Come find out! \nThe band will explore diverse arrangements from both musicians\, from the history of jazz from the 1930s all the way through today\, including some of their original compositions written for one another. The rhythm section joining this duo will feature some of the scene’s top rising stars: Mike King on piano\, Liany Mateo on bass\, and Dan Pugach on drums. \nHot & Cool Jazz is brought to you by the generosity of the Estate of James (Tom) and Alice Brown. \nThere is no for this event. A $10 donation is suggested. Wait-list spots only. Pre-registrants should arrive by 3:50pm to be guaranteed seating; wait-listed and walk-in registrants will be admitted after 3:50 pm if space is available. There will be a reception following the concert with CDs available for sale and signing. \nGRAMMY Award-winning musician\, composer\, bandleader\, recording artist\, educator and activist Roxy Coss has become one of the most innovative saxophonists on the scene. Winner of the 2022 Downbeat Critics’ Poll “Rising Star” category in soprano saxophone and an ASCAP Young Jazz Composer Award\, Jazziz Magazine listed her an “Artist to Watch\,” and she received the Hothouse Magazine & Jazzmobile “Tenor Saxophone” Award. \nAward-winning musician and composer Lucas Pino has performed at some of the world’s most esteemed festivals and venues. As a tenor saxophonist and multi-woodwind player\, his unique and lyrical approach make him one of the most in-demand side musicians across generations. Lucas has notably performed with Dave Brubeck\, Christian McBride\, Takuya Kuroda\, Darcy James Argue\, Alan Ferber\, Samora Pinderhughes\, Nick Finzer\, and Jazz at Lincoln Center’s “Songs We Love\,” among others. \nRegister on the Wilton Library website.
URL:https://goodmorningwilton.com/event/hot-cool-jazz-venus-mars-featuring-roxy-coss-and-lucas-pino/
LOCATION:Wilton Library\, 137 Old Ridgefield Rd.\, Wilton\, CT\, 06987
CATEGORIES:Concert,Educational,Free,Kids,Library,Live Music,Not for profit,Performance
ATTACH;FMTTYPE=image/jpeg:https://goodmorningwilton.com/wp-content/uploads/2023/06/VENUS__MARS_23FFAD6D.jpg
END:VEVENT
BEGIN:VEVENT
DTSTART;TZID=America/New_York:20230727T170000
DTEND;TZID=America/New_York:20230727T183000
DTSTAMP:20260423T144250
CREATED:20230707T143447Z
LAST-MODIFIED:20230707T143447Z
UID:10012010-1690477200-1690482600@goodmorningwilton.com
SUMMARY:Wilton Library’s Summer Music Concert Series featuring Billy and the Showmen
DESCRIPTION:Please join Wilton Library on Thursday\, July 27\, at 5:00 p.m. for the final concert in our 2023 Summer Music Concert Series. Established more than fifty years ago by band leader Billy Frenz\, Billy and the Showmen has earned its reputation as one of Connecticut’s most enduring Rhythm & Blues bands. The band has thrilled audiences across the Northeast with hard-driving R&B\, Soul\, and Funk from the ’60’s\, 70’s and 80’s across over five decades. Having formed the original group as a four-piece band\, Frenz now leads a dynamic 11-piece group. Come and enjoy high impact entertainment from the enduring Billy and the Showmen. \nConcerts are free\, open to the public and take place in the Brubeck Room rain or shine. Sponsored by Village Market. Refreshments donated by Janet and Michael Crystal. Registration is not required.
URL:https://goodmorningwilton.com/event/wilton-librarys-summer-music-concert-series-featuring-billy-and-the-showmen-2/
LOCATION:Wilton Library\, 137 Old Ridgefield Rd.\, Wilton\, CT\, 06987
CATEGORIES:Concert,Free,Library,Live Music,Not for profit,Outdoor Event,Performance
ATTACH;FMTTYPE=image/jpeg:https://goodmorningwilton.com/wp-content/uploads/2023/07/Billy-and-the-Showmen-2018-Brubeck-Room-Wilton-Library-0618-1.jpg
END:VEVENT
BEGIN:VEVENT
DTSTART;TZID=America/New_York:20231015T160000
DTEND;TZID=America/New_York:20231015T170000
DTSTAMP:20260423T144250
CREATED:20231006T120408Z
LAST-MODIFIED:20231006T120408Z
UID:10013159-1697385600-1697389200@goodmorningwilton.com
SUMMARY:Connecticut's Own: Songs of the Guitar
DESCRIPTION:Please join Wilton Library for guitar music by John Lehmann-Haupt\, who will perform a mix of classical works and his own arrangements of popular and traditional songs\, including selections by Bach\, Albeniz\, Villa-Lobos\, Gershwin\, Pat Metheny\, and James Taylor. \nGuitarist John Lehmann-Haupt\, known equally for his arrangements of popular and traditional songs and for his classical interpretations\, has been playing since he was five years old. He has released two acclaimed CDs\, Songs of the Guitar and Songs of the Guitar II\, and has performed in concerts throughout the Northeast. His 12-year engagement at Windows on the World (atop the former World Trade Center) was cited for musical excellence by The New York Times. \nRegistration is required. Please register on the Wilton Library website or call 203.762.6334.
URL:https://goodmorningwilton.com/event/connecticuts-own-songs-of-the-guitar/
LOCATION:Wilton Library\, 137 Old Ridgefield Rd.\, Wilton\, CT\, 06987
CATEGORIES:Concert,Free,Library,Live Music,Not for profit,Performance
ATTACH;FMTTYPE=image/jpeg:https://goodmorningwilton.com/wp-content/uploads/2023/09/JohnLehmann-HauptPHOTO2_E3E45BAF.jpg
END:VEVENT
BEGIN:VEVENT
DTSTART;TZID=America/New_York:20231105T160000
DTEND;TZID=America/New_York:20231105T170000
DTSTAMP:20260423T144250
CREATED:20231027T101930Z
LAST-MODIFIED:20231027T101930Z
UID:10013357-1699200000-1699203600@goodmorningwilton.com
SUMMARY:Connecticut's Own: Music with Oboe and Piano
DESCRIPTION:Please join Wilton Library for another Sunday afternoon of chamber music in our Connecticut’s Own series. Wilton residents Ralph Kirmser (oboe) and Kyong Hee Cho (piano) will perform Fantasy Pieces by Carl Nielsen\, Three Romantic Pieces by Leopold Wallner\, as well as piano solos by Franz Liszt and Frederic Chopin. \nRalph Kirmser has been oboist for the Madera Winds Quintet for five years. Prior to that\, he was oboist for the Prevailing Winds of Connecticut and Morningside Wind Quintet of New York City. Dr. Kirmser is a cardiologist and practices in Norwalk. He is a resident of Wilton and has lived there with his wife Sally and their three children for over 40 years. \nKyong Hee Cho began her piano career in Korea at the age of four. She gave her first concert piano performance with the Seoul Symphony at the age of eleven. She attended the Manhattan School of Music as a merit scholar where she earned a BA and MA degree in piano performance. Kyong Hee has performed numerous solo concerts to benefit international medical and disaster relief. She teaches piano at her studio in Wilton. \nRegistration is strongly suggested. To register and see more details\, visit the Wilton Library website.
URL:https://goodmorningwilton.com/event/connecticuts-own-music-with-oboe-and-piano/
LOCATION:Wilton Library\, 137 Old Ridgefield Rd.\, Wilton\, CT\, 06987
CATEGORIES:Concert,Free,Library,Live Music,Not for profit,Performance
ATTACH;FMTTYPE=image/jpeg:https://goodmorningwilton.com/wp-content/uploads/2023/10/ConnecticutsOwnoboepianoresize-rotated.jpg
END:VEVENT
BEGIN:VEVENT
DTSTART;TZID=America/New_York:20240225T160000
DTEND;TZID=America/New_York:20240225T170000
DTSTAMP:20260423T144250
CREATED:20240213T165211Z
LAST-MODIFIED:20240213T165211Z
UID:10015042-1708876800-1708880400@goodmorningwilton.com
SUMMARY:Connecticut's Own: An Afternoon of A Cappella with Yale's Mixed Company
DESCRIPTION:Wilton Library hosts a Sunday afternoon of a cappella singing by Yale’s Mixed Company in their Connecticut’s Own series. \nFounded in 1981\, Mixed Company is Yale University’s oldest all-gender\, all-genre a cappella group. All members are current undergraduates at Yale. \nMixed Company has shared their music around the country and around the world. This year they have toured New York City and Florida\, and the group will be touring Peru in March\, in addition to recording an album. A member of the group created every arrangement that they sing. \nRegistration is required online or call 203.762.6334 for more details. Attendance is free of charge. Email for more information.
URL:https://goodmorningwilton.com/event/connecticuts-own-an-afternoon-of-a-cappella-with-yales-mixed-company/
LOCATION:Wilton Library\, 137 Old Ridgefield Rd.\, Wilton\, CT\, 06987
CATEGORIES:Community Events,Concert,Free,Library,Live Music,Not for profit,Performance
ATTACH;FMTTYPE=image/jpeg:https://goodmorningwilton.com/wp-content/uploads/2024/02/MIXED_COMPANY_GROUP_SHOT_2024_RESIZED_AD6C2F04.jpg
END:VEVENT
BEGIN:VEVENT
DTSTART;TZID=America/New_York:20240303T160000
DTEND;TZID=America/New_York:20240303T173000
DTSTAMP:20260423T144250
CREATED:20240301T172711Z
LAST-MODIFIED:20240301T172711Z
UID:10015649-1709481600-1709487000@goodmorningwilton.com
SUMMARY:Hot & Cool Jazz: Judy Carmichael - Swinging Standards\, Sultry Vocals & Sassy Humor
DESCRIPTION:Waiting List Spots Available. \nJoin Wilton Library for a Sunday afternoon of jazz with pianist/vocalist Judy Carmichael and guitarist Chris Flory. They will swing through favorites of the American songbook\, from Gershwin and Cole Porter to Frank Loesser and Harold Arlen. Nicknamed “Stride” by the great Count Basie\, the Grammy-nominated pianist\, vocalist\, and songwriter enchants audiences with her command of the idiom at the piano\, as well as her charming effervescence away from it. Newsday said she’s like “Peggy Lee meets Fats Waller meets Paula Poundstone.” \nCarmichael’s radio show/podcast Jazz Inspired\, is in its 24th year on NPR stations. She appears frequently on radio and television throughout the world and maintains a busy international touring schedule. \nFlory toured with Benny Goodman’s last quartet early in his career and has recorded and/or appeared with Hank Jones\, Scott Hamilton\, Rosemary Clooney\, Illinois Jacquet\, Jo Jones\, Ruby Braff and many other jazz greats. \nThere will be a reception following the concert with CDs available for sale and signing. Hot & Cool Jazz is brought to you by the generosity of the Estate of James (Tom) and Alice Brown. \nTo see more details\, visit online.
URL:https://goodmorningwilton.com/event/hot-cool-jazz-judy-carmichael-swinging-standards-sultry-vocals-sassy-humor/
LOCATION:Wilton Library\, 137 Old Ridgefield Rd.\, Wilton\, CT\, 06987
CATEGORIES:Community Events,Concert,Free,Library,Live Music,Performance
ATTACH;FMTTYPE=image/jpeg:https://goodmorningwilton.com/wp-content/uploads/2024/02/JudyCarmichaelBLUES_FEST_36F53FA2.jpg
END:VEVENT
BEGIN:VEVENT
DTSTART;TZID=America/New_York:20240505T160000
DTEND;TZID=America/New_York:20240505T170000
DTSTAMP:20260423T144250
CREATED:20240425T145542Z
LAST-MODIFIED:20240425T145542Z
UID:10016731-1714924800-1714928400@goodmorningwilton.com
SUMMARY:Connecticut's Own: Music with Oboe and Piano
DESCRIPTION:Join Wilton Library for another Sunday afternoon of chamber music in their Connecticut’s Own series. Wilton residents Ralph Kirmser (oboe) and Kyong Hee Cho (piano) will perform pieces by Robert Schumann\, Pierre Sancan\, and Frederic Chopin. \nKirmser has been oboist for the Madera Winds Quintet for five years. Prior to that\, he was oboist for the Prevailing Winds of Connecticut and Morningside Wind Quintet of New York City. Dr. Kirmser is a cardiologist with Cardiology Physicians of Fairfield County and practices in Norwalk. He is a resident of Wilton\, CT and has lived there with his wife Sally and their three children for over 40 years. \nCho began her piano career in Korea at the age of four. She gave her first concert piano performance with the Seoul Symphony at the age of eleven. She attended the Manhattan School of Music as a merit scholar where she earned a BA and MA degree in piano performance. Cho has performed numerous solo concerts to benefit international medical and disaster relief. She teaches piano at her studio in Wilton\, CT. \nRegistration is required. Register online or call 203.762.6334.
URL:https://goodmorningwilton.com/event/connecticuts-own-music-with-oboe-and-piano-2/
LOCATION:Wilton Library\, 137 Old Ridgefield Rd.\, Wilton\, CT\, 06987
CATEGORIES:Concert,Library,Live Music,Performance
ATTACH;FMTTYPE=image/jpeg:https://goodmorningwilton.com/wp-content/uploads/2024/04/KIRMSER_AND_KYONG_HEE_EFD593E7-rotated.jpeg
END:VEVENT
BEGIN:VEVENT
DTSTART;TZID=America/New_York:20240627T170000
DTEND;TZID=America/New_York:20240627T183000
DTSTAMP:20260423T144250
CREATED:20240612T235640Z
LAST-MODIFIED:20240612T235640Z
UID:10017425-1719507600-1719513000@goodmorningwilton.com
SUMMARY:Wilton Library’s Summer Music Concert Series featuring Over Easy
DESCRIPTION:Wilton Library happily announces the return of its annual Summer Music Concert Series! \nFairfield County-based pop-rock trio\, Over Easy kicks off the series on Thursday\, June 27\, from 5:00 p.m. to 6:30 p.m.. They cover music from the ‘50s\, the British Invasion era and early ‘70s classics that are often forgotten. The band receives rave reviews for their ability to cater their sound to their listeners and their fun\, laid-back style. \nConcerts take place rain or shine in the Brubeck Room on Thursday evenings in June and July starting at 5:00 p.m. The series continues with Sounds of Sinatra Music on July 11\, Captain Obvious on July 18\, and Everything Else on July 25. \nThe concerts are free and open to the public. Snacks and refreshments will be served. Registration is not required. \nVillage Market sponsors the event series. Janet and Michael Crystal generously donated refreshments.
URL:https://goodmorningwilton.com/event/wilton-librarys-summer-music-concert-series-featuring-over-easy-3/
LOCATION:Wilton Library\, 137 Old Ridgefield Rd.\, Wilton\, CT\, 06987
CATEGORIES:Community Events,Concert,Family Event,Library,Live Music,Performance
ATTACH;FMTTYPE=image/jpeg:https://goodmorningwilton.com/wp-content/uploads/2024/06/OverEasy22550290_1982113595148356_6110418105327168713_o.jpg
END:VEVENT
END:VCALENDAR