BEGIN:VCALENDAR
VERSION:2.0
PRODID:-//Good Morning Wilton - ECPv6.15.20//NONSGML v1.0//EN
CALSCALE:GREGORIAN
METHOD:PUBLISH
X-ORIGINAL-URL:https://goodmorningwilton.com
X-WR-CALDESC:Events for Good Morning Wilton
REFRESH-INTERVAL;VALUE=DURATION:PT1H
X-Robots-Tag:noindex
X-PUBLISHED-TTL:PT1H
BEGIN:VTIMEZONE
TZID:America/New_York
BEGIN:DAYLIGHT
TZOFFSETFROM:-0500
TZOFFSETTO:-0400
TZNAME:EDT
DTSTART:20220313T070000
END:DAYLIGHT
BEGIN:STANDARD
TZOFFSETFROM:-0400
TZOFFSETTO:-0500
TZNAME:EST
DTSTART:20221106T060000
END:STANDARD
BEGIN:DAYLIGHT
TZOFFSETFROM:-0500
TZOFFSETTO:-0400
TZNAME:EDT
DTSTART:20230312T070000
END:DAYLIGHT
BEGIN:STANDARD
TZOFFSETFROM:-0400
TZOFFSETTO:-0500
TZNAME:EST
DTSTART:20231105T060000
END:STANDARD
BEGIN:DAYLIGHT
TZOFFSETFROM:-0500
TZOFFSETTO:-0400
TZNAME:EDT
DTSTART:20240310T070000
END:DAYLIGHT
BEGIN:STANDARD
TZOFFSETFROM:-0400
TZOFFSETTO:-0500
TZNAME:EST
DTSTART:20241103T060000
END:STANDARD
BEGIN:DAYLIGHT
TZOFFSETFROM:-0500
TZOFFSETTO:-0400
TZNAME:EDT
DTSTART:20250309T070000
END:DAYLIGHT
BEGIN:STANDARD
TZOFFSETFROM:-0400
TZOFFSETTO:-0500
TZNAME:EST
DTSTART:20251102T060000
END:STANDARD
END:VTIMEZONE
BEGIN:VEVENT
DTSTART;TZID=America/New_York:20230827T100000
DTEND;TZID=America/New_York:20230827T160000
DTSTAMP:20260422T182536
CREATED:20230808T224404Z
LAST-MODIFIED:20230808T224404Z
UID:10012473-1693130400-1693152000@goodmorningwilton.com
SUMMARY:Cannon Grange Agricultural Fair
DESCRIPTION:The Cannon Grange (25 Cannon Rd.) will host its Annual Agricultural Fair on Sunday\, Aug. 27\, from 10 a.m.-4 p.m. \nVisitors will find wonderfully skilled artisans\, a petting zoo\, a face painter\, food trucks/vendors\, music\, local nonprofits providing information about their organizations\, and a special performance by The Square Bears from 1-2 p.m. \nEnter in one of the traditional contest categories for a chance to win a Blue Ribbon! Categories for submissions are: \nCulinary Arts\nCollections\nVegetables & Fruits\nFlowers\nSewing & Needlework\nPoultry & Fowl\nRabbits\nPhotography\nEggs \nAll the info is found on the Cannon Grange website. \nCome by and support the Cannon Grange at this very fun event for everyone! \nVisitors are asked to consider a $2 donation per person.
URL:https://goodmorningwilton.com/event/cannon-grange-agricultural-fair/
LOCATION:25 Cannon Road\, Wilton\, Ct\, 25 Cannon Road\, Wilton\, 06897\, United States
CATEGORIES:Animals,Community Events,Contest,Family Event,Food,Live Music,Nature,Not for profit,Outdoor Event
ATTACH;FMTTYPE=image/png:https://goodmorningwilton.com/wp-content/uploads/2023/07/AG-FAIR-AD-1-w-QR.png
ORGANIZER;CN="Cannon Grange No. 152":MAILTO:michele.cannongrange@gmail.com
END:VEVENT
BEGIN:VEVENT
DTSTART;TZID=America/New_York:20240406T200000
DTEND;TZID=America/New_York:20240406T220000
DTSTAMP:20260422T182536
CREATED:20240314T004229Z
LAST-MODIFIED:20240314T004229Z
UID:10015688-1712433600-1712440800@goodmorningwilton.com
SUMMARY:Playshop Unplugged
DESCRIPTION:The Wilton Playshop holds a benefit with acoustic live music performed by local talent. There will be a reception following the show. \nPurchase tickets here.
URL:https://goodmorningwilton.com/event/playshop-unplugged/
LOCATION:The Wilton Playshop\, 15 Lovers Lane\, Wilton\, CT\, 06897\, United States
CATEGORIES:Fundraiser,Live Music
ATTACH;FMTTYPE=image/jpeg:https://goodmorningwilton.com/wp-content/uploads/2024/03/unplugged_square.jpeg
ORGANIZER;CN="Wilton Playshop":MAILTO:tickets@wiltonplayshop.org
END:VEVENT
BEGIN:VEVENT
DTSTART;TZID=America/New_York:20240518T090000
DTEND;TZID=America/New_York:20240518T120000
DTSTAMP:20260422T182536
CREATED:20240408T234055Z
LAST-MODIFIED:20240408T234055Z
UID:10015821-1716022800-1716033600@goodmorningwilton.com
SUMMARY:Community Shred Day
DESCRIPTION:Circle of Care and Wilton Go Green are co-hosting a community shred day! Start gathering all sensitive documents and bring them down to the shredding truck. Attendees will park and bring their items over to the shred truck where you can also learn more about Circle of Care and Wilton Go Green as well as enter a raffle! \nWilton Go Green promotes engaging\, educating and inspiring green living. \nCircle of Care supports CT families of children with cancer with financial\, practical and emotional support. \nAll proceeds will benefit these two Wilton-based non-profits. Suggested donation of $20/bag or box. Maximum of 5 per person.
URL:https://goodmorningwilton.com/event/community-shred-day-3/
LOCATION:Fairfield Couny Bank\, 190 Old Ridgefield Rd.\, Wilton\, CT\, 06897\, United States
CATEGORIES:Community Events,Environmental,Not for profit
ATTACH;FMTTYPE=image/png:https://goodmorningwilton.com/wp-content/uploads/2024/04/2024-Community-Shred-Day-8.5-x-11-in-Instagram-Post-2.png
ORGANIZER;CN="Circle of Care":MAILTO:info@thecircleofcare.org
END:VEVENT
END:VCALENDAR