BEGIN:VCALENDAR
VERSION:2.0
PRODID:-//Good Morning Wilton - ECPv6.15.20//NONSGML v1.0//EN
CALSCALE:GREGORIAN
METHOD:PUBLISH
X-WR-CALNAME:Good Morning Wilton
X-ORIGINAL-URL:https://goodmorningwilton.com
X-WR-CALDESC:Events for Good Morning Wilton
REFRESH-INTERVAL;VALUE=DURATION:PT1H
X-Robots-Tag:noindex
X-PUBLISHED-TTL:PT1H
BEGIN:VTIMEZONE
TZID:America/New_York
BEGIN:DAYLIGHT
TZOFFSETFROM:-0500
TZOFFSETTO:-0400
TZNAME:EDT
DTSTART:20200308T070000
END:DAYLIGHT
BEGIN:STANDARD
TZOFFSETFROM:-0400
TZOFFSETTO:-0500
TZNAME:EST
DTSTART:20201101T060000
END:STANDARD
BEGIN:DAYLIGHT
TZOFFSETFROM:-0500
TZOFFSETTO:-0400
TZNAME:EDT
DTSTART:20210314T070000
END:DAYLIGHT
BEGIN:STANDARD
TZOFFSETFROM:-0400
TZOFFSETTO:-0500
TZNAME:EST
DTSTART:20211107T060000
END:STANDARD
BEGIN:DAYLIGHT
TZOFFSETFROM:-0500
TZOFFSETTO:-0400
TZNAME:EDT
DTSTART:20220313T070000
END:DAYLIGHT
BEGIN:STANDARD
TZOFFSETFROM:-0400
TZOFFSETTO:-0500
TZNAME:EST
DTSTART:20221106T060000
END:STANDARD
BEGIN:DAYLIGHT
TZOFFSETFROM:-0500
TZOFFSETTO:-0400
TZNAME:EDT
DTSTART:20230312T070000
END:DAYLIGHT
BEGIN:STANDARD
TZOFFSETFROM:-0400
TZOFFSETTO:-0500
TZNAME:EST
DTSTART:20231105T060000
END:STANDARD
BEGIN:DAYLIGHT
TZOFFSETFROM:-0500
TZOFFSETTO:-0400
TZNAME:EDT
DTSTART:20240310T070000
END:DAYLIGHT
BEGIN:STANDARD
TZOFFSETFROM:-0400
TZOFFSETTO:-0500
TZNAME:EST
DTSTART:20241103T060000
END:STANDARD
BEGIN:DAYLIGHT
TZOFFSETFROM:-0500
TZOFFSETTO:-0400
TZNAME:EDT
DTSTART:20250309T070000
END:DAYLIGHT
BEGIN:STANDARD
TZOFFSETFROM:-0400
TZOFFSETTO:-0500
TZNAME:EST
DTSTART:20251102T060000
END:STANDARD
END:VTIMEZONE
BEGIN:VEVENT
DTSTART;TZID=America/New_York:20210513T100000
DTEND;TZID=America/New_York:20210513T103000
DTSTAMP:20260420T113017
CREATED:20210422T210240Z
LAST-MODIFIED:20210422T224632Z
UID:10009272-1620900000-1620901800@goodmorningwilton.com
SUMMARY:Police Officer Story Time on Zoom
DESCRIPTION:Children ages 2 and up are invited to join Wilton Police Officers for an interactive story time on Zoom. You must have an account with Zoom. Registration for this program is required. Registrants will receive an email link to the Zoom meeting prior to the program. To register\, visit the Wilton Library website. Email any questions.
URL:https://goodmorningwilton.com/event/police-officer-story-time-on-zoom-2/
LOCATION:ZOOM
CATEGORIES:Kids,Library,Police,Zoom Call
ATTACH;FMTTYPE=image/jpeg:https://goodmorningwilton.com/wp-content/uploads/2021/04/POLICE_OFFICER.jpg
END:VEVENT
BEGIN:VEVENT
DTSTART;TZID=America/New_York:20220607T103000
DTEND;TZID=America/New_York:20220607T110000
DTSTAMP:20260420T113017
CREATED:20220526T201352Z
LAST-MODIFIED:20220527T064215Z
UID:10011328-1654597800-1654599600@goodmorningwilton.com
SUMMARY:Wilton Library: Police Officer Story Time
DESCRIPTION:Children ages 2 and up are invited to join Wilton Police Officers for an interactive\, in-person story time at Wilton Library. \nOne of our local officers will read stories and answer questions. Kids will see the police car too! \nRegistration required. Weather permitting\, the program may be moved outdoors to the Reference Courtyard. \nMasks recommended for all participants. To register\, visit the Wilton Library website.
URL:https://goodmorningwilton.com/event/wilton-library-police-officer-story-time-2/
LOCATION:Wilton Library
CATEGORIES:Kids,Library,Police
ATTACH;FMTTYPE=image/jpeg:https://goodmorningwilton.com/wp-content/uploads/2022/05/POLICE_OFFICER_E8BC9BED.jpg
ORGANIZER;CN="Wilton Library":MAILTO:publicity@wiltonlibrary.org
END:VEVENT
BEGIN:VEVENT
DTSTART;TZID=America/New_York:20240603T110000
DTEND;TZID=America/New_York:20240603T130000
DTSTAMP:20260420T113017
CREATED:20240530T003149Z
LAST-MODIFIED:20240530T003149Z
UID:10016929-1717412400-1717419600@goodmorningwilton.com
SUMMARY:Scams and More Scams: How to Recognize Them and How to Avoid Them
DESCRIPTION:All are aware of the number of scams people encounter daily. Join Lieutenant David Hartman\, Sergeant Jonathan Patry and Offficer Graham O’Gorman of the Wilton Police Department for a presentation at Wilton Library that will give residents information on how scams work\, how to identify a scam\, how to avoid scams\, and what to do if you fall victim to a scam. \nFeel free to bring a snack or lunch if desired. \nRegistration is suggested online.
URL:https://goodmorningwilton.com/event/scams-and-more-scams-how-to-recognize-them-and-how-to-avoid-them/
LOCATION:Wilton Library\, 137 Old Ridgefield Rd.\, Wilton\, CT\, 06987
CATEGORIES:discussion,Educational,Library,Presentation,Seniors
ATTACH;FMTTYPE=image/png:https://goodmorningwilton.com/wp-content/uploads/2024/05/scam-1572528660-e1701729695560.png
END:VEVENT
END:VCALENDAR