BEGIN:VCALENDAR
VERSION:2.0
PRODID:-//Good Morning Wilton - ECPv6.15.20//NONSGML v1.0//EN
CALSCALE:GREGORIAN
METHOD:PUBLISH
X-WR-CALNAME:Good Morning Wilton
X-ORIGINAL-URL:https://goodmorningwilton.com
X-WR-CALDESC:Events for Good Morning Wilton
REFRESH-INTERVAL;VALUE=DURATION:PT1H
X-Robots-Tag:noindex
X-PUBLISHED-TTL:PT1H
BEGIN:VTIMEZONE
TZID:America/New_York
BEGIN:DAYLIGHT
TZOFFSETFROM:-0500
TZOFFSETTO:-0400
TZNAME:EDT
DTSTART:20230312T070000
END:DAYLIGHT
BEGIN:STANDARD
TZOFFSETFROM:-0400
TZOFFSETTO:-0500
TZNAME:EST
DTSTART:20231105T060000
END:STANDARD
BEGIN:DAYLIGHT
TZOFFSETFROM:-0500
TZOFFSETTO:-0400
TZNAME:EDT
DTSTART:20240310T070000
END:DAYLIGHT
BEGIN:STANDARD
TZOFFSETFROM:-0400
TZOFFSETTO:-0500
TZNAME:EST
DTSTART:20241103T060000
END:STANDARD
BEGIN:DAYLIGHT
TZOFFSETFROM:-0500
TZOFFSETTO:-0400
TZNAME:EDT
DTSTART:20250309T070000
END:DAYLIGHT
BEGIN:STANDARD
TZOFFSETFROM:-0400
TZOFFSETTO:-0500
TZNAME:EST
DTSTART:20251102T060000
END:STANDARD
BEGIN:DAYLIGHT
TZOFFSETFROM:-0500
TZOFFSETTO:-0400
TZNAME:EDT
DTSTART:20260308T070000
END:DAYLIGHT
BEGIN:STANDARD
TZOFFSETFROM:-0400
TZOFFSETTO:-0500
TZNAME:EST
DTSTART:20261101T060000
END:STANDARD
END:VTIMEZONE
BEGIN:VEVENT
DTSTART;TZID=America/New_York:20240510T200000
DTEND;TZID=America/New_York:20240510T200000
DTSTAMP:20260425T122541
CREATED:20240417T013422Z
LAST-MODIFIED:20240509T225845Z
UID:10016891-1715371200-1715371200@goodmorningwilton.com
SUMMARY:“Grease” at The Wilton Playshop
DESCRIPTION:Get ready to shake\, rattle and roll with The Wilton Playshop as they bring the electrifying and timeless musical\, Grease\, to life on stage! \nWith Jim Jacobs and Warren Casey’s book\, music and lyrics\, this magical production will transport audiences back to the 1950s. Featuring hit songs such as “Greased Lightnin’\,” “Summer Nights\,” and “You’re the One That I Want\,” this production of Grease is sure to have audiences dancing in their seats. Themes of friendship\, love\, and the pursuit of happiness continue to resonate with audiences of all ages\, making it a must-see event for the whole family. \nJoin in the fun 8 p.m. – 10:30 p.m.\, April 26 – May 11. \nTickets are $35 for adults and $30 for seniors and students.
URL:https://goodmorningwilton.com/event/grease-at-the-wilton-playshop/2024-05-10/
LOCATION:The Wilton Playshop\, 15 Lovers Lane\, Wilton\, CT\, 06897\, United States
CATEGORIES:Community Events,Family Event,Kids,Live Music,Performance,Theater
ATTACH;FMTTYPE=image/jpeg:https://goodmorningwilton.com/wp-content/uploads/2024/04/Grease_logo_REDCAR_blue_bkgd.jpg
ORGANIZER;CN="Wilton Playshop":MAILTO:tickets@wiltonplayshop.org
END:VEVENT
BEGIN:VEVENT
DTSTART;TZID=America/New_York:20240511T200000
DTEND;TZID=America/New_York:20240511T220000
DTSTAMP:20260425T122541
CREATED:20240417T013422Z
LAST-MODIFIED:20240509T225845Z
UID:10016892-1715457600-1715464800@goodmorningwilton.com
SUMMARY:“Grease” at The Wilton Playshop
DESCRIPTION:Get ready to shake\, rattle and roll with The Wilton Playshop as they bring the electrifying and timeless musical\, Grease\, to life on stage! \nWith Jim Jacobs and Warren Casey’s book\, music and lyrics\, this magical production will transport audiences back to the 1950s. Featuring hit songs such as “Greased Lightnin’\,” “Summer Nights\,” and “You’re the One That I Want\,” this production of Grease is sure to have audiences dancing in their seats. Themes of friendship\, love\, and the pursuit of happiness continue to resonate with audiences of all ages\, making it a must-see event for the whole family. \nJoin in the fun 8 p.m. – 10:30 p.m.\, April 26 – May 11. \nTickets are $35 for adults and $30 for seniors and students.
URL:https://goodmorningwilton.com/event/grease-at-the-wilton-playshop/2024-05-11/
LOCATION:The Wilton Playshop\, 15 Lovers Lane\, Wilton\, CT\, 06897\, United States
CATEGORIES:Community Events,Family Event,Kids,Live Music,Performance,Theater
ATTACH;FMTTYPE=image/jpeg:https://goodmorningwilton.com/wp-content/uploads/2024/04/Grease_logo_REDCAR_blue_bkgd.jpg
ORGANIZER;CN="Wilton Playshop":MAILTO:tickets@wiltonplayshop.org
END:VEVENT
BEGIN:VEVENT
DTSTART;TZID=America/New_York:20251114T193000
DTEND;TZID=America/New_York:20251114T220000
DTSTAMP:20260425T122541
CREATED:20251110T203355Z
LAST-MODIFIED:20251110T203355Z
UID:10020053-1763148600-1763157600@goodmorningwilton.com
SUMMARY:"Sweeney Todd: The Demon Barber of Fleet Street" at Wilton Playshop 
DESCRIPTION:Sweeney Todd: The Demon Barber of Fleet Street opens at the Wilton Playshop Oct. 31 and runs through Nov. 15. Performances are on Fridays and Saturdays at 7:30 p.m. (note the earlier curtain time than in past seasons) and Sundays at 2 p.m. \nTickets are available on the Wilton Playshop website. \nPlease note that Sweeney Todd contains sexual content\, violence\, gore\, gun use\, and death. Scenes involving sexual assault and murder are presented in a highly theatrical style but remain intense and may be disturbing to some viewers. The production is recommended for mature audiences only.
URL:https://goodmorningwilton.com/event/sweeney-todd-the-demon-barber-of-fleet-street-at-wilton-playshop/2025-11-14/
LOCATION:The Wilton Playshop\, 15 Lovers Lane\, Wilton\, CT\, 06897\, United States
CATEGORIES:Arts,Play,Theater
ATTACH;FMTTYPE=image/jpeg:https://goodmorningwilton.com/wp-content/uploads/2025/11/Sweeney-Todd-Wilton-Playshop.jpg
ORGANIZER;CN="Wilton Playshop":MAILTO:tickets@wiltonplayshop.org
END:VEVENT
BEGIN:VEVENT
DTSTART;TZID=America/New_York:20251115T193000
DTEND;TZID=America/New_York:20251115T220000
DTSTAMP:20260425T122541
CREATED:20251110T203355Z
LAST-MODIFIED:20251110T203355Z
UID:10020054-1763235000-1763244000@goodmorningwilton.com
SUMMARY:"Sweeney Todd: The Demon Barber of Fleet Street" at Wilton Playshop 
DESCRIPTION:Sweeney Todd: The Demon Barber of Fleet Street opens at the Wilton Playshop Oct. 31 and runs through Nov. 15. Performances are on Fridays and Saturdays at 7:30 p.m. (note the earlier curtain time than in past seasons) and Sundays at 2 p.m. \nTickets are available on the Wilton Playshop website. \nPlease note that Sweeney Todd contains sexual content\, violence\, gore\, gun use\, and death. Scenes involving sexual assault and murder are presented in a highly theatrical style but remain intense and may be disturbing to some viewers. The production is recommended for mature audiences only.
URL:https://goodmorningwilton.com/event/sweeney-todd-the-demon-barber-of-fleet-street-at-wilton-playshop/2025-11-15/
LOCATION:The Wilton Playshop\, 15 Lovers Lane\, Wilton\, CT\, 06897\, United States
CATEGORIES:Arts,Play,Theater
ATTACH;FMTTYPE=image/jpeg:https://goodmorningwilton.com/wp-content/uploads/2025/11/Sweeney-Todd-Wilton-Playshop.jpg
ORGANIZER;CN="Wilton Playshop":MAILTO:tickets@wiltonplayshop.org
END:VEVENT
END:VCALENDAR