BEGIN:VCALENDAR
VERSION:2.0
PRODID:-//Good Morning Wilton - ECPv6.15.20//NONSGML v1.0//EN
CALSCALE:GREGORIAN
METHOD:PUBLISH
X-ORIGINAL-URL:https://goodmorningwilton.com
X-WR-CALDESC:Events for Good Morning Wilton
REFRESH-INTERVAL;VALUE=DURATION:PT1H
X-Robots-Tag:noindex
X-PUBLISHED-TTL:PT1H
BEGIN:VTIMEZONE
TZID:America/New_York
BEGIN:DAYLIGHT
TZOFFSETFROM:-0500
TZOFFSETTO:-0400
TZNAME:EDT
DTSTART:20190310T070000
END:DAYLIGHT
BEGIN:STANDARD
TZOFFSETFROM:-0400
TZOFFSETTO:-0500
TZNAME:EST
DTSTART:20191103T060000
END:STANDARD
BEGIN:DAYLIGHT
TZOFFSETFROM:-0500
TZOFFSETTO:-0400
TZNAME:EDT
DTSTART:20200308T070000
END:DAYLIGHT
BEGIN:STANDARD
TZOFFSETFROM:-0400
TZOFFSETTO:-0500
TZNAME:EST
DTSTART:20201101T060000
END:STANDARD
BEGIN:DAYLIGHT
TZOFFSETFROM:-0500
TZOFFSETTO:-0400
TZNAME:EDT
DTSTART:20210314T070000
END:DAYLIGHT
BEGIN:STANDARD
TZOFFSETFROM:-0400
TZOFFSETTO:-0500
TZNAME:EST
DTSTART:20211107T060000
END:STANDARD
BEGIN:DAYLIGHT
TZOFFSETFROM:-0500
TZOFFSETTO:-0400
TZNAME:EDT
DTSTART:20220313T070000
END:DAYLIGHT
BEGIN:STANDARD
TZOFFSETFROM:-0400
TZOFFSETTO:-0500
TZNAME:EST
DTSTART:20221106T060000
END:STANDARD
BEGIN:DAYLIGHT
TZOFFSETFROM:-0500
TZOFFSETTO:-0400
TZNAME:EDT
DTSTART:20230312T070000
END:DAYLIGHT
BEGIN:STANDARD
TZOFFSETFROM:-0400
TZOFFSETTO:-0500
TZNAME:EST
DTSTART:20231105T060000
END:STANDARD
BEGIN:DAYLIGHT
TZOFFSETFROM:-0500
TZOFFSETTO:-0400
TZNAME:EDT
DTSTART:20240310T070000
END:DAYLIGHT
BEGIN:STANDARD
TZOFFSETFROM:-0400
TZOFFSETTO:-0500
TZNAME:EST
DTSTART:20241103T060000
END:STANDARD
BEGIN:DAYLIGHT
TZOFFSETFROM:-0500
TZOFFSETTO:-0400
TZNAME:EDT
DTSTART:20250309T070000
END:DAYLIGHT
BEGIN:STANDARD
TZOFFSETFROM:-0400
TZOFFSETTO:-0500
TZNAME:EST
DTSTART:20251102T060000
END:STANDARD
BEGIN:DAYLIGHT
TZOFFSETFROM:-0500
TZOFFSETTO:-0400
TZNAME:EDT
DTSTART:20260308T070000
END:DAYLIGHT
BEGIN:STANDARD
TZOFFSETFROM:-0400
TZOFFSETTO:-0500
TZNAME:EST
DTSTART:20261101T060000
END:STANDARD
BEGIN:DAYLIGHT
TZOFFSETFROM:-0500
TZOFFSETTO:-0400
TZNAME:EDT
DTSTART:20270314T070000
END:DAYLIGHT
BEGIN:STANDARD
TZOFFSETFROM:-0400
TZOFFSETTO:-0500
TZNAME:EST
DTSTART:20271107T060000
END:STANDARD
END:VTIMEZONE
BEGIN:VEVENT
DTSTART;TZID=America/New_York:20200126T120000
DTEND;TZID=America/New_York:20200126T160000
DTSTAMP:20260425T225406
CREATED:20200110T013424Z
LAST-MODIFIED:20200110T013424Z
UID:10009273-1580040000-1580054400@goodmorningwilton.com
SUMMARY:3rd Annual Wilton Winter Carnival
DESCRIPTION:The Wilton Chamber of Commerce is excited to announce the date for its third Annual Wilton Winter Carnival. This event\, sponsored by Fairfield County Bank\, will be held on Sunday\, Jan. 26\, from 12-4 p.m.\, and is designed to be fun for all ages! \nVisitors are invited to enjoy horse-drawn carriage rides; a live\, ice-sculpting demonstration at the Town Green Gazebo plus pre-carved sculptures at Fairfield County Bank\, Gregory and Adams\, P.C.\, Village Market\, and Wilton Library; live music from WEBE 108; a campfire for roasting marshmallows (children must be accompanied by an adult) hosted by the Wilton Rotary Club; a life-sized Olaf character from Frozen for photo ops; kids activities and crafts provided by Little Green Frog and others; and kids games and treats. Guests can stroll through town to view all Wilton has to offer and stop in at the Wilton Library\, which will be open with special activities and offering a seat to warm up next to the fireplace. \nThere will be many culinary treats as well; food trucks on hand will include Cousins Maine Lobster\, Lucky Dog\, Planet Pizza and more. Adults will also be able to enjoy non-alcoholic and craft beers\, as well as cordial and spirit tastings\, including bourbon\, whiskey\, Scotch and warm cocktails. \nAlso new for this year\, the Chamber is offering free giveaways to the first 250 guests at the carnival–they’ll receive a free yowie multifunctional rally wear–use it as a scarf\, bandana\, headband\, neck warmer\, beanie\, hair cover and so many more uses! \nSupporting sponsors include Kimco Realty and Blue Buffalo; the entertainment sponsor is Passage East Kennels; and media sponsors are GOOD Morning Wilton and WEBE 108\, plus others to be announced. \nThe event is rain\, snow or shine\, so bundle up and come outside and enjoy! \nFor more information\, contact Chamber executive director Debra Hanson or assistant director Camille Carriero at 203.762.0567 or via email.
URL:https://goodmorningwilton.com/event/3rd-annual-wilton-winter-carnival/
LOCATION:Wilton Town Green\, Wilton Center\, Wilton\,CT\, CT\, 06897\, United States
CATEGORIES:Carnival,Community Celebration,Community Events,Family Event,Festival,Food,Free,Kids,Outdoor Event,Street Fair
ATTACH;FMTTYPE=image/png:https://goodmorningwilton.com/wp-content/uploads/2020/01/wilton-chamber-winter-carnival-2020.png
ORGANIZER;CN="Wilton Chamber of Commerce":MAILTO:info@wiltonchamber.com
END:VEVENT
BEGIN:VEVENT
DTSTART;TZID=America/New_York:20220206T120000
DTEND;TZID=America/New_York:20220206T160000
DTSTAMP:20260425T225406
CREATED:20220126T210250Z
LAST-MODIFIED:20220131T175035Z
UID:10011118-1644148800-1644163200@goodmorningwilton.com
SUMMARY:Wilton Winter Carnival — Wilton Library
DESCRIPTION:Wilton Library staff will welcome visitors during this year’s Winter Carnival. \nFor this special event\, the library will open its doors one hour early\, at noon. Visitors of all ages are invited to warm up inside the library. \nLibrary staff will be handing out complimentary grab-and-go winter craft kits — two different versions\, for teens and children — one per person\, while supplies last. \nTweens and teens in grades 6-12 can stop by the teen services department to pick up a snowflake origami kit. Children in K-5 can visit the Children’s Library to receive a kit to create a snowman craft at home.
URL:https://goodmorningwilton.com/event/wilton-winter-carnival-wilton-library/
LOCATION:Wilton Library
CATEGORIES:Carnival,Community Celebration,Community Events,craft,Family Event,Free,Kids,Library,Open House,Teens
ATTACH;FMTTYPE=image/png:https://goodmorningwilton.com/wp-content/uploads/2022/01/Winter-Carnival.png
ORGANIZER;CN="Wilton Library":MAILTO:publicity@wiltonlibrary.org
END:VEVENT
BEGIN:VEVENT
DTSTART;TZID=America/New_York:20230205T120000
DTEND;TZID=America/New_York:20230205T160000
DTSTAMP:20260425T225406
CREATED:20230125T171738Z
LAST-MODIFIED:20230128T152920Z
UID:10010291-1675598400-1675612800@goodmorningwilton.com
SUMMARY:Winter Carnival Children’s Craft at Wilton Library
DESCRIPTION:Celebrate Wilton’s Winter Carnival! \nChildren ages 4 and up can stop by the Wilton Library Children’s Library to do a wintry craft and pick up a winter bookmark. No registration is necessary — just drop by while supplies last.
URL:https://goodmorningwilton.com/event/winter-carnival-childrens-craft-at-wilton-library/
LOCATION:Wilton Library\, 137 Old Ridgefield Rd.\, Wilton\, CT\, 06987
CATEGORIES:craft,Create!,Kids,Library
ATTACH;FMTTYPE=image/jpeg:https://goodmorningwilton.com/wp-content/uploads/2023/01/WINTERCARNIVALCRAFTS1_RESIZED_31EE1408.jpg
END:VEVENT
BEGIN:VEVENT
DTSTART;TZID=America/New_York:20230205T120000
DTEND;TZID=America/New_York:20230205T160000
DTSTAMP:20260425T225406
CREATED:20230110T223218Z
LAST-MODIFIED:20230110T223303Z
UID:10010180-1675598400-1675612800@goodmorningwilton.com
SUMMARY:Annual Wilton Winter Carnival
DESCRIPTION:Wilton Center will once again be transformed into a winter wonderland for the annual Winter Carnival! Hosted by the Wilton Chamber of Commerce and proudly sponsored by Fairfield County Bank\, the Winter Carnival will be held on Sunday\, Feb. 5 from 12-4 p.m. at the Town Green with other exciting festivities simultaneously taking place around Wilton Center. \nStart off the event with a whimsical horse-drawn wagon ride around the Town Center presented by Kimco Realty\, watch a live ice sculpting demonstration by the Gazebo and win prizes for our scavenger hunt by finding the beautiful ice sculptures throughout town! \nAdditional festivities will include a magic show performance by Tony the Jester\, a character meet-and-greet with your favorite “winter princess and snowman\,” and carnival performers engaging adults and young ones at the Town Green. A selection of food and beverage options will be available from local food trucks such as Bubble & Brew and Cousins Maine Lobster\, and activities to keep the kids busy will include face painting\, sand art\, crafts\, meeting mini ponies from Rising Starr Horse Rescue\, and so many more fun activities provided by our local organizations participating in the event. \nThere’s more! The Wilton Library will open its doors one hour early\, at noon. Visitors of all ages are invited to warm up inside where tweens and teens in grades 6-12 can stop by the Teen Department to learn how to make fun and easy decorative paper snowflakes\, while supplies last. Children in grades K-5 can visit the Children’s Library to create a wintery craft project and pick up a winter bookmark. Then make sure to head over to Schenck’s Island for some marshmallow roasting sponsored by the Wilton Rotary Club (children must be accompanied by an adult). \nNumerous festivities will be held throughout the Center and guests are highly encouraged to visit and shop at Wilton’s local retail stores during the afternoon and enjoy a bite or beverage at one of our fantastic restaurants as they stroll to each activity. This event is proudly presented by event sponsor Fairfield County Bank\, and supporting sponsors Kimco Realty\, The Village Market\, Riverbrook Regional YMCA\, Wilton Library Association\, Gregory and Adams\, and special participation by the Wilton Rotary Club. \nThe Chamber of Commerce presents events such as the Winter Carnival to highlight the community\, businesses and organizations that make Wilton such a special place! As guests enjoy the numerous activities that day\, please remember to “Shop\, Dine and Support” all our local businesses! For information on how to participate at the event as a vendor or sponsor\, contact Camille Carriero at 203.762.0567 or via email. This event is rain\, snow\, or shine\, so bundle up and come outside and enjoy!
URL:https://goodmorningwilton.com/event/annual-wilton-winter-carnival/
LOCATION:Wilton Center\, Old Ridgefield Road\, Wilton\, CT\, 06897\, United States
CATEGORIES:Carnival,Community Events,Family Event
ATTACH;FMTTYPE=image/png:https://goodmorningwilton.com/wp-content/uploads/2023/01/2023-Winter-Carnival-169.png
ORGANIZER;CN="Wilton Chamber of Commerce":MAILTO:info@wiltonchamber.com
END:VEVENT
BEGIN:VEVENT
DTSTART;TZID=America/New_York:20240204T120000
DTEND;TZID=America/New_York:20240204T160000
DTSTAMP:20260425T225406
CREATED:20240126T133805Z
LAST-MODIFIED:20240126T133805Z
UID:10014983-1707048000-1707062400@goodmorningwilton.com
SUMMARY:Wilton's Winter Carnival
DESCRIPTION:Get ready for a winter blast of fun as Wilton Center is transformed into a wonderland of activities for the Wilton Chamber of Commerce‘s annual Winter Carnival! Proudly sponsored by Fairfield County Bank\, the Winter Carnival will be held on Sunday\, Feb. 4 from 12-4 p.m. at the Town Green with other exciting festivities simultaneously taking place around Wilton Center. \nStart off the event with a whimsical horse-drawn wagon ride around the Town Center\, sponsored by Kimco Realty\, and watch a live ice sculpting demonstration by the Gazebo and win prizes for our scavenger hunt by finding the beautiful ice sculptures throughout town! \nAdditional festivities will include a magic show\, character meet-and-greet with your favorite “winter princess and snowman\,” and carnival performers engaging adults and young ones at the Town Green. Activities to keep the kids busy will include face painting\, sand art\, and crafts — all provided by our local organizations participating in the event. \nA selection of food and beverage options will be available from our local food trucks\, Bubble and Brew\, and Cousins Maine Lobster. \nMake sure to stop by the pocket park near the entrance to Schenck’s Island where the Rotary Club of Wilton will be providing a bonfire and s’mores for roasting that afternoon. Guests are also highly encouraged to visit and shop at Wilton’s local retail stores during the afternoon and enjoy a bite or beverage at one of Wilton’s fantastic restaurants while strolling to each activity. \nThis event is presented by event sponsor Fairfield County Bank\, and supporting sponsors Kimco Realty\, Riverbrook Regional YMCA\, The Village Market\, Wilton Library Association\, and Gregory and Adams\, and special participation by the Rotary Club of Wilton. \nThe Chamber of Commerce presents events such as the Winter Carnival to highlight the Wilton community and the businesses and organizations that make Wilton such a special place! As guests enjoy the numerous activities that day\, please remember to shop\, dine and support all our local businesses. For information on how to participate at the event as a vendor or sponsor\, contact Camille Carriero at 203.762.0567 or via email. \nThis event is rain\, snow\, or shine\, so bundle up and come outside and enjoy!
URL:https://goodmorningwilton.com/event/wiltons-winter-carnival/
LOCATION:Wilton Center\, Old Ridgefield Road\, Wilton\, CT\, 06897\, United States
CATEGORIES:Carnival,Community Celebration,Community Events,Family Event,Free,Kids,Library,Outdoor Event,Street Fair
ATTACH;FMTTYPE=image/png:https://goodmorningwilton.com/wp-content/uploads/2024/01/2024-Winter-Carnival-insta-1.png
ORGANIZER;CN="Wilton Chamber of Commerce":MAILTO:info@wiltonchamber.com
END:VEVENT
BEGIN:VEVENT
DTSTART;TZID=America/New_York:20250202T120000
DTEND;TZID=America/New_York:20250202T150000
DTSTAMP:20260425T225406
CREATED:20250120T205853Z
LAST-MODIFIED:20250120T205853Z
UID:10018795-1738497600-1738508400@goodmorningwilton.com
SUMMARY:Wilton Chamber of Commerce "Fire and Ice" Winter Carnival
DESCRIPTION:“Fire and Ice” will surely entice! The Wilton Chamber of Commerce together with event sponsor Fairfield County Bank proudly presents its annual Winter Carnival\, themed “Fire and Ice\,” on Sunday\, Feb. 2\, from 12-3 p.m.! The annual event takes a twist this year with a captivating fusion of opposites\, bringing together the warmth of fire and the chill of ice in a vibrant celebration for the Wilton community! \nGuests will be mesmerized at the Town Green by the ice sculpting and wood carving demonstrations allowing them to witness the transformation of raw materials into intricate works of art! Queen Frost and Wintery Snowman will be there to meet and greet with our young guests while fire dancers add a thrilling spectacle and fiery displays for our adults and teens! \nIce sculptures will be hidden around Wilton Center for a scavenger hunt and lucky winners will be presented with gift cards to local Wilton business! Wander further as the warmth of bonfires beckons\, inviting you to gather around for relief from the chill and a cozy ambiance for s’mores presented by the Wilton Rotary Club. \nFood trucks will offer hot and spicy\, and cool culinary delights while children are entertained by face painters and fun activities throughout the Town Green. \nJoin us for this lively celebration as we bring our community together to enjoy the festivities and support our local businesses. It’s the perfect opportunity to explore all that Wilton Center has to offer and help to strengthen the local economy and show your community pride! So\, gather your friends and family\, and come down to be a part of the fun while making a positive impact on the businesses that makes Wilton so special. We can’t wait to see you there! \nThis event is proudly presented by event sponsor\, Fairfield County Bank\, and in partnership with Gregory and Adams\, P.C. \, Kimco Realty\, Riverbrook Regional YMCA\, The Village Market\, Wilton Library and the Wilton Rotary Club. \nThis is a community event and all are welcome to join. Food and beverage are available for purchase. This is rain\, snow\, or shine event.
URL:https://goodmorningwilton.com/event/wilton-chamber-of-commerce-fire-and-ice-winter-carnival/
LOCATION:Wilton Center\, Old Ridgefield Road\, Wilton\, CT\, 06897\, United States
CATEGORIES:Carnival,Community Celebration,Community Events,Family Event,Food,Kids,Outdoor Event
ATTACH;FMTTYPE=image/png:https://goodmorningwilton.com/wp-content/uploads/2025/01/Winter-Carnival-Fire-and-Ice-GMW-ad-space-600-x-500-px.png
ORGANIZER;CN="Wilton Chamber of Commerce":MAILTO:info@wiltonchamber.com
END:VEVENT
BEGIN:VEVENT
DTSTART;TZID=America/New_York:20260201T120000
DTEND;TZID=America/New_York:20260201T150000
DTSTAMP:20260425T225406
CREATED:20260116T230909Z
LAST-MODIFIED:20260116T231005Z
UID:10021967-1769947200-1769958000@goodmorningwilton.com
SUMMARY:Wilton's Winter Carnival: "Fire and Ice"
DESCRIPTION:Mark your calendars for Sunday\, February 1st\, from 12-3 p.m.\, for the return of “Fire and Ice” Winter Carnival – proudly sponsored by Fairfield County Bank. This year’s event continues the annual tradition with a unique twist\, merging the warmth of fire and the chill of ice into a dazzling celebration for our community. \nPrepare to be wowed by mesmerizing ice sculpting and wood carving demonstrations on the Town Green. Watch as artists transform raw materials into exquisite masterpieces right before your eyes! \nEmbark on an exhilarating scavenger hunt around Wilton Center\, where finding hidden treasures could earn you gift cards to local businesses! As you explore\, let the inviting warmth of bonfires draw you in for s’mores and cozy conversations\, courtesy of the Wilton Rotary Club\, and satisfy your taste buds with an array of hot\, spicy\, and cool culinary delights from various food trucks. \nMeanwhile\, children will be entertained with face painting\, inflatable games\, character meet and greets\, and other fun activities sprinkled throughout the Town Green\, while the daring fire dancers ignite excitement for teens and adults with their thrilling performances. \nThis lively celebration is more than just a festival—it’s an opportunity to strengthen community ties\, support local businesses\, and showcase your Wilton pride. So\, rally your friends and family\, and join us for a day filled with fun\, excitement\, and community spirit while making a positive impact on the businesses that makes Wilton so special! \nFor vendors interested in participating in the event\, download application form here: WINTER CARNIVAL VENDOR FORM or contact Camille Carriero at info@wiltonchamber.com or call 203-762-0567. \nThis event is proudly presented by event sponsor\, Fairfield County Bank and in partnership with Gregory and Adams\, P.C. \, Riverbrook Regional YMCA\, Wilton Library\, and the Wilton Rotary Club. This event is rain\, snow\, or shine.
URL:https://goodmorningwilton.com/event/wiltons-winter-carnival-fire-and-ice/
LOCATION:Wilton Town Green\, 101 Ridgefield Road\, Wilton\, CT\, 06897\, United States
CATEGORIES:Carnival,Family Event,Festival,Free,Kids,Outdoor Event,Teens
ATTACH;FMTTYPE=image/png:https://goodmorningwilton.com/wp-content/uploads/2026/01/GMW-Winter-Carnival.png
ORGANIZER;CN="Wilton Chamber of Commerce":MAILTO:info@wiltonchamber.com
END:VEVENT
END:VCALENDAR